BEGIN:VCALENDAR
VERSION:2.0
PRODID:-//Miami Art Scene™ - ECPv6.15.20//NONSGML v1.0//EN
CALSCALE:GREGORIAN
METHOD:PUBLISH
X-ORIGINAL-URL:https://www.themiamiartscene.com
X-WR-CALDESC:Events for Miami Art Scene™
REFRESH-INTERVAL;VALUE=DURATION:PT1H
X-Robots-Tag:noindex
X-PUBLISHED-TTL:PT1H
BEGIN:VTIMEZONE
TZID:America/New_York
BEGIN:DAYLIGHT
TZOFFSETFROM:-0500
TZOFFSETTO:-0400
TZNAME:EDT
DTSTART:20240310T070000
END:DAYLIGHT
BEGIN:STANDARD
TZOFFSETFROM:-0400
TZOFFSETTO:-0500
TZNAME:EST
DTSTART:20241103T060000
END:STANDARD
BEGIN:DAYLIGHT
TZOFFSETFROM:-0500
TZOFFSETTO:-0400
TZNAME:EDT
DTSTART:20250309T070000
END:DAYLIGHT
BEGIN:STANDARD
TZOFFSETFROM:-0400
TZOFFSETTO:-0500
TZNAME:EST
DTSTART:20251102T060000
END:STANDARD
BEGIN:DAYLIGHT
TZOFFSETFROM:-0500
TZOFFSETTO:-0400
TZNAME:EDT
DTSTART:20260308T070000
END:DAYLIGHT
BEGIN:STANDARD
TZOFFSETFROM:-0400
TZOFFSETTO:-0500
TZNAME:EST
DTSTART:20261101T060000
END:STANDARD
END:VTIMEZONE
BEGIN:VEVENT
DTSTART;TZID=America/New_York:20251203T150000
DTEND;TZID=America/New_York:20251207T180000
DTSTAMP:20260424T111048
CREATED:20251027T024735Z
LAST-MODIFIED:20251104T162056Z
UID:25131-1764774000-1765130400@www.themiamiartscene.com
SUMMARY:Experience Miami Beach-based Abstract Artist Lauren Jane Clancy at Aqua Art Miami
DESCRIPTION:Wednesday\, December 3rd through Sunday\, December 7th art collectors and aficionados are invited to experience mixed-media abstract artist Lauren Jane Clancy‘s art showcase at Aqua Art Miami December 3-7\, 2025 in Suite #111 during Art Basel Miami Beach Week\, taking place at the Aqua Hotel. \nMiami Beach–based mixed-media abstract artist Lauren Jane Clancy creates from the intersection of pain and rebirth\, weaving deeply personal narratives of survival into textured\, luminous compositions. Her work embodies resilience\, spirituality\, and transformation — a visual dialogue between the sacred and the chaotic\, the broken and the reborn. The artist will be exhibiting at Aqua Art Miami December 3-7\, 2025 during Art Basel Miami Beach Week. The fair takes place at the Aqua Hotel showcasing fine artworks in the intimate exhibition rooms\, which open into the beautiful courtyard of the classic South Beach hotel. \n  \nVIP Preview:\nWednesday\, December 3 | 3pm-10pm \nPublic Hours:\nThursday\, December 4 | 12pm – 9pm\nFriday\, December 5 | 11am – 9pm\nSaturday\, December 6 | 11am – 9pm\nSunday\, December 7 | 11am – 6pm \n  \n\nIMAGE: Shattered Illusions (2024) Acrylic\, ink\, oil pastel\, resin powder\, newspaper\, mirror\, other mixed media\, 30×40 inches Shattered Illusions explores the fragility of love and perception\, weaving heartbreak\, the impact of a cancer diagnosis\, and the transformative power of truth. Inspired in part by a Sufi teaching\, “shatter your illusions upon the rock of truth” the work’s broken mirrors and fragmented forms embody the collapse of illusion and the renewal that follows.
URL:https://www.themiamiartscene.com/event/experience-miami-beach-based-abstract-artist-lauren-jane-clancy-at-aqua-art-miami/
LOCATION:Aqua Hotel\, 1530 Collins Avenue\, Miami Beach\, FL\, 33139\, United States
ATTACH;FMTTYPE=image/jpeg:https://www.themiamiartscene.com/wp-content/uploads/2025/10/IMG_5709-1.jpeg
END:VEVENT
END:VCALENDAR