BEGIN:VCALENDAR
VERSION:2.0
PRODID:-//Miami Art Scene™ - ECPv6.15.20//NONSGML v1.0//EN
CALSCALE:GREGORIAN
METHOD:PUBLISH
X-ORIGINAL-URL:https://www.themiamiartscene.com
X-WR-CALDESC:Events for Miami Art Scene™
REFRESH-INTERVAL;VALUE=DURATION:PT1H
X-Robots-Tag:noindex
X-PUBLISHED-TTL:PT1H
BEGIN:VTIMEZONE
TZID:America/New_York
BEGIN:DAYLIGHT
TZOFFSETFROM:-0500
TZOFFSETTO:-0400
TZNAME:EDT
DTSTART:20240310T070000
END:DAYLIGHT
BEGIN:STANDARD
TZOFFSETFROM:-0400
TZOFFSETTO:-0500
TZNAME:EST
DTSTART:20241103T060000
END:STANDARD
BEGIN:DAYLIGHT
TZOFFSETFROM:-0500
TZOFFSETTO:-0400
TZNAME:EDT
DTSTART:20250309T070000
END:DAYLIGHT
BEGIN:STANDARD
TZOFFSETFROM:-0400
TZOFFSETTO:-0500
TZNAME:EST
DTSTART:20251102T060000
END:STANDARD
BEGIN:DAYLIGHT
TZOFFSETFROM:-0500
TZOFFSETTO:-0400
TZNAME:EDT
DTSTART:20260308T070000
END:DAYLIGHT
BEGIN:STANDARD
TZOFFSETFROM:-0400
TZOFFSETTO:-0500
TZNAME:EST
DTSTART:20261101T060000
END:STANDARD
END:VTIMEZONE
BEGIN:VEVENT
DTSTART;TZID=America/New_York:20250315T093000
DTEND;TZID=America/New_York:20250315T103000
DTSTAMP:20260425T190727
CREATED:20250303T014137Z
LAST-MODIFIED:20250303T014137Z
UID:23274-1742031000-1742034600@www.themiamiartscene.com
SUMMARY:NSU Art Museum Sensory Saturdays: March
DESCRIPTION:Saturday\, March 15th from 9:30 – 10:30am enjoy Sensory Saturdays: Free New Sensory-Friendly Programs at NSU Art Museum. NSU Art Museum Fort Lauderdale has launched Sensory Saturdays\, a new sensory-friendly program FREE for children on the Autism Spectrum ages 6-17 and their families\, before regular museum hours for a sensory-friendly environment and exclusive free museum access. Enjoy making art in workspaces and wandering through galleries that have been adjusted for low lighting and reduced sound. Sensory-friendly materials will be available for all visiting children on the spectrum\, including noise-canceling headphones\, weighted lap pads\, soft seating\, sensory-friendly art materials and a special gift for each child. \nSensory Saturdays are held on the second Saturday of each month through March 2025. Registration opens one month prior to each date. Admission to Sensory Saturdays is FREE with a required RSVP. Space is limited.
URL:https://www.themiamiartscene.com/event/nsu-art-museum-sensory-saturdays-march/
LOCATION:NSU Art Museum\, One East Las Olas Boulevard\, Fort Lauderdale\, FL\, 33301\, United States
ATTACH;FMTTYPE=image/jpeg:https://www.themiamiartscene.com/wp-content/uploads/2024/10/NSU-Art-Museum_Sensory-Saturday-Event-Image.jpg
END:VEVENT
END:VCALENDAR