BEGIN:VCALENDAR
VERSION:2.0
PRODID:-//Miami Art Scene™ - ECPv6.15.20//NONSGML v1.0//EN
CALSCALE:GREGORIAN
METHOD:PUBLISH
X-WR-CALNAME:Miami Art Scene™
X-ORIGINAL-URL:https://www.themiamiartscene.com
X-WR-CALDESC:Events for Miami Art Scene™
REFRESH-INTERVAL;VALUE=DURATION:PT1H
X-Robots-Tag:noindex
X-PUBLISHED-TTL:PT1H
BEGIN:VTIMEZONE
TZID:America/New_York
BEGIN:DAYLIGHT
TZOFFSETFROM:-0500
TZOFFSETTO:-0400
TZNAME:EDT
DTSTART:20230312T070000
END:DAYLIGHT
BEGIN:STANDARD
TZOFFSETFROM:-0400
TZOFFSETTO:-0500
TZNAME:EST
DTSTART:20231105T060000
END:STANDARD
BEGIN:DAYLIGHT
TZOFFSETFROM:-0500
TZOFFSETTO:-0400
TZNAME:EDT
DTSTART:20240310T070000
END:DAYLIGHT
BEGIN:STANDARD
TZOFFSETFROM:-0400
TZOFFSETTO:-0500
TZNAME:EST
DTSTART:20241103T060000
END:STANDARD
BEGIN:DAYLIGHT
TZOFFSETFROM:-0500
TZOFFSETTO:-0400
TZNAME:EDT
DTSTART:20250309T070000
END:DAYLIGHT
BEGIN:STANDARD
TZOFFSETFROM:-0400
TZOFFSETTO:-0500
TZNAME:EST
DTSTART:20251102T060000
END:STANDARD
END:VTIMEZONE
BEGIN:VEVENT
DTSTART;TZID=America/New_York:20240803T100000
DTEND;TZID=America/New_York:20240803T120000
DTSTAMP:20260425T182144
CREATED:20240801T160836Z
LAST-MODIFIED:20240801T161119Z
UID:21855-1722679200-1722686400@www.themiamiartscene.com
SUMMARY:The Legend Project presents Art in the Park for Children with Autism
DESCRIPTION:Saturday\, August 3rd from 10am – 12pm The Legend Project will be hosting a paint & plant event for children with autism at T.Y. (Topeekeegee Yugnee) Park in Hollywood\, Florida. Children will receive a planter to paint\, soil & seed. RSVP / PURCHASE TICKETS HERE. \n 
URL:https://www.themiamiartscene.com/event/the-legend-project-presents-art-in-the-park-for-children-with-autism/
LOCATION:T.Y. Park\, 3300 North Park Road\, Hollywood\, FL\, 33021\, United States
ATTACH;FMTTYPE=image/jpeg:https://www.themiamiartscene.com/wp-content/uploads/2024/08/art-in-the-park.jpeg
END:VEVENT
BEGIN:VEVENT
DTSTART;TZID=America/New_York:20240803T103000
DTEND;TZID=America/New_York:20240803T123000
DTSTAMP:20260425T182144
CREATED:20240729T233203Z
LAST-MODIFIED:20240729T233203Z
UID:21819-1722681000-1722688200@www.themiamiartscene.com
SUMMARY:The Official Art Deco Walking Tour by The Miami Design Preservation
DESCRIPTION:Saturday\, August 3rd from 10:30am – 12:30pm experience the Official Art Deco District Walking Tour presented by the Miami Design Preservation League. This 1.5 to 2-hour walking tour provides an introduction to the Art Deco\, Mediterranean Revival\, and Miami Modern (MiMo) styles found within the Miami Beach Architectural Historic District. Explore hotels\, restaurants\, and other commercial structures with a visit to a number of interiors. Choose from select dates / PURCHASE TICKETS HERE. \nTour ticket includes free entry to the Art Deco Museum as well as 10% off at the Gift Shop.
URL:https://www.themiamiartscene.com/event/the-official-art-deco-walking-tour-by-the-miami-design-preservation-169/
LOCATION:Art Deco Welcome Center\, 1001 Ocean Drive\, Miami Beach\, FL\, 33139\, United States
ATTACH;FMTTYPE=image/jpeg:https://www.themiamiartscene.com/wp-content/uploads/2024/06/art-deco_marlin-hotel_miami-beach.jpeg
END:VEVENT
BEGIN:VEVENT
DTSTART;TZID=America/New_York:20240803T110000
DTEND;TZID=America/New_York:20240804T170000
DTSTAMP:20260425T182144
CREATED:20240715T231457Z
LAST-MODIFIED:20240715T231457Z
UID:21703-1722682800-1722790800@www.themiamiartscene.com
SUMMARY:NSU Art Museum presents ‘Museums On Us’
DESCRIPTION:Saturday\, August 3rd (11am – 5pm) and Sunday\, August 4th (12pm – 5pm) NSU Art Museum Fort Lauderdale presents Bank of America Museums on Us. Bank of America\, Merrill Lynch and U.S. Trust credit and debit cardholders receive free access to over 200 institutions. Cardholders will receive free admission on the first full weekend of each month. Cardholders need only present their card and a photo ID to gain a free general admission. The promotion doesn’t include access to special exhibits\, ticketed shows\, or fundraising events. \n\nComplimentary Admission for Card Holders and Employees. \nCOST: FREE to Bank of America\, Merrill Lynch and U.S. Trust credit and debit cardholders. Free admission applies to the cardholder only\, not to any additional guests.
URL:https://www.themiamiartscene.com/event/nsu-art-museum-presents-museums-on-us-12/
LOCATION:NSU Art Museum\, One East Las Olas Boulevard\, Fort Lauderdale\, FL\, 33301\, United States
ATTACH;FMTTYPE=image/jpeg:https://www.themiamiartscene.com/wp-content/uploads/2021/05/NSU-Art-Museum_Bank-of-America_Museums-on-Us-e1622034510899.jpg
END:VEVENT
END:VCALENDAR