BEGIN:VCALENDAR
VERSION:2.0
PRODID:-//Miami Art Scene™ - ECPv6.15.20//NONSGML v1.0//EN
CALSCALE:GREGORIAN
METHOD:PUBLISH
X-ORIGINAL-URL:https://www.themiamiartscene.com
X-WR-CALDESC:Events for Miami Art Scene™
REFRESH-INTERVAL;VALUE=DURATION:PT1H
X-Robots-Tag:noindex
X-PUBLISHED-TTL:PT1H
BEGIN:VTIMEZONE
TZID:America/New_York
BEGIN:DAYLIGHT
TZOFFSETFROM:-0500
TZOFFSETTO:-0400
TZNAME:EDT
DTSTART:20230312T070000
END:DAYLIGHT
BEGIN:STANDARD
TZOFFSETFROM:-0400
TZOFFSETTO:-0500
TZNAME:EST
DTSTART:20231105T060000
END:STANDARD
BEGIN:DAYLIGHT
TZOFFSETFROM:-0500
TZOFFSETTO:-0400
TZNAME:EDT
DTSTART:20240310T070000
END:DAYLIGHT
BEGIN:STANDARD
TZOFFSETFROM:-0400
TZOFFSETTO:-0500
TZNAME:EST
DTSTART:20241103T060000
END:STANDARD
BEGIN:DAYLIGHT
TZOFFSETFROM:-0500
TZOFFSETTO:-0400
TZNAME:EDT
DTSTART:20250309T070000
END:DAYLIGHT
BEGIN:STANDARD
TZOFFSETFROM:-0400
TZOFFSETTO:-0500
TZNAME:EST
DTSTART:20251102T060000
END:STANDARD
END:VTIMEZONE
BEGIN:VEVENT
DTSTART;TZID=America/New_York:20240805T103000
DTEND;TZID=America/New_York:20240805T123000
DTSTAMP:20260425T182341
CREATED:20240729T233438Z
LAST-MODIFIED:20240729T233438Z
UID:21823-1722853800-1722861000@www.themiamiartscene.com
SUMMARY:The Official Art Deco Walking Tour by The Miami Design Preservation
DESCRIPTION:Monday\, August 5th from 10:30am – 12:30pm experience the Official Art Deco District Walking Tour presented by the Miami Design Preservation League. This 1.5 to 2-hour walking tour provides an introduction to the Art Deco\, Mediterranean Revival\, and Miami Modern (MiMo) styles found within the Miami Beach Architectural Historic District. Explore hotels\, restaurants\, and other commercial structures with a visit to a number of interiors. Choose from select dates / PURCHASE TICKETS HERE. \nTour ticket includes free entry to the Art Deco Museum as well as 10% off at the Gift Shop.
URL:https://www.themiamiartscene.com/event/the-official-art-deco-walking-tour-by-the-miami-design-preservation-171/
LOCATION:Art Deco Welcome Center\, 1001 Ocean Drive\, Miami Beach\, FL\, 33139\, United States
ATTACH;FMTTYPE=image/jpeg:https://www.themiamiartscene.com/wp-content/uploads/2024/06/art-deco-miami-beach-leslie.jpeg
END:VEVENT
BEGIN:VEVENT
DTSTART;TZID=America/New_York:20240805T170000
DTEND;TZID=America/New_York:20240805T190000
DTSTAMP:20260425T182341
CREATED:20240715T210943Z
LAST-MODIFIED:20240715T210943Z
UID:21696-1722877200-1722884400@www.themiamiartscene.com
SUMMARY:Noche De Arte: Daniel Medina
DESCRIPTION:Monday\, August 5th from 5 – 7pm enjoy Noche De Arte at InterContinental Miami and be inspired by resident artist Daniel Medina\, whose artwork will be on view in the Gallery Lounge. Enjoy art making\, tap into your creative flow with postcard collage materials to engage in a little Creative Play. \nAnd when hunger strikes\, indulge in delicious light bites from Toro Toro to keep you fueled throughout the evening. Monday nights mean more at the InterContinental Miami with Noche de Arte. \nHosted every Monday from 5 PM to 7 PM\, Noche de Arte is a weekly arts activation and exhibition that breaks down barriers between artist and viewer and creates opportunities for conversation and community\, offering visitors an expansive introduction to our Miami’s diverse array of artistry.
URL:https://www.themiamiartscene.com/event/noche-de-arte-daniel-medina/
LOCATION:InterContinental Miami\, 100 Chopin Plaza\, Miami\, FL\, 33131\, United States
ATTACH;FMTTYPE=image/jpeg:https://www.themiamiartscene.com/wp-content/uploads/2024/07/intercontinental-miami_noche-de-arte.jpeg
END:VEVENT
END:VCALENDAR