BEGIN:VCALENDAR
VERSION:2.0
PRODID:-//Miami Art Scene™ - ECPv6.15.20//NONSGML v1.0//EN
CALSCALE:GREGORIAN
METHOD:PUBLISH
X-ORIGINAL-URL:https://www.themiamiartscene.com
X-WR-CALDESC:Events for Miami Art Scene™
REFRESH-INTERVAL;VALUE=DURATION:PT1H
X-Robots-Tag:noindex
X-PUBLISHED-TTL:PT1H
BEGIN:VTIMEZONE
TZID:America/New_York
BEGIN:DAYLIGHT
TZOFFSETFROM:-0500
TZOFFSETTO:-0400
TZNAME:EDT
DTSTART:20230312T070000
END:DAYLIGHT
BEGIN:STANDARD
TZOFFSETFROM:-0400
TZOFFSETTO:-0500
TZNAME:EST
DTSTART:20231105T060000
END:STANDARD
BEGIN:DAYLIGHT
TZOFFSETFROM:-0500
TZOFFSETTO:-0400
TZNAME:EDT
DTSTART:20240310T070000
END:DAYLIGHT
BEGIN:STANDARD
TZOFFSETFROM:-0400
TZOFFSETTO:-0500
TZNAME:EST
DTSTART:20241103T060000
END:STANDARD
BEGIN:DAYLIGHT
TZOFFSETFROM:-0500
TZOFFSETTO:-0400
TZNAME:EDT
DTSTART:20250309T070000
END:DAYLIGHT
BEGIN:STANDARD
TZOFFSETFROM:-0400
TZOFFSETTO:-0500
TZNAME:EST
DTSTART:20251102T060000
END:STANDARD
END:VTIMEZONE
BEGIN:VEVENT
DTSTART;TZID=America/New_York:20240904T110000
DTEND;TZID=America/New_York:20240908T170000
DTSTAMP:20260426T001546
CREATED:20240823T185709Z
LAST-MODIFIED:20240823T191553Z
UID:22056-1725447600-1725814800@www.themiamiartscene.com
SUMMARY:Renowned Glass Artist Abby Modell Solo Exhibition at Collectible NY Design Fair
DESCRIPTION:Thursday\, September 5th through Sunday\, September 8th fine art collectors and design aficionados are invited to experience contemporary glass artist Abby Modell‘s solo exhibition at Collectible NY\, taking place at Water Street Projects in Manhattan’s Financial District with a VIP preview on Wednesday\, September 4th\, 2024. \nThis spectacular showcase at Collectible NY Design Fair features Modell’s new Galaxy Collection\, embodying the movement and luminosity of the universe. Focusing on imaginary Celestial Waterfalls and Cosmic Butterflies\, one-of-a-kind\, hand-blown and flat glass work featuring three-dimensional wall art\, large sculptural objects and LED lighting. Exploring contemporary glass techniques and forms\, this exciting collection features Modell’s specialty – hand applied glass assemblages. \nFor further information: www.abbymodell.com\nFollow Abby Modell on Instagram @AbbyModell \nFAIR DAYS\nSeptember 5—8\, 2024 \nThursday\, September 5th | 11am – 6pm \nFriday\, September 6th | 11am – 6pm \nSaturday\, September 7th |11am – 6pm \nSunday\, September 8th | 11am – 5pm \nPress & VIP Preview: September 4th | 11am – 5pm (by invitation only)\nVernissage: September 4th | 5pm – 8pm (by invitation only)
URL:https://www.themiamiartscene.com/event/renowned-glass-artist-abby-modell-solo-exhibition-at-collectible-ny-design-fair/
LOCATION:Collectible NY\, 161 Water Street\, New York\, NY\, 10038\, United States
ATTACH;FMTTYPE=image/jpeg:https://www.themiamiartscene.com/wp-content/uploads/2024/08/Abby-Modell-Collectible.jpeg
END:VEVENT
BEGIN:VEVENT
DTSTART;TZID=America/New_York:20240906T103000
DTEND;TZID=America/New_York:20240906T123000
DTSTAMP:20260426T001546
CREATED:20240829T222807Z
LAST-MODIFIED:20240829T222807Z
UID:22100-1725618600-1725625800@www.themiamiartscene.com
SUMMARY:The Official Art Deco Walking Tour by The Miami Design Preservation
DESCRIPTION:Friday\, September 6th from 10:30am – 12:30pm experience the Official Art Deco District Walking Tour presented by the Miami Design Preservation League. This 1.5 to 2-hour walking tour provides an introduction to the Art Deco\, Mediterranean Revival\, and Miami Modern (MiMo) styles found within the Miami Beach Architectural Historic District. Explore hotels\, restaurants\, and other commercial structures with a visit to a number of interiors. Choose from select dates / PURCHASE TICKETS HERE. \nTour ticket includes free entry to the Art Deco Museum as well as 10% off at the Gift Shop.
URL:https://www.themiamiartscene.com/event/the-official-art-deco-walking-tour-by-the-miami-design-preservation-203/
LOCATION:Art Deco Welcome Center\, 1001 Ocean Drive\, Miami Beach\, FL\, 33139\, United States
END:VEVENT
BEGIN:VEVENT
DTSTART;TZID=America/New_York:20240906T180000
DTEND;TZID=America/New_York:20240906T210000
DTSTAMP:20260426T001546
CREATED:20240828T215241Z
LAST-MODIFIED:20240829T205829Z
UID:22078-1725645600-1725656400@www.themiamiartscene.com
SUMMARY:Cornell Art Museum presents Nature's Palette: Art inspired by the Earth
DESCRIPTION:Friday\, September 6th from 6 – 9pm art lovers & art-goers are cordially invited to enjoy the Opening Reception of Nature’s Palette: Art inspired by the Earth at Cornell Art Museum in Delray Beach. Guests will experience the opening of this outstanding group show\, along with refreshments and light bites. This exhibition is on view from September 6\, 2024 through February 2\, 2025. \nNature’s Palette features innovative transportive installations from regional artists showcasing various mediums\, including 2D paintings\, 3D sculpture\, glass works\, and more. The exhibition hosts 42 regional artists showcasing over 70 works of art – with special features from notable artists curated by the Delray Beach DDA’s Cultural Arts Director\, Marusca Gatto. \n“The exhibition includes captivating creative expressions that draw inspiration from the beauty of the natural world\,” said Gatto. “In this exploration\, artists dive into various techniques to uncover the profound impact art has on our connection with nature. It will showcase the vibrant world surrounding us with a nod to environmental concerns. \n  \nArtists involved in the Nature’s Palette Exhibition: \nDiane Arrieta\, Doreen Mcgunagle\, Eli Cecil\, Ernesto Kunde\, Ilene Gruber Adams\, Isabel Gouveia\, James Knill\, Jason Martinez\, Jill Hotchkiss\, Jo Ann Nava\, Judy Gaggero\, Karen Ray\, Lara Chapman\, Lisa Littell\, Mark Fletcher\, Marleen DeWaele\, Amanda Johnson\, Amarelle Kukici\, Amy Gross\, Ana Tomayo\, Andrea Facusse\, Andrew Hollimon\, Anthony Burks Sr.\, Astrid Mora\, Autumn Kioti\, Bonnie Levinson\, Brenda Gordon\, Carin Wagner\, Chad Steve\, Cheryl Maeder\, Connie Hanselman\, Diana Bursztein\, Milena Arango\, Monica Fernsell\, Nicole Galluccio\, Pamela Lambie\, Patsy Canning\, Ralph Papa\, Renata Rodriguez\, Rose Gong Monier\, Scott Klimek\, Sharon Koskoff\, Susan Berkowicz\, Tiffany Beasi\, William Combes. \n  \nImage: Artist Diane Arrieta | Concrete Chiefs and Starlight Dreams
URL:https://www.themiamiartscene.com/event/cornell-art-museum-presents-natures-palette-art-inspired-by-the-earth/
LOCATION:Cornell Art Museum\, 51 N. Swinton Avenue\, Delray Beach\, FL\, 33444\, United States
ATTACH;FMTTYPE=image/jpeg:https://www.themiamiartscene.com/wp-content/uploads/2024/08/diane-arrieta_cornell-art-museum.jpeg
END:VEVENT
END:VCALENDAR