BEGIN:VCALENDAR
VERSION:2.0
PRODID:-//Miami Art Scene™ - ECPv6.15.20//NONSGML v1.0//EN
CALSCALE:GREGORIAN
METHOD:PUBLISH
X-ORIGINAL-URL:https://www.themiamiartscene.com
X-WR-CALDESC:Events for Miami Art Scene™
REFRESH-INTERVAL;VALUE=DURATION:PT1H
X-Robots-Tag:noindex
X-PUBLISHED-TTL:PT1H
BEGIN:VTIMEZONE
TZID:America/New_York
BEGIN:DAYLIGHT
TZOFFSETFROM:-0500
TZOFFSETTO:-0400
TZNAME:EDT
DTSTART:20240310T070000
END:DAYLIGHT
BEGIN:STANDARD
TZOFFSETFROM:-0400
TZOFFSETTO:-0500
TZNAME:EST
DTSTART:20241103T060000
END:STANDARD
BEGIN:DAYLIGHT
TZOFFSETFROM:-0500
TZOFFSETTO:-0400
TZNAME:EDT
DTSTART:20250309T070000
END:DAYLIGHT
BEGIN:STANDARD
TZOFFSETFROM:-0400
TZOFFSETTO:-0500
TZNAME:EST
DTSTART:20251102T060000
END:STANDARD
BEGIN:DAYLIGHT
TZOFFSETFROM:-0500
TZOFFSETTO:-0400
TZNAME:EDT
DTSTART:20260308T070000
END:DAYLIGHT
BEGIN:STANDARD
TZOFFSETFROM:-0400
TZOFFSETTO:-0500
TZNAME:EST
DTSTART:20261101T060000
END:STANDARD
END:VTIMEZONE
BEGIN:VEVENT
DTSTART;TZID=America/New_York:20250207T103000
DTEND;TZID=America/New_York:20250207T123000
DTSTAMP:20260424T214820
CREATED:20250202T202021Z
LAST-MODIFIED:20250202T202021Z
UID:23058-1738924200-1738931400@www.themiamiartscene.com
SUMMARY:The Official Art Deco Walking Tour by The Miami Design Preservation League
DESCRIPTION:Friday\, February 7th from 10:30am – 12:30pm experience the Official Art Deco District Walking Tour presented by the Miami Design Preservation League. This 1.5 to 2-hour walking tour provides an introduction to the Art Deco\, Mediterranean Revival\, and Miami Modern (MiMo) styles found within the Miami Beach Architectural Historic District. Explore hotels\, restaurants\, and other commercial structures with a visit to a number of interiors. Choose from select dates / PURCHASE TICKETS HERE. \nTour ticket includes free entry to the Art Deco Museum as well as 10% off at the Gift Shop.
URL:https://www.themiamiartscene.com/event/the-official-art-deco-walking-tour-by-the-miami-design-preservation-league-530/
LOCATION:Art Deco Welcome Center\, 1001 Ocean Drive\, Miami Beach\, FL\, 33139\, United States
ATTACH;FMTTYPE=image/jpeg:https://www.themiamiartscene.com/wp-content/uploads/2023/06/art-deco-walking-tour-2023.jpg
END:VEVENT
BEGIN:VEVENT
DTSTART;TZID=America/New_York:20250207T183000
DTEND;TZID=America/New_York:20250207T210000
DTSTAMP:20260424T214820
CREATED:20250129T020402Z
LAST-MODIFIED:20250129T020402Z
UID:23020-1738953000-1738962000@www.themiamiartscene.com
SUMMARY:The Contemporary Art Modern Project (CAMP Gallery) kicks off February with three new exhibitions
DESCRIPTION:Friday\, February 7th from 6:30 – 9pm kick off February with three dynamic\, new exhibitions\, all running from February 7–28 at the Contemporary Art Modern Project (CAMP Gallery). Enjoy the evening exploring time and reality\, and presence from five distinct perspectives. \nIn Gallery A\, Liz Leggett and James Akers team up for Light Speed\, exploring how time and space shape the act of creation. Leggett’s fast\, instinctive paintings and Akers’ patient\, methodical sculptures invite us to see how art unfolds at different paces—sometimes in a flash\, other times slowly and steadily. Curated by Nicole Zambrano. \nIn Gallery B\, On The Other Side features Khotan Fernandez and Seth Ellison\, who take us to alternate dimensions where the familiar becomes strange. Their work twists and reshapes everyday landscapes\, inviting us to rethink how we experience space and perception\, while offering a glimpse into worlds beyond the ordinary. Curated by Gabriel Torres. \nIn the gallery’s new incubator space\, Thomas Donaldson‘s solo exhibition\, (In)corporeal\, challenges how we perceive the human body. With subtle distortions and intimate interactions with the space\, Donaldson draws us into a conversation about presence and absence\, pushing us to reconsider what it means to be physically here but emotionally distant. Curated by Sofia Witos.
URL:https://www.themiamiartscene.com/event/the-contemporary-art-modern-project-camp-gallery-kicks-off-february-with-three-new-exhibitions/
LOCATION:The Contemporary Art Modern Project (The CAMP Gallery)\, 791-793 NE 125th Street\, North Miami\, FL\, 33161\, United States
ATTACH;FMTTYPE=image/jpeg:https://www.themiamiartscene.com/wp-content/uploads/2025/01/camp-gallery_on-the-other-side_light-speed.jpeg
END:VEVENT
END:VCALENDAR