BEGIN:VCALENDAR
VERSION:2.0
PRODID:-//Miami Art Scene™ - ECPv6.15.20//NONSGML v1.0//EN
CALSCALE:GREGORIAN
METHOD:PUBLISH
X-WR-CALNAME:Miami Art Scene™
X-ORIGINAL-URL:https://www.themiamiartscene.com
X-WR-CALDESC:Events for Miami Art Scene™
REFRESH-INTERVAL;VALUE=DURATION:PT1H
X-Robots-Tag:noindex
X-PUBLISHED-TTL:PT1H
BEGIN:VTIMEZONE
TZID:America/New_York
BEGIN:DAYLIGHT
TZOFFSETFROM:-0500
TZOFFSETTO:-0400
TZNAME:EDT
DTSTART:20240310T070000
END:DAYLIGHT
BEGIN:STANDARD
TZOFFSETFROM:-0400
TZOFFSETTO:-0500
TZNAME:EST
DTSTART:20241103T060000
END:STANDARD
BEGIN:DAYLIGHT
TZOFFSETFROM:-0500
TZOFFSETTO:-0400
TZNAME:EDT
DTSTART:20250309T070000
END:DAYLIGHT
BEGIN:STANDARD
TZOFFSETFROM:-0400
TZOFFSETTO:-0500
TZNAME:EST
DTSTART:20251102T060000
END:STANDARD
BEGIN:DAYLIGHT
TZOFFSETFROM:-0500
TZOFFSETTO:-0400
TZNAME:EDT
DTSTART:20260308T070000
END:DAYLIGHT
BEGIN:STANDARD
TZOFFSETFROM:-0400
TZOFFSETTO:-0500
TZNAME:EST
DTSTART:20261101T060000
END:STANDARD
END:VTIMEZONE
BEGIN:VEVENT
DTSTART;TZID=America/New_York:20250220T103000
DTEND;TZID=America/New_York:20250220T123000
DTSTAMP:20260424T214659
CREATED:20250202T204631Z
LAST-MODIFIED:20250202T204631Z
UID:23084-1740047400-1740054600@www.themiamiartscene.com
SUMMARY:The Official Art Deco Walking Tour by The Miami Design Preservation League
DESCRIPTION:Thursday\, February 20th from 10:30am – 12:30pm experience the Official Art Deco District Walking Tour presented by the Miami Design Preservation League. This 1.5 to 2-hour walking tour provides an introduction to the Art Deco\, Mediterranean Revival\, and Miami Modern (MiMo) styles found within the Miami Beach Architectural Historic District. Explore hotels\, restaurants\, and other commercial structures with a visit to a number of interiors. Choose from select dates / PURCHASE TICKETS HERE. \nTour ticket includes free entry to the Art Deco Museum as well as 10% off at the Gift Shop.
URL:https://www.themiamiartscene.com/event/the-official-art-deco-walking-tour-by-the-miami-design-preservation-league-543/
LOCATION:Art Deco Welcome Center\, 1001 Ocean Drive\, Miami Beach\, FL\, 33139\, United States
ATTACH;FMTTYPE=image/jpeg:https://www.themiamiartscene.com/wp-content/uploads/2023/01/art-deco-walking-tour-2023.jpg
END:VEVENT
BEGIN:VEVENT
DTSTART;TZID=America/New_York:20250220T180000
DTEND;TZID=America/New_York:20250220T210000
DTSTAMP:20260424T214659
CREATED:20250202T223922Z
LAST-MODIFIED:20250202T223922Z
UID:23102-1740074400-1740085200@www.themiamiartscene.com
SUMMARY:The Bass Third Thursdays: Late Nights Live
DESCRIPTION:Thursday\, February 20th from 6 – 9pm The Bass presents Third Thursdays: Late Nights Live. Guests will enjoy a performance by Hued Songs. \n6 PM Doors open\n7 PM Performance (40 min) \nBuilding belonging\, empathy\, and community for all\, Hued Songs weaves and performs a tapestry of song and spoken word at The Bass by an all-women cast\, centering female resistance\, freedom and liberation of self. \nABOUT HUED SONGS\nHued Songs produces experiences that amplify black joy\, black creativity\, and black belonging/ Through song\, spoken word\, dance\, and heart\, our work is rooted across three core principles: 1) To provide a platform on which black and brown artists can be seen\, heard\, and paid. 2) The arts are a right and not a privilege\, thus we work to remove cost\, geography\, and perception barriers to every performance. 3) Every performance is an opportunity to build belonging\, empathy\, and community for all. \n 
URL:https://www.themiamiartscene.com/event/the-bass-third-thursdays-late-nights-live/
LOCATION:The Bass\, 2100 Collins Avenue\, Miami Beach\, FL\, 33139\, United States
ATTACH;FMTTYPE=image/jpeg:https://www.themiamiartscene.com/wp-content/uploads/2025/02/bass-third-thursdays-2025.jpeg
END:VEVENT
BEGIN:VEVENT
DTSTART;TZID=America/New_York:20250220T190000
DTEND;TZID=America/New_York:20250220T200000
DTSTAMP:20260424T214659
CREATED:20250214T181423Z
LAST-MODIFIED:20250214T181423Z
UID:23180-1740078000-1740081600@www.themiamiartscene.com
SUMMARY:Avant Gallery presents 'Guess who's coming for dinner?'
DESCRIPTION:Thursday\, February 20th from 7 – 8pm art lovers and art history buffs are cordially invited to Avant Gallery on Lincoln Road for an Art Talk\, Guess who’s coming for dinner?\, an extraordinary journey through Art History with renowned art speaker Sebastien Laboureau. This Event is FREE & Open to the Public / RSVP HERE. \nThis exclusive art talk will take you to an extraordinary journey through art history where you will discover the works of Andy Warhol and Leonardo da Vinci under a new light!
URL:https://www.themiamiartscene.com/event/avant-gallery-presents-guess-whos-coming-for-dinner/
LOCATION:Avant Gallery\, 1111 Lincoln Road\, Miami Beach\, FL\, 33139\, United States
ATTACH;FMTTYPE=image/jpeg:https://www.themiamiartscene.com/wp-content/uploads/2025/02/avant-gallery_art-talk_guess-whose-coming-to-dinner.jpeg
END:VEVENT
END:VCALENDAR