BEGIN:VCALENDAR
VERSION:2.0
PRODID:-//Miami Art Scene™ - ECPv6.15.20//NONSGML v1.0//EN
CALSCALE:GREGORIAN
METHOD:PUBLISH
X-ORIGINAL-URL:https://www.themiamiartscene.com
X-WR-CALDESC:Events for Miami Art Scene™
REFRESH-INTERVAL;VALUE=DURATION:PT1H
X-Robots-Tag:noindex
X-PUBLISHED-TTL:PT1H
BEGIN:VTIMEZONE
TZID:America/New_York
BEGIN:DAYLIGHT
TZOFFSETFROM:-0500
TZOFFSETTO:-0400
TZNAME:EDT
DTSTART:20240310T070000
END:DAYLIGHT
BEGIN:STANDARD
TZOFFSETFROM:-0400
TZOFFSETTO:-0500
TZNAME:EST
DTSTART:20241103T060000
END:STANDARD
BEGIN:DAYLIGHT
TZOFFSETFROM:-0500
TZOFFSETTO:-0400
TZNAME:EDT
DTSTART:20250309T070000
END:DAYLIGHT
BEGIN:STANDARD
TZOFFSETFROM:-0400
TZOFFSETTO:-0500
TZNAME:EST
DTSTART:20251102T060000
END:STANDARD
BEGIN:DAYLIGHT
TZOFFSETFROM:-0500
TZOFFSETTO:-0400
TZNAME:EDT
DTSTART:20260308T070000
END:DAYLIGHT
BEGIN:STANDARD
TZOFFSETFROM:-0400
TZOFFSETTO:-0500
TZNAME:EST
DTSTART:20261101T060000
END:STANDARD
END:VTIMEZONE
BEGIN:VEVENT
DTSTART;TZID=America/New_York:20250222T103000
DTEND;TZID=America/New_York:20250222T123000
DTSTAMP:20260425T111246
CREATED:20250202T205134Z
LAST-MODIFIED:20250202T205134Z
UID:23088-1740220200-1740227400@www.themiamiartscene.com
SUMMARY:The Official Art Deco Walking Tour by The Miami Design Preservation League
DESCRIPTION:Saturday\, February 22nd from 10:30am – 12:30pm experience the Official Art Deco District Walking Tour presented by the Miami Design Preservation League. This 1.5 to 2-hour walking tour provides an introduction to the Art Deco\, Mediterranean Revival\, and Miami Modern (MiMo) styles found within the Miami Beach Architectural Historic District. Explore hotels\, restaurants\, and other commercial structures with a visit to a number of interiors. Choose from select dates / PURCHASE TICKETS HERE. \nTour ticket includes free entry to the Art Deco Museum as well as 10% off at the Gift Shop.
URL:https://www.themiamiartscene.com/event/the-official-art-deco-walking-tour-by-the-miami-design-preservation-league-545/
LOCATION:Art Deco Welcome Center\, 1001 Ocean Drive\, Miami Beach\, FL\, 33139\, United States
ATTACH;FMTTYPE=image/jpeg:https://www.themiamiartscene.com/wp-content/uploads/2023/02/art-deco-miami-beach-2023.jpg
END:VEVENT
BEGIN:VEVENT
DTSTART;TZID=America/New_York:20250222T110000
DTEND;TZID=America/New_York:20250222T120000
DTSTAMP:20260425T111246
CREATED:20250131T030151Z
LAST-MODIFIED:20250131T030151Z
UID:23043-1740222000-1740225600@www.themiamiartscene.com
SUMMARY:Miami Design District Public Art Tour
DESCRIPTION:Saturday\, February 22nd from 11am – 12pm join the Miami Design District for a walking tour of the district\, explore the history of the art and architecture that characterize the neighborhood. Visit outdoor installations and murals including Buckminster Fuller Fly’s Eye Dome\, Nicole Nomsa Moyo’s Pearl Jam\, Virgil Abloh’s Dollar a Gallon\, Alteronce Gumby’s Living the Dream\, and more. \nMeet in front of the Fly’s Eye Dome on the first floor of Palm Court (enter at 140 NE 39th Street). This Event is Free & Open to the Public. RSVP HERE.
URL:https://www.themiamiartscene.com/event/miami-design-district-public-art-tour-47/
LOCATION:Miami Design District Palm Court\, 140 NE 39th Street\, Miami\, FL\, 33137\, United States
ATTACH;FMTTYPE=image/jpeg:https://www.themiamiartscene.com/wp-content/uploads/2020/06/Miami-design-district-public-tours.jpg
END:VEVENT
BEGIN:VEVENT
DTSTART;TZID=America/New_York:20250222T190000
DTEND;TZID=America/New_York:20250222T210000
DTSTAMP:20260425T111246
CREATED:20250203T224117Z
LAST-MODIFIED:20250203T224530Z
UID:23105-1740250800-1740258000@www.themiamiartscene.com
SUMMARY:The Frank Gallery presents a Closing Reception for 'Ebb & Flow'
DESCRIPTION:Saturday\, February 22nd from 7 – 9pm The Frank C. Ortis Art Gallery in Pembroke Pines invites you to celebrate the closing of Ebb & Flow! Learn more about “The House Inside My Head” from artists Rhonda Mitrani\, Patricia Schnall-Gutierrez\, and Marina Font from RPM Projects. Listen as they discuss the inspiration behind the installation\, their artistic practices\, and the themes of the exhibition in a conversation moderated by The Frank’s Chief Curator Sophie Bonet. Following the panel discussion there will be a Q & A with the artists. \nStep into the gallery and view the installation piece up close\, while RPM Projects begin their interactive performance. Record your response to the work on white linens and watch as the artists hand sew your contribution to the collaborative tapestry\, becoming part of the installation. \nAll ages are welcome for this free event. Light refreshments will be provided.
URL:https://www.themiamiartscene.com/event/the-frank-gallery-presents-a-closing-reception-for-ebb-flow/
LOCATION:The Frank Gallery\, 601 City Center Way\, Pembroke Pines\, FL\, 33025\, United States
ATTACH;FMTTYPE=image/jpeg:https://www.themiamiartscene.com/wp-content/uploads/2025/02/ebb-flow-closing-reception_Wrapped-Approved-3-e1738622466683.jpeg
END:VEVENT
END:VCALENDAR