BEGIN:VCALENDAR
VERSION:2.0
PRODID:-//Miami Art Scene™ - ECPv6.15.20//NONSGML v1.0//EN
CALSCALE:GREGORIAN
METHOD:PUBLISH
X-ORIGINAL-URL:https://www.themiamiartscene.com
X-WR-CALDESC:Events for Miami Art Scene™
REFRESH-INTERVAL;VALUE=DURATION:PT1H
X-Robots-Tag:noindex
X-PUBLISHED-TTL:PT1H
BEGIN:VTIMEZONE
TZID:America/New_York
BEGIN:DAYLIGHT
TZOFFSETFROM:-0500
TZOFFSETTO:-0400
TZNAME:EDT
DTSTART:20240310T070000
END:DAYLIGHT
BEGIN:STANDARD
TZOFFSETFROM:-0400
TZOFFSETTO:-0500
TZNAME:EST
DTSTART:20241103T060000
END:STANDARD
BEGIN:DAYLIGHT
TZOFFSETFROM:-0500
TZOFFSETTO:-0400
TZNAME:EDT
DTSTART:20250309T070000
END:DAYLIGHT
BEGIN:STANDARD
TZOFFSETFROM:-0400
TZOFFSETTO:-0500
TZNAME:EST
DTSTART:20251102T060000
END:STANDARD
BEGIN:DAYLIGHT
TZOFFSETFROM:-0500
TZOFFSETTO:-0400
TZNAME:EDT
DTSTART:20260308T070000
END:DAYLIGHT
BEGIN:STANDARD
TZOFFSETFROM:-0400
TZOFFSETTO:-0500
TZNAME:EST
DTSTART:20261101T060000
END:STANDARD
END:VTIMEZONE
BEGIN:VEVENT
DTSTART;TZID=America/New_York:20250507T000000
DTEND;TZID=America/New_York:20250613T000000
DTSTAMP:20260424T101829
CREATED:20250507T180515Z
LAST-MODIFIED:20250508T133307Z
UID:23738-1746576000-1749772800@www.themiamiartscene.com
SUMMARY:The Jorge M. Pérez Family Foundation Announces Open Call for 2025-2026 CreARTE Grants Program
DESCRIPTION:The Jorge M. Pérez Family Foundation at The Miami Foundation (the Pérez Family Foundation) is proud to launch the fourth edition of the Pérez CreARTE Grants Program (Pérez CreARTE)\, awarding over $5 million to arts-first organizations across Miami-Dade County that seek to cultivate a vibrant\, connected and engaging arts ecosystem. In celebration of its 10th year of philanthropic impact\, the Pérez Family Foundation’s 2025–2026 program will have a renewed focus on Arts Access\, Arts Education and Artist Fellowships and Residencies. Applications opened on Tuesday\, April 29\, with winners announced in the fall. Eligible organizations may apply here. \nCurrent arts-first grantees are invited to apply for renewed funding through a separate but parallel process. The Pérez family remains committed to supporting and strengthening the work of past and current partners while also making space for fresh ideas and new investments. The application window will close on June 13\, 2025. All interested applicants should direct their inquiries to Jacki Altman\, Community Investments Manager\, at JAltman@miamifoundation.org and Belissa Alvarez\, Director of the Jorge M. Pérez Family Foundation\, at Belissa.Alvarez@relatedgroup.com\, who will be managing applications and the awards process. Full guidelines for Pérez CreARTE can be found in English\, Spanish and Haitian Creole.
URL:https://www.themiamiartscene.com/event/the-jorge-m-perez-family-foundation-announces-open-call-for-2025-2026-crearte-grants-program/
LOCATION:The Miami Foundation\, 40 NW 3rd Street\, Suite 305\, Miami\, FL\, 33128\, United States
ATTACH;FMTTYPE=image/jpeg:https://www.themiamiartscene.com/wp-content/uploads/2025/05/20250501-MFN-CreArte-Digital-FINAL_728x300-2.jpg
END:VEVENT
BEGIN:VEVENT
DTSTART;TZID=America/New_York:20250515T103000
DTEND;TZID=America/New_York:20250515T123000
DTSTAMP:20260424T101829
CREATED:20250502T133822Z
LAST-MODIFIED:20250502T133822Z
UID:23676-1747305000-1747312200@www.themiamiartscene.com
SUMMARY:The Official Art Deco Walking Tour by The Miami Design Preservation League
DESCRIPTION:Thursday\, May 15th from 10:30am – 12:30pm experience the Official Art Deco District Walking Tour presented by the Miami Design Preservation League. This 1.5 to 2-hour walking tour provides an introduction to the Art Deco\, Mediterranean Revival\, and Miami Modern (MiMo) styles found within the Miami Beach Architectural Historic District. Explore hotels\, restaurants\, and other commercial structures with a visit to a number of interiors. Choose from select dates / PURCHASE TICKETS HERE. \nTour ticket includes free entry to the Art Deco Museum as well as 10% off at the Gift Shop.
URL:https://www.themiamiartscene.com/event/the-official-art-deco-walking-tour-by-the-miami-design-preservation-league-627/
LOCATION:Art Deco Welcome Center\, 1001 Ocean Drive\, Miami Beach\, FL\, 33139\, United States
ATTACH;FMTTYPE=image/jpeg:https://www.themiamiartscene.com/wp-content/uploads/2024/04/miami-beach-art-deco-beach-patrol--scaled-e1712359053205.jpeg
END:VEVENT
BEGIN:VEVENT
DTSTART;TZID=America/New_York:20250515T180000
DTEND;TZID=America/New_York:20250515T210000
DTSTAMP:20260424T101829
CREATED:20250511T014427Z
LAST-MODIFIED:20250511T014427Z
UID:23792-1747332000-1747342800@www.themiamiartscene.com
SUMMARY:The Bass: Third Thursdays featuring Immersive Opera with Composer Nathan Felix
DESCRIPTION:Thursday\, May 15th from 6 – 9pm enjoy Late Nights Live at The Bass during Third Thursdays. Composer\, artist\, and Director Nathan Felix’s new immersive opera breaks down the wall between performer and audience. Featuring original music and story\, as told through a local ensemble\, with world-class singing\, theatrical narrative\, movement\, and exploration of sound. \n6 PM Doors open\n7 PM Performance (1 hour) \n  \nABOUT NATHAN FELIX\nNathan Felix (born 1981) is a Mexican-American composer known for his immersive operas and experimental films. Felix has premiered 16 operas\, 4 symphonies and various chamber works in Spain\, Japan\, Australia\, Bulgaria\, Portugal\, China\, Sweden\, Denmark\, Mongolia and the United States and has been featured on the BBC\, MTV\, NPR\, TPR & PBS. Felix\, a non-award winning composer\, often focuses on telling Latinx themed and minority stories that highlight border issues\, underserved communities and his Hispanic heritage. He is the current recipient of Opera America’s prestigious IDEA Grant for his work\, Faces in the Flames with librettist Anita Gonzalez. Felix also serves as the founding director for the Opera Austin Festival.
URL:https://www.themiamiartscene.com/event/the-bass-third-thursdays-featuring-immersive-opera-with-composer-nathan-felix/
LOCATION:The Bass\, 2100 Collins Avenue\, Miami Beach\, FL\, 33139\, United States
ATTACH;FMTTYPE=image/jpeg:https://www.themiamiartscene.com/wp-content/uploads/2025/05/Nathan-Felix.jpeg
END:VEVENT
BEGIN:VEVENT
DTSTART;TZID=America/New_York:20250515T183000
DTEND;TZID=America/New_York:20250515T200000
DTSTAMP:20260424T101829
CREATED:20250511T014943Z
LAST-MODIFIED:20250511T014943Z
UID:23795-1747333800-1747339200@www.themiamiartscene.com
SUMMARY:The Bass: Art After Hours | All the World’s A Stage
DESCRIPTION:Thursday\, May 15th from 6:30 – 8pm enjoy Art After Hours at The Bass for Build Your Own Set\, design miniature opera stages using fabric\, found objects\, and lighting elements. The teaching artist guides participants through creating set pieces that mirror the emotional landscapes of operatic storytelling. \nArt After Hours is created for adults ages 21+ at any skill level. All artmaking materials are provided and available to take home after class! \nThe class is $25 for museum members and $30 for nonmembers. REGISTER HERE.
URL:https://www.themiamiartscene.com/event/the-bass-art-after-hours-all-the-worlds-a-stage/
LOCATION:The Bass\, 2100 Collins Avenue\, Miami Beach\, FL\, 33139\, United States
ATTACH;FMTTYPE=image/jpeg:https://www.themiamiartscene.com/wp-content/uploads/2025/05/Art-After-Hours-at-The-Bass-in-Social-Assembly-Adults-engage-in-artmaking-during-an-art-class-at-the-museum.jpeg
END:VEVENT
END:VCALENDAR