BEGIN:VCALENDAR
VERSION:2.0
PRODID:-//Miami Art Scene™ - ECPv6.15.20//NONSGML v1.0//EN
CALSCALE:GREGORIAN
METHOD:PUBLISH
X-ORIGINAL-URL:https://www.themiamiartscene.com
X-WR-CALDESC:Events for Miami Art Scene™
REFRESH-INTERVAL;VALUE=DURATION:PT1H
X-Robots-Tag:noindex
X-PUBLISHED-TTL:PT1H
BEGIN:VTIMEZONE
TZID:America/New_York
BEGIN:DAYLIGHT
TZOFFSETFROM:-0500
TZOFFSETTO:-0400
TZNAME:EDT
DTSTART:20250309T070000
END:DAYLIGHT
BEGIN:STANDARD
TZOFFSETFROM:-0400
TZOFFSETTO:-0500
TZNAME:EST
DTSTART:20251102T060000
END:STANDARD
BEGIN:DAYLIGHT
TZOFFSETFROM:-0500
TZOFFSETTO:-0400
TZNAME:EDT
DTSTART:20260308T070000
END:DAYLIGHT
BEGIN:STANDARD
TZOFFSETFROM:-0400
TZOFFSETTO:-0500
TZNAME:EST
DTSTART:20261101T060000
END:STANDARD
BEGIN:DAYLIGHT
TZOFFSETFROM:-0500
TZOFFSETTO:-0400
TZNAME:EDT
DTSTART:20270314T070000
END:DAYLIGHT
BEGIN:STANDARD
TZOFFSETFROM:-0400
TZOFFSETTO:-0500
TZNAME:EST
DTSTART:20271107T060000
END:STANDARD
END:VTIMEZONE
BEGIN:VEVENT
DTSTART;TZID=America/New_York:20260319T170000
DTEND;TZID=America/New_York:20260322T180000
DTSTAMP:20260423T132619
CREATED:20260219T220707Z
LAST-MODIFIED:20260219T220707Z
UID:26085-1773939600-1774202400@www.themiamiartscene.com
SUMMARY:Palm Beach Modern + Contemporary (PBM+C) 2026
DESCRIPTION:Thursday\, March 19th through Sunday\, March 22nd experience Palm Beach Modern + Contemporary (PBM+C)\, presented by Art Miami\, returning for its ninth edition opening with an exclusive invitation-only VIP Preview on Thursday\, March 19 and running through Sunday\, March 22\, 2026 at the Palm Beach County Convention Center. \nSouth Florida’s premier and most prestigious winter art fair\, PBM+C takes place during the height of season and is the only “can’t miss” event for all serious collectors\, curators\, museum directors and interior designers\, providing an intimate look at the most important works available for acquisition at the forefront of the international contemporary\, modern\, classical modern\, post-war and pop eras. \n\nFAIR HOURS \nThursday\, March 19\, 2026\nVIP Preview: 5pm – 9pm\nAccess for PBM+C VIP Passholders & Press\, benefiting the Ann Norton Sculpture Gardens \nGENERAL ADMISSION\nFriday\, March 20 11am – 6pm\nSaturday\, March 21 11am – 6pm\nSunday\, March 22 11am – 6pm
URL:https://www.themiamiartscene.com/event/palm-beach-modern-contemporary-pbmc-2026/
LOCATION:Palm Beach County Convention Center\, 650 Okeechobee Boulevard\, West Palm Beach\, FL\, 33401\, United States
ATTACH;FMTTYPE=image/gif:https://www.themiamiartscene.com/wp-content/uploads/2026/02/EmailHeader10.gif
END:VEVENT
BEGIN:VEVENT
DTSTART;TZID=America/New_York:20260321T103000
DTEND;TZID=America/New_York:20260321T123000
DTSTAMP:20260423T132619
CREATED:20260215T223225Z
LAST-MODIFIED:20260215T223225Z
UID:26032-1774089000-1774096200@www.themiamiartscene.com
SUMMARY:The Official Art Deco Walking Tour by The Miami Design Preservation League
DESCRIPTION:Saturday\, March 21st from 10:30am – 12:30pm experience the Official Art Deco District Walking Tour presented by the Miami Design Preservation League. This 1.5 to 2-hour walking tour provides an introduction to the Art Deco\, Mediterranean Revival\, and Miami Modern (MiMo) styles found within the Miami Beach Architectural Historic District. Explore hotels\, restaurants\, and other commercial structures with a visit to a number of interiors. Choose from select dates / PURCHASE TICKETS HERE. \nTour ticket includes free entry to the Art Deco Museum as well as 10% off at the Gift Shop.
URL:https://www.themiamiartscene.com/event/the-official-art-deco-walking-tour-by-the-miami-design-preservation-league-942/
LOCATION:Art Deco Welcome Center\, 1001 Ocean Drive\, Miami Beach\, FL\, 33139\, United States
ATTACH;FMTTYPE=image/jpeg:https://www.themiamiartscene.com/wp-content/uploads/2024/06/art-deco-historic-district-miami-beach.jpeg
END:VEVENT
BEGIN:VEVENT
DTSTART;TZID=America/New_York:20260321T110000
DTEND;TZID=America/New_York:20260321T120000
DTSTAMP:20260423T132619
CREATED:20260228T182014Z
LAST-MODIFIED:20260228T182014Z
UID:26148-1774090800-1774094400@www.themiamiartscene.com
SUMMARY:Miami Design District Public Art Tour
DESCRIPTION:Saturday\, March 21st from 11am – 12pm join the Miami Design District for a walking tour of the district\, explore the history of the art and architecture that characterize the neighborhood. Visit outdoor installations and murals including Buckminster Fuller Fly’s Eye Dome\, Virgil Abloh’s Dollar a Gallon\, Criola’s Interdimensional Portal\, and more.. \nMeet in front of the Fly’s Eye Dome on the first floor of Palm Court (enter at 140 NE 39th Street). This Event is Free & Open to the Public. RSVP HERE.
URL:https://www.themiamiartscene.com/event/miami-design-district-public-art-tour-57/
LOCATION:Miami Design District Palm Court\, 140 NE 39th Street\, Miami\, FL\, 33137\, United States
ATTACH;FMTTYPE=image/jpeg:https://www.themiamiartscene.com/wp-content/uploads/2024/04/miami-design-district-tour-2024.jpeg
END:VEVENT
BEGIN:VEVENT
DTSTART;TZID=America/New_York:20260321T120000
DTEND;TZID=America/New_York:20260321T140000
DTSTAMP:20260423T132619
CREATED:20260313T215720Z
LAST-MODIFIED:20260315T204546Z
UID:26222-1774094400-1774101600@www.themiamiartscene.com
SUMMARY:CAMP Gallery presents Soft Bodies\, Strong Lineage Workshop
DESCRIPTION:Saturday\, March 21st from 12-2pm The Contemporary Art Modern Project (CAMP Gallery) invites you to enjoy a workshop at the gallery\, Soft Bodies\, Strong Lineage. Participants are invited to sit\, stitch\, and contribute a red thread to a growing communal textile. The activation reflects on ancestral labor\, women’s circles\, and textile as shared language. This Event is FREE & Open to the Public. \nThis art programming is part of CAMP Gallery’s March exhibition\, Under The Red Tent\, an immersive fiber exhibition that brings together 20 artists whose practices engage thread and textile as tools of storytelling\, connection\, and resistance\, in collaboration with Red Thread Art Studio Miami. The exhibition is curated by Red Thread Art Studio Miami founder & fiber artist Aurora Molina. Under The Red Tent will be on view through Sunday\, April 26th.
URL:https://www.themiamiartscene.com/event/camp-gallery-presents-soft-bodies-strong-lineage-workshop/
LOCATION:The Contemporary Art Modern Project (The CAMP Gallery)\, 791-793 NE 125th Street\, North Miami\, FL\, 33161\, United States
ATTACH;FMTTYPE=image/jpeg:https://www.themiamiartscene.com/wp-content/uploads/2026/03/camp-under-the-red-tent-art.jpeg
END:VEVENT
BEGIN:VEVENT
DTSTART;TZID=America/New_York:20260321T130000
DTEND;TZID=America/New_York:20260321T150000
DTSTAMP:20260423T132619
CREATED:20260318T004857Z
LAST-MODIFIED:20260318T005641Z
UID:26337-1774098000-1774105200@www.themiamiartscene.com
SUMMARY:PAMM Local Views at the Art Station: Memory in Transit\, Weaving the Present
DESCRIPTION:Saturday\, March 21st from 1 – 3pm enjoy PAMM Local Views at the Art Station: Memory in Transit\, Weaving the Present with artists Lisu Vega and Marie Franco at the Pérez Art Museum Miami (PAMM). This workshop reimagines weaving as a profound act of connection—a bridge between body and territory\, memory and matter\, image and time. Using Vicuña’s work within the Pérez Art Museum Miami (PAMM) collection as a conceptual anchor\, guests will intertwine past and present through textile creation. By transferring curated images onto fabric via the sublimation process\, turning technical execution into a symbolic gesture. Here\, memory isn’t just a recording—it is a material dialogue where personal experience is imprinted\, re-signified\, and transformed. \nAbout Lisu Vega\nArtist Bio Lisu Vega (b. 1980\, Miami\, FL) is a multidisciplinary artist born in Miami and raised in Maracaibo\, Venezuela. Her practice spans engraving\, photography\, fiber and textile art\, sculpture\, and immersive installation\, exploring sustainability\, migration\, memory\, and identity through material-driven processes. \nAbout Marie Franco\nMarie Franco is a Peruvian-Venezuelan artist based in South Florida and is a 2024 alumna of New World School of the Arts\, where she earned a BFA in painting with a minor in art history. Her practice centers painting as a form of storytelling rooted in immigrant lived experience. Through portraiture and depictions of shared economic spaces\, particularly flea markets and swap shops\, she explores themes of migration\, labor\, commerce\, identity\, and community. These informal marketplaces function as sites of cultural exchange\, economic survival\, and belonging for working-class immigrant communities and are deeply connected to Franco’s personal history. After immigrating to the United States\, her mother worked as a vendor at the Fort Lauderdale Swap Shop\, a space that continues to shape her practice. \n  \nFree with museum admission. Admission is $18 for adults and free for members.\n 
URL:https://www.themiamiartscene.com/event/pamm-local-views-at-the-art-station-memory-in-transit-weaving-the-present/
LOCATION:Pérez Art Museum Miami\, 1103 Biscayne Boulevard\, Miami\, FL\, 33132\, United States
ATTACH;FMTTYPE=image/png:https://www.themiamiartscene.com/wp-content/uploads/2026/03/pamm-views-march.png
END:VEVENT
BEGIN:VEVENT
DTSTART;TZID=America/New_York:20260321T183000
DTEND;TZID=America/New_York:20260321T183000
DTSTAMP:20260423T132619
CREATED:20251219T204531Z
LAST-MODIFIED:20260124T185404Z
UID:25637-1774117800-1774117800@www.themiamiartscene.com
SUMMARY:Her Majesty Queen Sofía presents prestigious Sophia Awards for Excellence in Gala at Pérez Art Museum Miami (PAMM)
DESCRIPTION:Saturday\, March 21st at 6:30pm\, Her Majesty Queen Sofía will travel from Spain to Miami to present the Sophia Awards for Excellence during a major international Gala at the Pérez Art Museum Miami (PAMM). Honoring Jorge M. & Darlene Pérez and Frank & Haydée Rainieri. \nOrganized by the Queen Sofía Spanish Institute\, the Sophia Awards for Excellence (formerly the Gold Medal) is one of the most distinguished honors linking the Spanish-speaking world and the United States. As the highest distinction bestowed by the Queen Sofía Spanish Institute\, it has recognized some of the most influential figures in global arts\, culture\, diplomacy\, science\, and public life\, including President Bill Clinton\, Henry Kissinger\, Plácido Domingo\, Penélope Cruz\, Norman Foster\, Alicia de Larrocha\, Carolina Herrera\, Mario Vargas Llosa\, Gloria and Emilio Estefan\, Carlos Slim\, Chef José Andrés\, and Gustavo Dudamel\, underscoring the award’s exceptional prestige. \nRSVP to attend the Sophia Awards for Excellence Gala HERE. \n  \nIMAGE: Her Majesty Queen Sofía of Spain
URL:https://www.themiamiartscene.com/event/her-majesty-queen-sofia-presents-prestigious-sophia-awards-for-excellence-in-gala-at-perez-art-museum-miami-pamm/
LOCATION:Pérez Art Museum Miami\, 1103 Biscayne Boulevard\, Miami\, FL\, 33132\, United States
ATTACH;FMTTYPE=image/jpeg:https://www.themiamiartscene.com/wp-content/uploads/2025/12/HM-Queen-Sofia-PAMM--scaled.jpeg
END:VEVENT
BEGIN:VEVENT
DTSTART;TZID=America/New_York:20260321T193000
DTEND;TZID=America/New_York:20260321T210000
DTSTAMP:20260423T132619
CREATED:20260318T194935Z
LAST-MODIFIED:20260318T194935Z
UID:26380-1774121400-1774126800@www.themiamiartscene.com
SUMMARY:Coral Springs Museum of Art: Empty Walls Fundraiser
DESCRIPTION:Saturday\, March 21st from 7:30 – 9pm The Coral Springs Museum of Art will fill its galleries with hundreds of original artworks\, only to intentionally clear them again\, during Empty Walls\, a fundraising exhibition and sale on Saturday\, March 21\, from 5:30 to 9 PM. The event invites the public to help “empty the walls” by purchasing original 6-by-6-inch works created and donated by artists of all skill levels and mediums. Each piece will be sold for $25\, with proceeds supporting museum art programming and helping sustain free public access to the arts. RSVP HERE. \nFundraiser Event:\n– FREE for Active Museum Members + Contributing Artists\n– $10 for Early Entry Tickets \nEvent Schedule:\n5:30 PM to 6:30 PM: Museum Member + Exhibiting Artists | FREE\n6:30 PM to 7:30 PM: Early Entry Ticket Holders | $10\n7:30 PM to 9 PM: General Public | FREE
URL:https://www.themiamiartscene.com/event/coral-springs-museum-of-art-empty-walls-fundraiser/
LOCATION:Coral Springs Museum of Art\, 2855 Coral Springs Drive\, Coral Springs\, FL\, 33065\, United States
ATTACH;FMTTYPE=image/png:https://www.themiamiartscene.com/wp-content/uploads/2026/03/coral-springs-museum-of-art-fundraiser.png
END:VEVENT
END:VCALENDAR