BEGIN:VCALENDAR
VERSION:2.0
PRODID:-//Miami Art Scene™ - ECPv6.15.20//NONSGML v1.0//EN
CALSCALE:GREGORIAN
METHOD:PUBLISH
X-ORIGINAL-URL:https://www.themiamiartscene.com
X-WR-CALDESC:Events for Miami Art Scene™
REFRESH-INTERVAL;VALUE=DURATION:PT1H
X-Robots-Tag:noindex
X-PUBLISHED-TTL:PT1H
BEGIN:VTIMEZONE
TZID:America/New_York
BEGIN:DAYLIGHT
TZOFFSETFROM:-0500
TZOFFSETTO:-0400
TZNAME:EDT
DTSTART:20250309T070000
END:DAYLIGHT
BEGIN:STANDARD
TZOFFSETFROM:-0400
TZOFFSETTO:-0500
TZNAME:EST
DTSTART:20251102T060000
END:STANDARD
BEGIN:DAYLIGHT
TZOFFSETFROM:-0500
TZOFFSETTO:-0400
TZNAME:EDT
DTSTART:20260308T070000
END:DAYLIGHT
BEGIN:STANDARD
TZOFFSETFROM:-0400
TZOFFSETTO:-0500
TZNAME:EST
DTSTART:20261101T060000
END:STANDARD
BEGIN:DAYLIGHT
TZOFFSETFROM:-0500
TZOFFSETTO:-0400
TZNAME:EDT
DTSTART:20270314T070000
END:DAYLIGHT
BEGIN:STANDARD
TZOFFSETFROM:-0400
TZOFFSETTO:-0500
TZNAME:EST
DTSTART:20271107T060000
END:STANDARD
END:VTIMEZONE
BEGIN:VEVENT
DTSTART;TZID=America/New_York:20260425T103000
DTEND;TZID=America/New_York:20260425T123000
DTSTAMP:20260423T114921
CREATED:20260317T225035Z
LAST-MODIFIED:20260317T225035Z
UID:26314-1777113000-1777120200@www.themiamiartscene.com
SUMMARY:The Official Art Deco Walking Tour by The Miami Design Preservation League
DESCRIPTION:Saturday\, April 25th from 10:30am – 12:30pm experience the Official Art Deco District Walking Tour presented by the Miami Design Preservation League. This 1.5 to 2-hour walking tour provides an introduction to the Art Deco\, Mediterranean Revival\, and Miami Modern (MiMo) styles found within the Miami Beach Architectural Historic District. Explore hotels\, restaurants\, and other commercial structures with a visit to a number of interiors. Choose from select dates / PURCHASE TICKETS HERE. \nTour ticket includes free entry to the Art Deco Museum as well as 10% off at the Gift Shop.
URL:https://www.themiamiartscene.com/event/the-official-art-deco-walking-tour-by-the-miami-design-preservation-league-975/
LOCATION:Art Deco Welcome Center\, 1001 Ocean Drive\, Miami Beach\, FL\, 33139\, United States
ATTACH;FMTTYPE=image/jpeg:https://www.themiamiartscene.com/wp-content/uploads/2024/04/miami-beach-art-deco-beach-patrol--scaled-e1712359053205.jpeg
END:VEVENT
BEGIN:VEVENT
DTSTART;TZID=America/New_York:20260425T110000
DTEND;TZID=America/New_York:20260425T120000
DTSTAMP:20260423T114921
CREATED:20260409T183332Z
LAST-MODIFIED:20260409T183332Z
UID:26584-1777114800-1777118400@www.themiamiartscene.com
SUMMARY:Miami Design District Public Art Tour
DESCRIPTION:Saturday\, April 25th from 11am – 12pm join the Miami Design District for a walking tour of the district\, explore the history of the art and architecture that characterize the neighborhood. Visit outdoor installations and murals including Buckminster Fuller Fly’s Eye Dome\, Virgil Abloh’s Dollar a Gallon\, Criola’s Interdimensional Portal\, and more. \nMeet in front of the Fly’s Eye Dome on the first floor of Palm Court (enter at 140 NE 39th Street). This Event is Free & Open to the Public. RSVP HERE.
URL:https://www.themiamiartscene.com/event/miami-design-district-public-art-tour-60/
LOCATION:Miami Design District Palm Court\, 140 NE 39th Street\, Miami\, FL\, 33137\, United States
ATTACH;FMTTYPE=image/png:https://www.themiamiartscene.com/wp-content/uploads/2026/04/miami-design-district-public-art-tour.png
END:VEVENT
BEGIN:VEVENT
DTSTART;TZID=America/New_York:20260425T110000
DTEND;TZID=America/New_York:20260425T160000
DTSTAMP:20260423T114921
CREATED:20260318T032012Z
LAST-MODIFIED:20260318T032012Z
UID:26357-1777114800-1777132800@www.themiamiartscene.com
SUMMARY:Boca Raton Museum of Art: Creation Station – The Little Moments
DESCRIPTION:Saturday\, April 25th from 11am – 4pm enjoy Creation Station – The Little Moments at the Boca Raton Museum of Art. Offered monthly on Saturdays\, Creation Station is a drop-in program featuring an art activity inspired by artworks currently on view. Start your visit with a fun gallery exploration using kid-friendly prompts and activity aids that highlight a featured artwork. Then head to the studio to create your own piece using a variety of materials and techniques. Each month brings a new theme to keep things fresh\, creative\, and connected to the exhibitions. Designed for children ages 5 and up. No preregistration required—just bring your imagination! \nIn April\, families will explore Eduardo Chacon: Postcards to Nowhere\, noticing how the artist captures the special and fleeting moments of everyday life. After spending time in the galleries\, participants will create their own candid portraits of each other\, focusing on quick observations and simple drawing techniques. The activity offers a fun way for families to sketch each other and enjoy the small\, familiar moments they notice along the way. \n  \nIMAGE: Eduardo Chacon\, “Gazing at Dusk” (detail)\, 2022 (printed 2023). Courtesy of the Artist.
URL:https://www.themiamiartscene.com/event/boca-raton-museum-of-art-creation-station-the-little-moments/
LOCATION:Boca Raton Museum of Art\, 501 Plaza Real\, Boca Raton\, FL\, 33432\, United States
ATTACH;FMTTYPE=image/jpeg:https://www.themiamiartscene.com/wp-content/uploads/2026/03/Creation-Station-04.jpeg
END:VEVENT
BEGIN:VEVENT
DTSTART;TZID=America/New_York:20260425T180000
DTEND;TZID=America/New_York:20260425T210000
DTSTAMP:20260423T114921
CREATED:20260412T235214Z
LAST-MODIFIED:20260416T185415Z
UID:26595-1777140000-1777150800@www.themiamiartscene.com
SUMMARY:9th Annual "Art from the Heart" Gala
DESCRIPTION:Saturday\, April 25th from 6 – 9pm enjoy Art from the Heart\, a fun in-person event where creativity and passion come alive! Family Resource Center is hosting their 9th Annual Art From The Heart gala at Mana Wynwood. They have artists donate pieces of their art to their agency and sold through a silent auction during the evening. Last year\, they had about 150 artwork. Tickets are $100\, open bar event\, with different restaurants stationed at tables serving their most famous hors d’oeuvres. RSVP HERE. \n  \nArt from the Heart with artwork from world renowned artists and talented emerging artists at the Paradise Plaza on Sunday April 20th\, 2024 in Miami. The event is presented by the Family Resource Center of South Florida\, Inc. (Photo by MagicalPhotos.com / Mitchell Zachs) \n 
URL:https://www.themiamiartscene.com/event/9th-annual-art-from-the-heart-gala/
LOCATION:Mana Wynwood\, 2217 NW 5th Avenue at NW 22nd Street\, Miami\, FL\, 33127\, United States
ATTACH;FMTTYPE=image/png:https://www.themiamiartscene.com/wp-content/uploads/2026/04/art-from-the-heart.png
END:VEVENT
END:VCALENDAR