BEGIN:VCALENDAR
VERSION:2.0
PRODID:-//Miami Art Scene™ - ECPv6.15.20//NONSGML v1.0//EN
CALSCALE:GREGORIAN
METHOD:PUBLISH
X-WR-CALNAME:Miami Art Scene™
X-ORIGINAL-URL:https://www.themiamiartscene.com
X-WR-CALDESC:Events for Miami Art Scene™
REFRESH-INTERVAL;VALUE=DURATION:PT1H
X-Robots-Tag:noindex
X-PUBLISHED-TTL:PT1H
BEGIN:VTIMEZONE
TZID:America/New_York
BEGIN:DAYLIGHT
TZOFFSETFROM:-0500
TZOFFSETTO:-0400
TZNAME:EDT
DTSTART:20240310T070000
END:DAYLIGHT
BEGIN:STANDARD
TZOFFSETFROM:-0400
TZOFFSETTO:-0500
TZNAME:EST
DTSTART:20241103T060000
END:STANDARD
BEGIN:DAYLIGHT
TZOFFSETFROM:-0500
TZOFFSETTO:-0400
TZNAME:EDT
DTSTART:20250309T070000
END:DAYLIGHT
BEGIN:STANDARD
TZOFFSETFROM:-0400
TZOFFSETTO:-0500
TZNAME:EST
DTSTART:20251102T060000
END:STANDARD
BEGIN:DAYLIGHT
TZOFFSETFROM:-0500
TZOFFSETTO:-0400
TZNAME:EDT
DTSTART:20260308T070000
END:DAYLIGHT
BEGIN:STANDARD
TZOFFSETFROM:-0400
TZOFFSETTO:-0500
TZNAME:EST
DTSTART:20261101T060000
END:STANDARD
END:VTIMEZONE
BEGIN:VEVENT
DTSTART;TZID=America/New_York:20250523T103000
DTEND;TZID=America/New_York:20250523T123000
DTSTAMP:20260424T115414
CREATED:20250502T135836Z
LAST-MODIFIED:20250502T135836Z
UID:23692-1747996200-1748003400@www.themiamiartscene.com
SUMMARY:The Official Art Deco Walking Tour by The Miami Design Preservation League
DESCRIPTION:Friday\, May 23rd from 10:30am – 12:30pm experience the Official Art Deco District Walking Tour presented by the Miami Design Preservation League. This 1.5 to 2-hour walking tour provides an introduction to the Art Deco\, Mediterranean Revival\, and Miami Modern (MiMo) styles found within the Miami Beach Architectural Historic District. Explore hotels\, restaurants\, and other commercial structures with a visit to a number of interiors. Choose from select dates / PURCHASE TICKETS HERE. \nTour ticket includes free entry to the Art Deco Museum as well as 10% off at the Gift Shop.
URL:https://www.themiamiartscene.com/event/the-official-art-deco-walking-tour-by-the-miami-design-preservation-league-635/
LOCATION:Art Deco Welcome Center\, 1001 Ocean Drive\, Miami Beach\, FL\, 33139\, United States
ATTACH;FMTTYPE=image/jpeg:https://www.themiamiartscene.com/wp-content/uploads/2023/02/art-deco-miami-beach-2023.jpg
END:VEVENT
BEGIN:VEVENT
DTSTART;TZID=America/New_York:20250523T180000
DTEND;TZID=America/New_York:20250523T210000
DTSTAMP:20260424T115414
CREATED:20250521T022349Z
LAST-MODIFIED:20250521T022954Z
UID:23834-1748023200-1748034000@www.themiamiartscene.com
SUMMARY:The Contemporary Art Modern Project announces its May exhibition: Postcards from The Artist
DESCRIPTION:Friday\, May 23rd from 6–9pm The Contemporary Art Modern Project (CAMP Gallery) announces the Opening Reception its May exhibition: Postcards from The Artist\, a group exhibition featuring American artist Milton Bowens\, Haitian-American artist Laetitia Adam-Rabel\, and Nigerian artist Oluwatomisin Olabode. Postcards From the Artist runs from May 23 – June 27 \, 2025. This Event is FREE & Open to the Public\, RSVP HERE. For more information\, contact hello@thecampgallery.com. \nThrough mixed media\, painting\, and figurative work\, each artist responds to the lived and inherited histories that shape their creative voices. Bowens draws from archival materials to trace the ongoing impact of African American history on the present. Adam-Rabel explores personal identity through the lens of race\, womanhood\, and ancestry\, while Olabode challenges surface-level perception through stylized\, confrontational portraiture. \nTogether\, their works act as visual dispatches—postcards from experience—marking the complexities of memory\, culture\, and the human condition.
URL:https://www.themiamiartscene.com/event/the-contemporary-art-modern-project-announces-its-may-exhibition-postcards-from-the-artist/
LOCATION:The Contemporary Art Modern Project (The CAMP Gallery)\, 791-793 NE 125th Street\, North Miami\, FL\, 33161\, United States
ATTACH;FMTTYPE=image/png:https://www.themiamiartscene.com/wp-content/uploads/2025/05/camp_postcards-from-the-artist.png
END:VEVENT
END:VCALENDAR