BEGIN:VCALENDAR
VERSION:2.0
PRODID:-//Miami Art Scene™ - ECPv6.15.20//NONSGML v1.0//EN
CALSCALE:GREGORIAN
METHOD:PUBLISH
X-ORIGINAL-URL:https://www.themiamiartscene.com
X-WR-CALDESC:Events for Miami Art Scene™
REFRESH-INTERVAL;VALUE=DURATION:PT1H
X-Robots-Tag:noindex
X-PUBLISHED-TTL:PT1H
BEGIN:VTIMEZONE
TZID:America/New_York
BEGIN:DAYLIGHT
TZOFFSETFROM:-0500
TZOFFSETTO:-0400
TZNAME:EDT
DTSTART:20250309T070000
END:DAYLIGHT
BEGIN:STANDARD
TZOFFSETFROM:-0400
TZOFFSETTO:-0500
TZNAME:EST
DTSTART:20251102T060000
END:STANDARD
BEGIN:DAYLIGHT
TZOFFSETFROM:-0500
TZOFFSETTO:-0400
TZNAME:EDT
DTSTART:20260308T070000
END:DAYLIGHT
BEGIN:STANDARD
TZOFFSETFROM:-0400
TZOFFSETTO:-0500
TZNAME:EST
DTSTART:20261101T060000
END:STANDARD
BEGIN:DAYLIGHT
TZOFFSETFROM:-0500
TZOFFSETTO:-0400
TZNAME:EDT
DTSTART:20270314T070000
END:DAYLIGHT
BEGIN:STANDARD
TZOFFSETFROM:-0400
TZOFFSETTO:-0500
TZNAME:EST
DTSTART:20271107T060000
END:STANDARD
END:VTIMEZONE
BEGIN:VEVENT
DTSTART;TZID=America/New_York:20260214T103000
DTEND;TZID=America/New_York:20260214T123000
DTSTAMP:20260423T184655
CREATED:20260130T181216Z
LAST-MODIFIED:20260130T181216Z
UID:25876-1771065000-1771072200@www.themiamiartscene.com
SUMMARY:The Official Art Deco Walking Tour by The Miami Design Preservation League
DESCRIPTION:Saturday\, February 14th from 10:30am – 12:30pm experience the Official Art Deco District Walking Tour presented by the Miami Design Preservation League. This 1.5 to 2-hour walking tour provides an introduction to the Art Deco\, Mediterranean Revival\, and Miami Modern (MiMo) styles found within the Miami Beach Architectural Historic District. Explore hotels\, restaurants\, and other commercial structures with a visit to a number of interiors. Choose from select dates / PURCHASE TICKETS HERE. \nTour ticket includes free entry to the Art Deco Museum as well as 10% off at the Gift Shop.
URL:https://www.themiamiartscene.com/event/the-official-art-deco-walking-tour-by-the-miami-design-preservation-league-904/
LOCATION:Art Deco Welcome Center\, 1001 Ocean Drive\, Miami Beach\, FL\, 33139\, United States
ATTACH;FMTTYPE=image/jpeg:https://www.themiamiartscene.com/wp-content/uploads/2025/07/art-deco-beach-patrol-headquarters.jpeg
END:VEVENT
BEGIN:VEVENT
DTSTART;TZID=America/New_York:20260214T110000
DTEND;TZID=America/New_York:20260214T150000
DTSTAMP:20260423T184655
CREATED:20260210T233541Z
LAST-MODIFIED:20260210T233541Z
UID:25967-1771066800-1771081200@www.themiamiartscene.com
SUMMARY:PAMM Free Second Saturdays: Everyday Objects\, Extraordinary Art
DESCRIPTION:Saturday\, February 14th from 11am – 3pm enjoy PAMM Free Second Saturdays: Everyday Objects\, Extraordinary Art at the Pérez Art Museum Miami (PAMM). Celebrate creativity and storytelling at PAMM Free Second Saturdays\, inspired by Woody De Othello: coming forth by day. In honor of Black History Month\, families are invited to explore how art can reflect identity\, imagination\, and the powerful connections between people and everyday objects. Admission is free all day. Art activities from 11am–3pm. RSVP HERE. \nKids and adults can dive into hands-on art activities that play with symbols\, shapes\, and familiar forms—transforming the ordinary into something unexpected. Throughout the day\, enjoy lively performances by Delou Africa\, Inc.\, featuring traditional African dance and drumming\, alongside a family-friendly poetry activation presented by BIPOC Poetry Night\, led by curator\, writer\, and community arts organizer Brianna Clara. \nWhether you love to make\, move\, listen\, or create together\, this fun-filled day at PAMM is all about discovery\, self-expression\, and seeing the world through fresh eyes.
URL:https://www.themiamiartscene.com/event/pamm-free-second-saturdays-everyday-objects-extraordinary-art/
LOCATION:Pérez Art Museum Miami\, 1103 Biscayne Boulevard\, Miami\, FL\, 33132\, United States
ATTACH;FMTTYPE=image/jpeg:https://www.themiamiartscene.com/wp-content/uploads/2026/02/pamm-art-making.jpg
END:VEVENT
BEGIN:VEVENT
DTSTART;TZID=America/New_York:20260214T120000
DTEND;TZID=America/New_York:20260214T133000
DTSTAMP:20260423T184655
CREATED:20260131T223143Z
LAST-MODIFIED:20260131T223143Z
UID:25890-1771070400-1771075800@www.themiamiartscene.com
SUMMARY:NSU Art Museum presents Creativity Exploration: Sweet Sculptures
DESCRIPTION:Saturday\, February 14th from 12:00 – 1:30pm NSU Art Museum presents Creativity Exploration: Sweet Sculptures. Inspired by Naomi Peterson’s sculptures of cake\, bon bons\, and confections\, create your own sculptures to add some sweetness to your life. RSVP HERE. \nCreativity Exploration adult workshops promote the benefits of material exploration and the mind-to-body experience. Studies have shown that 45 minutes of creative activity a day reduces stress and offers mental clarity and relaxation. In addition to producing a sense of well-being\, sessions expand participants’ perceptions of forms while increasing brain connectivity through visual and cognitive stimulation. The workshop is led by educator Lark Keeler\, a specialist in mindfulness education. \nPreregistration Required. Space is Limited. \nCreativity Exploration is sponsored by the Maurer Family Foundation. \nVeteran discount tickets thanks to Spirit Charitable Foundation. \nDate of event: 2/14/2026\nTime: Noon – 1:30 pm\nPricing: $15 for members; $25 for non-members\nLocation: NSU Art Museum\nAges: 18+
URL:https://www.themiamiartscene.com/event/nsu-art-museum-presents-creativity-exploration-sweet-sculptures/
LOCATION:NSU Art Museum\, One East Las Olas Boulevard\, Fort Lauderdale\, FL\, 33301\, United States
ATTACH;FMTTYPE=image/jpeg:https://www.themiamiartscene.com/wp-content/uploads/2026/01/nsu-valentines-day.jpeg
END:VEVENT
END:VCALENDAR