BEGIN:VCALENDAR
VERSION:2.0
PRODID:-//Miami Art Scene™ - ECPv6.15.20//NONSGML v1.0//EN
CALSCALE:GREGORIAN
METHOD:PUBLISH
X-WR-CALNAME:Miami Art Scene™
X-ORIGINAL-URL:https://www.themiamiartscene.com
X-WR-CALDESC:Events for Miami Art Scene™
REFRESH-INTERVAL;VALUE=DURATION:PT1H
X-Robots-Tag:noindex
X-PUBLISHED-TTL:PT1H
BEGIN:VTIMEZONE
TZID:America/New_York
BEGIN:DAYLIGHT
TZOFFSETFROM:-0500
TZOFFSETTO:-0400
TZNAME:EDT
DTSTART:20250309T070000
END:DAYLIGHT
BEGIN:STANDARD
TZOFFSETFROM:-0400
TZOFFSETTO:-0500
TZNAME:EST
DTSTART:20251102T060000
END:STANDARD
BEGIN:DAYLIGHT
TZOFFSETFROM:-0500
TZOFFSETTO:-0400
TZNAME:EDT
DTSTART:20260308T070000
END:DAYLIGHT
BEGIN:STANDARD
TZOFFSETFROM:-0400
TZOFFSETTO:-0500
TZNAME:EST
DTSTART:20261101T060000
END:STANDARD
BEGIN:DAYLIGHT
TZOFFSETFROM:-0500
TZOFFSETTO:-0400
TZNAME:EDT
DTSTART:20270314T070000
END:DAYLIGHT
BEGIN:STANDARD
TZOFFSETFROM:-0400
TZOFFSETTO:-0500
TZNAME:EST
DTSTART:20271107T060000
END:STANDARD
END:VTIMEZONE
BEGIN:VEVENT
DTSTART;TZID=America/New_York:20260403T103000
DTEND;TZID=America/New_York:20260403T123000
DTSTAMP:20260423T132734
CREATED:20260317T210355Z
LAST-MODIFIED:20260317T210355Z
UID:26270-1775212200-1775219400@www.themiamiartscene.com
SUMMARY:The Official Art Deco Walking Tour by The Miami Design Preservation League
DESCRIPTION:Friday\, April 3rd from 10:30am – 12:30pm experience the Official Art Deco District Walking Tour presented by the Miami Design Preservation League. This 1.5 to 2-hour walking tour provides an introduction to the Art Deco\, Mediterranean Revival\, and Miami Modern (MiMo) styles found within the Miami Beach Architectural Historic District. Explore hotels\, restaurants\, and other commercial structures with a visit to a number of interiors. Choose from select dates / PURCHASE TICKETS HERE. \nTour ticket includes free entry to the Art Deco Museum as well as 10% off at the Gift Shop.
URL:https://www.themiamiartscene.com/event/the-official-art-deco-walking-tour-by-the-miami-design-preservation-league-936/
LOCATION:Art Deco Welcome Center\, 1001 Ocean Drive\, Miami Beach\, FL\, 33139\, United States
ATTACH;FMTTYPE=image/jpeg:https://www.themiamiartscene.com/wp-content/uploads/2023/02/art-deco-miami-beach-2023.jpg
END:VEVENT
BEGIN:VEVENT
DTSTART;TZID=America/New_York:20260403T180000
DTEND;TZID=America/New_York:20260403T220000
DTSTAMP:20260423T132734
CREATED:20260320T172349Z
LAST-MODIFIED:20260320T173443Z
UID:26394-1775239200-1775253600@www.themiamiartscene.com
SUMMARY:Coral Gables Gallery Night
DESCRIPTION:Friday\, April 3rd from 6 – 10pm experience Coral Gables Gallery Night! Gables Gallery Night is held on the first Friday of the month from 6 to 10 p.m.\, where various art galleries in Coral Gables open for attendees to enjoy a free night of fine art\, live music\, and delicious refreshments in the City Beautiful. Visitors are encouraged to use the City’s Trolley or Freebee services to travel between galleries\, and to explore all the dining and activities that Coral Gables has to offer! \nVisit the City of Coral Gables\, the City Beautiful’s website to learn more about Gables Gallery Night: https://www.coralgables.com/events/gables-gallery-night \n  \nPedrido Art Gallery \n  \nCernuda Arte
URL:https://www.themiamiartscene.com/event/city-of-coral-gables-gallery-night/
LOCATION:Downtown Coral Gables\, Coral Gables\, FL\, 33134\, United States
ATTACH;FMTTYPE=image/jpeg:https://www.themiamiartscene.com/wp-content/uploads/2026/03/CCG_Approved_1080x1350-scaled.jpg
END:VEVENT
END:VCALENDAR