BEGIN:VCALENDAR
VERSION:2.0
PRODID:-//Miami Art Scene™ - ECPv6.15.20//NONSGML v1.0//EN
CALSCALE:GREGORIAN
METHOD:PUBLISH
X-ORIGINAL-URL:https://www.themiamiartscene.com
X-WR-CALDESC:Events for Miami Art Scene™
REFRESH-INTERVAL;VALUE=DURATION:PT1H
X-Robots-Tag:noindex
X-PUBLISHED-TTL:PT1H
BEGIN:VTIMEZONE
TZID:America/New_York
BEGIN:DAYLIGHT
TZOFFSETFROM:-0500
TZOFFSETTO:-0400
TZNAME:EDT
DTSTART:20250309T070000
END:DAYLIGHT
BEGIN:STANDARD
TZOFFSETFROM:-0400
TZOFFSETTO:-0500
TZNAME:EST
DTSTART:20251102T060000
END:STANDARD
BEGIN:DAYLIGHT
TZOFFSETFROM:-0500
TZOFFSETTO:-0400
TZNAME:EDT
DTSTART:20260308T070000
END:DAYLIGHT
BEGIN:STANDARD
TZOFFSETFROM:-0400
TZOFFSETTO:-0500
TZNAME:EST
DTSTART:20261101T060000
END:STANDARD
BEGIN:DAYLIGHT
TZOFFSETFROM:-0500
TZOFFSETTO:-0400
TZNAME:EDT
DTSTART:20270314T070000
END:DAYLIGHT
BEGIN:STANDARD
TZOFFSETFROM:-0400
TZOFFSETTO:-0500
TZNAME:EST
DTSTART:20271107T060000
END:STANDARD
END:VTIMEZONE
BEGIN:VEVENT
DTSTART;TZID=America/New_York:20260409T103000
DTEND;TZID=America/New_York:20260409T123000
DTSTAMP:20260423T163902
CREATED:20260317T211534Z
LAST-MODIFIED:20260317T211534Z
UID:26282-1775730600-1775737800@www.themiamiartscene.com
SUMMARY:The Official Art Deco Walking Tour by The Miami Design Preservation League
DESCRIPTION:Thursday\, April 9th from 10:30am – 12:30pm experience the Official Art Deco District Walking Tour presented by the Miami Design Preservation League. This 1.5 to 2-hour walking tour provides an introduction to the Art Deco\, Mediterranean Revival\, and Miami Modern (MiMo) styles found within the Miami Beach Architectural Historic District. Explore hotels\, restaurants\, and other commercial structures with a visit to a number of interiors. Choose from select dates / PURCHASE TICKETS HERE. \nTour ticket includes free entry to the Art Deco Museum as well as 10% off at the Gift Shop.
URL:https://www.themiamiartscene.com/event/the-official-art-deco-walking-tour-by-the-miami-design-preservation-league-959/
LOCATION:Art Deco Welcome Center\, 1001 Ocean Drive\, Miami Beach\, FL\, 33139\, United States
ATTACH;FMTTYPE=image/jpeg:https://www.themiamiartscene.com/wp-content/uploads/2023/03/art-deco-walking-tours.jpg
END:VEVENT
BEGIN:VEVENT
DTSTART;TZID=America/New_York:20260409T183000
DTEND;TZID=America/New_York:20260409T183000
DTSTAMP:20260423T163902
CREATED:20260402T161252Z
LAST-MODIFIED:20260402T161252Z
UID:26506-1775759400-1775759400@www.themiamiartscene.com
SUMMARY:Bakehouse Art Complex presents In Conversation: Kinship & Care
DESCRIPTION:Thursday\, April 9th at 6:30pm enjoy In Conversation: Kinship & Care at the Bakehouse Art Complex (BAC) in Wynwood. Guests will experience an Artist Talk with Nicole Combeau\, Shawna Moulton\, & Martina Tuaty. BAC is closing out their Bakehouse at Forty talk series with In Conversation: Kinship and Care\, a panel discussion that brings together resident artists Nicole Combeau\, Shawna Moulton\, and Martina Tuaty. This Event is Free & Open to the Public | RSVP HERE. \nReflecting on the works featured in BAC’s current exhibition\, Present\, explore how otherwise distinct practices intersect around expressions of closeness. Moving through ideas of kinship and intergenerational connection\, the program considers how the artists capture resonant moments of intimacy and care.
URL:https://www.themiamiartscene.com/event/bakehouse-art-complex-presents-in-conversation-kinship-care/
LOCATION:Bakehouse Art Complex\, 561 NW 32nd Street\, Miami\, FL\, 33127\, United States
ATTACH;FMTTYPE=image/png:https://www.themiamiartscene.com/wp-content/uploads/2026/04/bac-art-talk-april-2026-e1775146355712.png
END:VEVENT
END:VCALENDAR