BEGIN:VCALENDAR
VERSION:2.0
PRODID:-//Miami Art Scene™ - ECPv6.15.20//NONSGML v1.0//EN
CALSCALE:GREGORIAN
METHOD:PUBLISH
X-ORIGINAL-URL:https://www.themiamiartscene.com
X-WR-CALDESC:Events for Miami Art Scene™
REFRESH-INTERVAL;VALUE=DURATION:PT1H
X-Robots-Tag:noindex
X-PUBLISHED-TTL:PT1H
BEGIN:VTIMEZONE
TZID:America/New_York
BEGIN:DAYLIGHT
TZOFFSETFROM:-0500
TZOFFSETTO:-0400
TZNAME:EDT
DTSTART:20240310T070000
END:DAYLIGHT
BEGIN:STANDARD
TZOFFSETFROM:-0400
TZOFFSETTO:-0500
TZNAME:EST
DTSTART:20241103T060000
END:STANDARD
BEGIN:DAYLIGHT
TZOFFSETFROM:-0500
TZOFFSETTO:-0400
TZNAME:EDT
DTSTART:20250309T070000
END:DAYLIGHT
BEGIN:STANDARD
TZOFFSETFROM:-0400
TZOFFSETTO:-0500
TZNAME:EST
DTSTART:20251102T060000
END:STANDARD
BEGIN:DAYLIGHT
TZOFFSETFROM:-0500
TZOFFSETTO:-0400
TZNAME:EDT
DTSTART:20260308T070000
END:DAYLIGHT
BEGIN:STANDARD
TZOFFSETFROM:-0400
TZOFFSETTO:-0500
TZNAME:EST
DTSTART:20261101T060000
END:STANDARD
END:VTIMEZONE
BEGIN:VEVENT
DTSTART;TZID=America/New_York:20251026T103000
DTEND;TZID=America/New_York:20251026T123000
DTSTAMP:20260424T112148
CREATED:20250924T150906Z
LAST-MODIFIED:20250924T150906Z
UID:24827-1761474600-1761481800@www.themiamiartscene.com
SUMMARY:The Official Art Deco Walking Tour by The Miami Design Preservation League
DESCRIPTION:Sunday\, October 26th from 10:30am – 12:30pm experience the Official Art Deco District Walking Tour presented by the Miami Design Preservation League. This 1.5 to 2-hour walking tour provides an introduction to the Art Deco\, Mediterranean Revival\, and Miami Modern (MiMo) styles found within the Miami Beach Architectural Historic District. Explore hotels\, restaurants\, and other commercial structures with a visit to a number of interiors. Choose from select dates / PURCHASE TICKETS HERE. \nTour ticket includes free entry to the Art Deco Museum as well as 10% off at the Gift Shop.
URL:https://www.themiamiartscene.com/event/the-official-art-deco-walking-tour-by-the-miami-design-preservation-league-791/
LOCATION:Art Deco Welcome Center\, 1001 Ocean Drive\, Miami Beach\, FL\, 33139\, United States
ATTACH;FMTTYPE=image/jpeg:https://www.themiamiartscene.com/wp-content/uploads/2022/07/art-deco-walking-tour-miami-beach3s.jpg
END:VEVENT
BEGIN:VEVENT
DTSTART;TZID=America/New_York:20251026T120000
DTEND;TZID=America/New_York:20251026T133000
DTSTAMP:20260424T112148
CREATED:20251013T191321Z
LAST-MODIFIED:20251013T191321Z
UID:24906-1761480000-1761485400@www.themiamiartscene.com
SUMMARY:NSU Art Museum: Creativity Matters – Masked Magic
DESCRIPTION:Saturday\, October 26th from 12 Noon – 1:30pm experience Creativity Matters – Masked Magic at the NSU Art Museum. Make a playful mask to cultivate mystery and intrigue inspired by masquerade traditions\, and the contemporary artist Magnhild Kennedy\, known as Damselfau. Explore identity\, revealing/concealing\, and creating a wearable action object. RSVP HERE. \nJoin award-winning teaching artist and specialist in mindfulness education\, Lark Keeler\, for Creativity Matters\, an adult art-making workshop. Discover new ways to expand creativity\, build critical thinking skills\, and explore how art can be used as an effective tool for learning and communication. \nCreativity Matters is made possible by the Conni Gordon Arts Foundation. Preregistration Required. Spaces Limited. \nDate of event: 10/26/2025\nTime: Noon – 1:30 pm\nPricing: $15 for members; $25 for non-members\nLocation: NSU Art Museum\nAges: 18+
URL:https://www.themiamiartscene.com/event/nsu-art-museum-creativity-matters-masked-magic/
LOCATION:NSU Art Museum\, One East Las Olas Boulevard\, Fort Lauderdale\, FL\, 33301\, United States
ATTACH;FMTTYPE=image/png:https://www.themiamiartscene.com/wp-content/uploads/2025/10/NSU-MASKED-MAGIC_June-CE-Event-Image.png
END:VEVENT
END:VCALENDAR