BEGIN:VCALENDAR
VERSION:2.0
PRODID:-//Miami Art Scene™ - ECPv6.15.20//NONSGML v1.0//EN
CALSCALE:GREGORIAN
METHOD:PUBLISH
X-WR-CALNAME:Miami Art Scene™
X-ORIGINAL-URL:https://www.themiamiartscene.com
X-WR-CALDESC:Events for Miami Art Scene™
REFRESH-INTERVAL;VALUE=DURATION:PT1H
X-Robots-Tag:noindex
X-PUBLISHED-TTL:PT1H
BEGIN:VTIMEZONE
TZID:America/New_York
BEGIN:DAYLIGHT
TZOFFSETFROM:-0500
TZOFFSETTO:-0400
TZNAME:EDT
DTSTART:20250309T070000
END:DAYLIGHT
BEGIN:STANDARD
TZOFFSETFROM:-0400
TZOFFSETTO:-0500
TZNAME:EST
DTSTART:20251102T060000
END:STANDARD
BEGIN:DAYLIGHT
TZOFFSETFROM:-0500
TZOFFSETTO:-0400
TZNAME:EDT
DTSTART:20260308T070000
END:DAYLIGHT
BEGIN:STANDARD
TZOFFSETFROM:-0400
TZOFFSETTO:-0500
TZNAME:EST
DTSTART:20261101T060000
END:STANDARD
BEGIN:DAYLIGHT
TZOFFSETFROM:-0500
TZOFFSETTO:-0400
TZNAME:EDT
DTSTART:20270314T070000
END:DAYLIGHT
BEGIN:STANDARD
TZOFFSETFROM:-0400
TZOFFSETTO:-0500
TZNAME:EST
DTSTART:20271107T060000
END:STANDARD
END:VTIMEZONE
BEGIN:VEVENT
DTSTART;TZID=America/New_York:20260205T103000
DTEND;TZID=America/New_York:20260205T123000
DTSTAMP:20260423T145330
CREATED:20260129T224450Z
LAST-MODIFIED:20260129T224450Z
UID:25858-1770287400-1770294600@www.themiamiartscene.com
SUMMARY:The Official Art Deco Walking Tour by The Miami Design Preservation League
DESCRIPTION:Thursday\, February 5th from 10:30am – 12:30pm experience the Official Art Deco District Walking Tour presented by the Miami Design Preservation League. This 1.5 to 2-hour walking tour provides an introduction to the Art Deco\, Mediterranean Revival\, and Miami Modern (MiMo) styles found within the Miami Beach Architectural Historic District. Explore hotels\, restaurants\, and other commercial structures with a visit to a number of interiors. Choose from select dates / PURCHASE TICKETS HERE. \nTour ticket includes free entry to the Art Deco Museum as well as 10% off at the Gift Shop.
URL:https://www.themiamiartscene.com/event/the-official-art-deco-walking-tour-by-the-miami-design-preservation-league-895/
LOCATION:Art Deco Welcome Center\, 1001 Ocean Drive\, Miami Beach\, FL\, 33139\, United States
ATTACH;FMTTYPE=image/jpeg:https://www.themiamiartscene.com/wp-content/uploads/2023/02/art-deco-buildings-miami-beach.jpg
END:VEVENT
BEGIN:VEVENT
DTSTART;TZID=America/New_York:20260205T110000
DTEND;TZID=America/New_York:20260205T190000
DTSTAMP:20260423T145330
CREATED:20260131T222713Z
LAST-MODIFIED:20260131T222713Z
UID:25886-1770289200-1770318000@www.themiamiartscene.com
SUMMARY:NSU Art Museum presents Free First Thursday with All Day Mini Muse
DESCRIPTION:Thursday\, February 5th from 11am – 7pm experience Free First Thursday with All Day Mini Muse at NSU Art Museum in Fort Lauderdale. Enjoy FREE Museum admission and 2-for-1 All Day Happy Hour on the first Thursday of every month from 11 am to 7 pm during Free First Thursday Sunny Days/Starry Nights.  This Event is FREE & Open to the Public. \nALL DAY MINI MUSE: 11am – 6:30pm \nNSU Art Museum is thrilled to collaborate with Art History in the Park for an all-day Mini Muse! \n11 am – 6:30 pm: Drop-In Art-Making – Surrounded Islands Weaving Project\n11 am – 6:30 pm: Art & Seek Scavenger Hunts\n11 am | 1 pm | 3 pm: Family Tours\nNoon: Public Tour – Highlights of the Museum \nAll are welcome to join\, free of charge!
URL:https://www.themiamiartscene.com/event/nsu-art-museum-presents-free-first-thursday-with-all-day-mini-muse/
LOCATION:NSU Art Museum\, One East Las Olas Boulevard\, Fort Lauderdale\, FL\, 33301\, United States
ATTACH;FMTTYPE=image/png:https://www.themiamiartscene.com/wp-content/uploads/2026/01/NSU-free-first-thursdays.png
END:VEVENT
BEGIN:VEVENT
DTSTART;TZID=America/New_York:20260205T190000
DTEND;TZID=America/New_York:20260205T203000
DTSTAMP:20260423T145330
CREATED:20260121T200014Z
LAST-MODIFIED:20260121T200053Z
UID:25838-1770318000-1770323400@www.themiamiartscene.com
SUMMARY:PAMM Scholl Lecture Series: Zak Ové in conversation
DESCRIPTION:Thursday\, February 5th from 7 – 8:30pm enjoy the Scholl Lecture Series: Zak Ové in conversation at PAMM. Experience the Scholl Lecture Series\, celebrating the most compelling cultural voices of our time\, with acclaimed multidisciplinary artist Zak Ové in conversation with Grace Aneiza Ali\, a Guyanese-born curator\, writer\, and professor at the Pérez Art Museum Miami (PAMM). RSVP HERE. \nPresented in collaboration with the Miami Design District\, this special program brings together Caribbean art\, culture\, and community as part of Pérez Art Museum Miami’s (PAMM) ongoing commitment to advancing Caribbean art scholarship through the Green Family Foundation Caribbean Cultural Institute. \nA leading force in contemporary art today\, and part of the PAMM collection\, Ové will discuss his work and practice. In Miami\, Ové presents two of his most powerful monumental works\, The Mothership Connection and The Invisible Man and the Masque of Blackness\, as part of J’OUVERT: Zak Ové in the Miami Design District. The public art project transforms Jungle Plaza into an immersive landscape where Afrofuturist imagination\, ancestral memory\, ritual\, and public space intersect. \nOn view from January 15 through February 9\, the installation invites audiences to experience Ové’s sculptural language at an architectural scale—one that speaks to history\, identity\, and collective presence. \n  \nIMAGE: Zak Ové\, The Invisible Man and the Masque of Blackness (2016)\, Yorkshire Sculpture Park\, 2018.
URL:https://www.themiamiartscene.com/event/pamm-scholl-lecture-series-zak-ove-in-conversation/
LOCATION:Pérez Art Museum Miami\, 1103 Biscayne Boulevard\, Miami\, FL\, 33132\, United States
ATTACH;FMTTYPE=image/png:https://www.themiamiartscene.com/wp-content/uploads/2026/01/pamm-zak.png
END:VEVENT
END:VCALENDAR