BEGIN:VCALENDAR
VERSION:2.0
PRODID:-//Miami Art Scene™ - ECPv6.15.20//NONSGML v1.0//EN
CALSCALE:GREGORIAN
METHOD:PUBLISH
X-WR-CALNAME:Miami Art Scene™
X-ORIGINAL-URL:https://www.themiamiartscene.com
X-WR-CALDESC:Events for Miami Art Scene™
REFRESH-INTERVAL;VALUE=DURATION:PT1H
X-Robots-Tag:noindex
X-PUBLISHED-TTL:PT1H
BEGIN:VTIMEZONE
TZID:America/New_York
BEGIN:DAYLIGHT
TZOFFSETFROM:-0500
TZOFFSETTO:-0400
TZNAME:EDT
DTSTART:20250309T070000
END:DAYLIGHT
BEGIN:STANDARD
TZOFFSETFROM:-0400
TZOFFSETTO:-0500
TZNAME:EST
DTSTART:20251102T060000
END:STANDARD
BEGIN:DAYLIGHT
TZOFFSETFROM:-0500
TZOFFSETTO:-0400
TZNAME:EDT
DTSTART:20260308T070000
END:DAYLIGHT
BEGIN:STANDARD
TZOFFSETFROM:-0400
TZOFFSETTO:-0500
TZNAME:EST
DTSTART:20261101T060000
END:STANDARD
BEGIN:DAYLIGHT
TZOFFSETFROM:-0500
TZOFFSETTO:-0400
TZNAME:EDT
DTSTART:20270314T070000
END:DAYLIGHT
BEGIN:STANDARD
TZOFFSETFROM:-0400
TZOFFSETTO:-0500
TZNAME:EST
DTSTART:20271107T060000
END:STANDARD
END:VTIMEZONE
BEGIN:VEVENT
DTSTART;TZID=America/New_York:20260326T103000
DTEND;TZID=America/New_York:20260326T123000
DTSTAMP:20260423T132303
CREATED:20260216T000819Z
LAST-MODIFIED:20260216T000819Z
UID:26044-1774521000-1774528200@www.themiamiartscene.com
SUMMARY:The Official Art Deco Walking Tour by The Miami Design Preservation League
DESCRIPTION:Thursday\, March 26th from 10:30am – 12:30pm experience the Official Art Deco District Walking Tour presented by the Miami Design Preservation League. This 1.5 to 2-hour walking tour provides an introduction to the Art Deco\, Mediterranean Revival\, and Miami Modern (MiMo) styles found within the Miami Beach Architectural Historic District. Explore hotels\, restaurants\, and other commercial structures with a visit to a number of interiors. Choose from select dates / PURCHASE TICKETS HERE. \nTour ticket includes free entry to the Art Deco Museum as well as 10% off at the Gift Shop.
URL:https://www.themiamiartscene.com/event/the-official-art-deco-walking-tour-by-the-miami-design-preservation-league-948/
LOCATION:Art Deco Welcome Center\, 1001 Ocean Drive\, Miami Beach\, FL\, 33139\, United States
ATTACH;FMTTYPE=image/jpeg:https://www.themiamiartscene.com/wp-content/uploads/2024/06/art-deco-miami-beach-leslie.jpeg
END:VEVENT
BEGIN:VEVENT
DTSTART;TZID=America/New_York:20260326T180000
DTEND;TZID=America/New_York:20260326T193000
DTSTAMP:20260423T132303
CREATED:20260319T004805Z
LAST-MODIFIED:20260325T234010Z
UID:26386-1774548000-1774553400@www.themiamiartscene.com
SUMMARY:Boca Raton Museum of Art presents Public by Design: Net-Art\, NFTs\, & the Democratization of Digital Art
DESCRIPTION:Thursday\, March 26th from 6 – 7:30pm Boca Raton Museum of Art presents Public by Design: Net-Art\, NFTs\, & the Democratization of Digital Art. This panel talk will explore the evolution of net-art\, an avant-garde movement rooted in the open architecture of the internet and its complex\, often ambivalent relationship with NFTs and digital ownership. Net-art emerged with a radical premise in which art created on and for the internet should remain publicly accessible\, ephemeral\, and non-commodified. The discussion will take place in person for attending audiences\, with select panelists joining virtually as part of a hybrid format. See link for details. \nThis program is organized and presented in partnership with the Lynn NFT Art Museum and the Loop Art Critique. Panelists: Rodolfo Peraza\, Vuk Ćosić\, Rhea Myers. Moderator: Ariel Baron-Robbins. \n  \nImage: Vuk Ćosić\, “Documenta Done (Reaction Video Essay)” (detail). Courtesy of the Artist.\nPanelists\nRodolfo Peraza\nodolfo Peraza is a Cuban-born\, U.S.-based\, tech-centered artist. His work focuses on virtual and physical public spaces\, XR\, and data visualization. Founder of the MUD Foundation Inc. in Miami (2017)\, established to support and develop tech-centered arts programs and lower barriers to accessing immersive technology in arts and education. Peraza’s work has been exhibited widely\, including at SIGGRAPH LA and the Pérez Art Museum. His work is in the permanent collections of the AGO Museum (CA) and the Jumex Collection (Mexico). He was awarded the Cannonball Wavemaker Grant and the Knight Arts + Tech Fellowship in 2021. \nVuk Ćosić\nFounding figure of net-art\, credited with coining the term “net.art” in the 1990s. Known for conceptual works such as ASCII remakes of blockbuster films and early browser interventions\, Ćosić has consistently critiqued technological hype and institutional commodification. He brings historical grounding and a philosophical perspective on net-art’s ethos of openness in contrast to NFT-driven scarcity. \nRhea Myers\nArtist\, hacker\, and writer originally from the UK and now based in British Columbia. Since 2014\, her practice has focused on blockchain as both medium and metaphor\, using raw transactions\, smart contracts\, and ERC-721 tokens to probe ownership\, property\, and the anxieties of digital control. Myers has exhibited internationally at venues including the ArtScience Museum (Singapore)\, Kunsthalle Zürich\, Sotheby’s London\, and Chronus Art Centre (Shanghai). \nModerator\nAriel Baron-Robbins\nInterdisciplinary artist and professor of animation at Florida International University. Creator of Loop Art Critique\, a metaverse-based\, anonymously juried residency for digital artists\, and curator of the Lynn NFT Museum at the Boca Raton Innovation Campus. She has organized panels and exhibitions including What to Call Digital Art Now? and Art on BRiC Walls\, bridging experimental practice with public discourse. \n 
URL:https://www.themiamiartscene.com/event/boca-raton-museum-of-art-presents-public-by-design-net-art-nfts-the-democratization-of-digital-art/
LOCATION:Boca Raton Museum of Art\, 501 Plaza Real\, Boca Raton\, FL\, 33432\, United States
ATTACH;FMTTYPE=image/png:https://www.themiamiartscene.com/wp-content/uploads/2026/03/boca-nfts.png
END:VEVENT
END:VCALENDAR