BEGIN:VCALENDAR
VERSION:2.0
PRODID:-//Miami Art Scene™ - ECPv6.15.20//NONSGML v1.0//EN
CALSCALE:GREGORIAN
METHOD:PUBLISH
X-WR-CALNAME:Miami Art Scene™
X-ORIGINAL-URL:https://www.themiamiartscene.com
X-WR-CALDESC:Events for Miami Art Scene™
REFRESH-INTERVAL;VALUE=DURATION:PT1H
X-Robots-Tag:noindex
X-PUBLISHED-TTL:PT1H
BEGIN:VTIMEZONE
TZID:America/New_York
BEGIN:DAYLIGHT
TZOFFSETFROM:-0500
TZOFFSETTO:-0400
TZNAME:EDT
DTSTART:20250309T070000
END:DAYLIGHT
BEGIN:STANDARD
TZOFFSETFROM:-0400
TZOFFSETTO:-0500
TZNAME:EST
DTSTART:20251102T060000
END:STANDARD
BEGIN:DAYLIGHT
TZOFFSETFROM:-0500
TZOFFSETTO:-0400
TZNAME:EDT
DTSTART:20260308T070000
END:DAYLIGHT
BEGIN:STANDARD
TZOFFSETFROM:-0400
TZOFFSETTO:-0500
TZNAME:EST
DTSTART:20261101T060000
END:STANDARD
BEGIN:DAYLIGHT
TZOFFSETFROM:-0500
TZOFFSETTO:-0400
TZNAME:EDT
DTSTART:20270314T070000
END:DAYLIGHT
BEGIN:STANDARD
TZOFFSETFROM:-0400
TZOFFSETTO:-0500
TZNAME:EST
DTSTART:20271107T060000
END:STANDARD
END:VTIMEZONE
BEGIN:VEVENT
DTSTART;TZID=America/New_York:20260322T150000
DTEND;TZID=America/New_York:20260322T160000
DTSTAMP:20260423T164005
CREATED:20260318T032911Z
LAST-MODIFIED:20260318T032911Z
UID:26363-1774191600-1774195200@www.themiamiartscene.com
SUMMARY:Boca Raton Museum of Art presents Renaissance Art Conversations – "A man within a woman": Vittoria Colonna and Michelangelo’s Friendship
DESCRIPTION:Sunday\, March 22nd from 3 – 4pm the Boca Raton Museum of Art presents Renaissance Art Conversations – “A man within a woman”: Vittoria Colonna and Michelangelo’s Friendship. \nMichelangelo met the noble widow and poet Vittoria Colonna sometime in the late 1530s in Rome. An intense spiritual and intellectual relationship blossomed between the unlikely pair as they exchanged letters\, sonnets\, and drawings for nearly a decade until Colonna’s death in 1547. This talk will explore their relationship and the works of art that resulted from it as Michelangelo sought to honor the friend he called “A man within a woman.” \nDr. Emily Fenichel is Associate Professor of Art History at Florida Atlantic University. She is the author of Michelangelo’s Art of Devotion in the Age of Reform\, which was published by Cambridge University Press in 2023. She has also published articles on various aspects of Michelangelo’s life and career\, from the Pietà to the artist’s portrait medal. Currently\, she is researching and writing her second book on Michelangelo’s images of women. \nMembers – Adult: $0.00\nNon-Members – Adult: $18.00 \nMuseum admission included with ticket. \n 
URL:https://www.themiamiartscene.com/event/boca-raton-museum-of-art-presents-renaissance-art-conversations-a-man-within-a-woman-vittoria-colonna-and-michelangelos-friendship/
LOCATION:Boca Raton Museum of Art\, 501 Plaza Real\, Boca Raton\, FL\, 33432\, United States
ATTACH;FMTTYPE=image/jpeg:https://www.themiamiartscene.com/wp-content/uploads/2026/03/boca-renaissance-art-conversations.jpeg
END:VEVENT
END:VCALENDAR