BEGIN:VCALENDAR
VERSION:2.0
PRODID:-//Miami Art Scene™ - ECPv6.15.20//NONSGML v1.0//EN
CALSCALE:GREGORIAN
METHOD:PUBLISH
X-ORIGINAL-URL:https://www.themiamiartscene.com
X-WR-CALDESC:Events for Miami Art Scene™
REFRESH-INTERVAL;VALUE=DURATION:PT1H
X-Robots-Tag:noindex
X-PUBLISHED-TTL:PT1H
BEGIN:VTIMEZONE
TZID:America/New_York
BEGIN:DAYLIGHT
TZOFFSETFROM:-0500
TZOFFSETTO:-0400
TZNAME:EDT
DTSTART:20250309T070000
END:DAYLIGHT
BEGIN:STANDARD
TZOFFSETFROM:-0400
TZOFFSETTO:-0500
TZNAME:EST
DTSTART:20251102T060000
END:STANDARD
BEGIN:DAYLIGHT
TZOFFSETFROM:-0500
TZOFFSETTO:-0400
TZNAME:EDT
DTSTART:20260308T070000
END:DAYLIGHT
BEGIN:STANDARD
TZOFFSETFROM:-0400
TZOFFSETTO:-0500
TZNAME:EST
DTSTART:20261101T060000
END:STANDARD
BEGIN:DAYLIGHT
TZOFFSETFROM:-0500
TZOFFSETTO:-0400
TZNAME:EDT
DTSTART:20270314T070000
END:DAYLIGHT
BEGIN:STANDARD
TZOFFSETFROM:-0400
TZOFFSETTO:-0500
TZNAME:EST
DTSTART:20271107T060000
END:STANDARD
END:VTIMEZONE
BEGIN:VEVENT
DTSTART;TZID=America/New_York:20260425T110000
DTEND;TZID=America/New_York:20260425T160000
DTSTAMP:20260423T095339
CREATED:20260318T032012Z
LAST-MODIFIED:20260318T032012Z
UID:26357-1777114800-1777132800@www.themiamiartscene.com
SUMMARY:Boca Raton Museum of Art: Creation Station – The Little Moments
DESCRIPTION:Saturday\, April 25th from 11am – 4pm enjoy Creation Station – The Little Moments at the Boca Raton Museum of Art. Offered monthly on Saturdays\, Creation Station is a drop-in program featuring an art activity inspired by artworks currently on view. Start your visit with a fun gallery exploration using kid-friendly prompts and activity aids that highlight a featured artwork. Then head to the studio to create your own piece using a variety of materials and techniques. Each month brings a new theme to keep things fresh\, creative\, and connected to the exhibitions. Designed for children ages 5 and up. No preregistration required—just bring your imagination! \nIn April\, families will explore Eduardo Chacon: Postcards to Nowhere\, noticing how the artist captures the special and fleeting moments of everyday life. After spending time in the galleries\, participants will create their own candid portraits of each other\, focusing on quick observations and simple drawing techniques. The activity offers a fun way for families to sketch each other and enjoy the small\, familiar moments they notice along the way. \n  \nIMAGE: Eduardo Chacon\, “Gazing at Dusk” (detail)\, 2022 (printed 2023). Courtesy of the Artist.
URL:https://www.themiamiartscene.com/event/boca-raton-museum-of-art-creation-station-the-little-moments/
LOCATION:Boca Raton Museum of Art\, 501 Plaza Real\, Boca Raton\, FL\, 33432\, United States
ATTACH;FMTTYPE=image/jpeg:https://www.themiamiartscene.com/wp-content/uploads/2026/03/Creation-Station-04.jpeg
END:VEVENT
BEGIN:VEVENT
DTSTART;TZID=America/New_York:20260426T120000
DTEND;TZID=America/New_York:20260426T170000
DTSTAMP:20260423T095339
CREATED:20260413T001353Z
LAST-MODIFIED:20260413T001353Z
UID:26598-1777204800-1777222800@www.themiamiartscene.com
SUMMARY:NSU Art Museum: FREE Fort Lauderdale Neighbor Day
DESCRIPTION:Sunday\, April 26th from 12 – 5pm enjoy NSU Art Museum‘s FREE Fort Lauderdale Neighbor Day. Every LAST Sunday of every month\, Fort Lauderdale residents receive FREE admission to NSU Art Museum as part of Fort Lauderdale Neighbor Days. RSVP HERE. \nFort Lauderdale Residents Receive: \n2-for-1 Wine in the Museum Café\nFREE admission\, residents must show a photo ID\, driver’s license\, or residential utility bill with proof of Fort Lauderdale address.\nVisit the Museum Cafe & Store and receive 10% off books published by NSU Art Museum.\nFort Lauderdale Neighbor Day is made possible by the City of Fort Lauderdale.
URL:https://www.themiamiartscene.com/event/nsu-art-museum-free-fort-lauderdale-neighbor-day-39/
LOCATION:NSU Art Museum\, One East Las Olas Boulevard\, Fort Lauderdale\, FL\, 33301\, United States
ATTACH;FMTTYPE=image/png:https://www.themiamiartscene.com/wp-content/uploads/2026/03/2026-NSU-neighbor-.png
END:VEVENT
BEGIN:VEVENT
DTSTART;TZID=America/New_York:20260426T120000
DTEND;TZID=America/New_York:20260426T170000
DTSTAMP:20260423T095339
CREATED:20260417T164134Z
LAST-MODIFIED:20260417T164134Z
UID:26618-1777204800-1777222800@www.themiamiartscene.com
SUMMARY:NSU Art Museum: Rob Pruitt’s Flea Market
DESCRIPTION:Saturday\, April 26th from 12 – 5pm NSU Art Museum Fort Lauderdale brings Rob Pruitt’s Flea Market back to Fort Lauderdale for its encore on Sunday\, April 26. The internationally renowned contemporary artist has been staging his nomadic flea markets around the world since 1999\, in locations from New York to London’s Tate Gallery and at NSU Art Museum in 2021. Pruitt is inviting local artists to sell their art and wares during the one-day happening\, which will be held at NSU Art Museum (One East Las Olas Blvd.\, Fort Lauderdale\, FL). RSVP HERE. \nTaking the form of a traditional open-air bazaar\, Rob Pruitt’s Flea Market is an opportunity to meet artists and take home an original artwork in a relaxed atmosphere. By highlighting bartering and haggling as both economic and performative\, and featuring a diverse array of goods from artwork to housewares\, Pruitt’s Flea Market blurs the line between art and commerce. \nNoon – 5 pm\nAdmission is free to the public.\nArtist Participation is by invitation only.
URL:https://www.themiamiartscene.com/event/nsu-art-museum-rob-pruitts-flea-market-2/
LOCATION:NSU Art Museum\, One East Las Olas Boulevard\, Fort Lauderdale\, FL\, 33301\, United States
ATTACH;FMTTYPE=image/jpeg:https://www.themiamiartscene.com/wp-content/uploads/2026/04/NSU-Art-Museum_Market.jpeg
END:VEVENT
END:VCALENDAR