BEGIN:VCALENDAR
VERSION:2.0
PRODID:-//Miami Art Scene™ - ECPv6.15.20//NONSGML v1.0//EN
CALSCALE:GREGORIAN
METHOD:PUBLISH
X-ORIGINAL-URL:https://www.themiamiartscene.com
X-WR-CALDESC:Events for Miami Art Scene™
REFRESH-INTERVAL;VALUE=DURATION:PT1H
X-Robots-Tag:noindex
X-PUBLISHED-TTL:PT1H
BEGIN:VTIMEZONE
TZID:America/New_York
BEGIN:DAYLIGHT
TZOFFSETFROM:-0500
TZOFFSETTO:-0400
TZNAME:EDT
DTSTART:20240310T070000
END:DAYLIGHT
BEGIN:STANDARD
TZOFFSETFROM:-0400
TZOFFSETTO:-0500
TZNAME:EST
DTSTART:20241103T060000
END:STANDARD
BEGIN:DAYLIGHT
TZOFFSETFROM:-0500
TZOFFSETTO:-0400
TZNAME:EDT
DTSTART:20250309T070000
END:DAYLIGHT
BEGIN:STANDARD
TZOFFSETFROM:-0400
TZOFFSETTO:-0500
TZNAME:EST
DTSTART:20251102T060000
END:STANDARD
BEGIN:DAYLIGHT
TZOFFSETFROM:-0500
TZOFFSETTO:-0400
TZNAME:EDT
DTSTART:20260308T070000
END:DAYLIGHT
BEGIN:STANDARD
TZOFFSETFROM:-0400
TZOFFSETTO:-0500
TZNAME:EST
DTSTART:20261101T060000
END:STANDARD
END:VTIMEZONE
BEGIN:VEVENT
DTSTART;TZID=America/New_York:20250710T120000
DTEND;TZID=America/New_York:20250713T180000
DTSTAMP:20260425T124306
CREATED:20250618T022806Z
LAST-MODIFIED:20250618T022806Z
UID:24010-1752148800-1752429600@www.themiamiartscene.com
SUMMARY:Preview New Works by Renowned Glass Artist Abby Modell at Hamptons Fine Art Fair Booth #242
DESCRIPTION:Thursday\, July 10th through Sunday\, July 13th art lovers and collectors are invited to preview new works by acclaimed glass artist Abby Modell at the Hamptons Fine Art Fair\, taking place at the Southampton Fairgrounds\, Booth #242. Guests will enjoy the VIP Opening on Thursday\, July 10th from 12:00pm – 9:30pm. \nAbby Modell’s ‘Galaxy Collection’ expresses the complexity and beauty of the universe. Her spectacular world of handmade glass sculptural objects\, wall art assemblages and LED lighting focuses on modern forms\, refracted light and contemporary design. Abby takes her creations to a new dazzling and dreamy dimension. Let your imagination guide you on this creative journey. \n  \n\n\nShow Hours\n\n\n\n\nVIP Opening: Thursday\, July 10:\nVIP “First-Look” Opening Preview: 12-5pm– Benefits Guild Hall\nVIP Opening Preview Evening: 5-9:30pm – Benefits Parrish Art Museum \nVIP Collectors Day Opening: Friday\, July 11:\nEarly Session: 11am-3pm; Late Session: 3-7pm \n\n\n\n\n\n\n\n\n\nGeneral Admission:\nSaturday\, July 12: Early Session: 11am-3pm; Late Session: 3-7pm\nSunday\, July 13: Early Session: 11am-3pm; Late Session: 3-6pm
URL:https://www.themiamiartscene.com/event/preview-new-works-by-renowned-glass-artist-abby-modell-at-hamptons-fine-art-fair-booth-242/
LOCATION:Southampton Fairgounds\, 605 County Road 39\, Southampton\, NY\, 11968\, United States
ATTACH;FMTTYPE=image/jpeg:https://www.themiamiartscene.com/wp-content/uploads/2025/06/ABBY-Modell-hamptons-fine-art-fair-1-e1750213441107.jpeg
END:VEVENT
BEGIN:VEVENT
DTSTART;TZID=America/New_York:20250711T170000
DTEND;TZID=America/New_York:20250711T200000
DTSTAMP:20260425T124306
CREATED:20250626T161235Z
LAST-MODIFIED:20250626T161235Z
UID:24103-1752253200-1752264000@www.themiamiartscene.com
SUMMARY:Renowned Glass Artist Abby Modell Featured in the Inaugural Medici Museum Exhibition 'ZODIAC: Mysterious Power of the Creative'\, VIP Panel & Reception
DESCRIPTION:Friday\, July 11th from 5-8pm art collectors and aficionados are cordially invited to experience renowned glass artist Abby Modell in the exhibition\, ZODIAC: Mysterious Power of the Creative\, at the Medici Museum of Art. Her luminous sculptural works bring a cosmic elegance to this star-studded group show\, presented by the Feuerman Sculpture Foundation. Curated by Katelyn Amendolara-Russo\, Executive Director of the Medici Museum\, this groundbreaking show explores the astrological\, psychological\, and symbolic dimensions of creativity through contemporary art.\nThe exhibition brings together emerging and established artists who interpret the mystical power of the zodiac in bold and unexpected ways—through sculpture\, painting\, and multimedia. Rather than focusing on specific zodiac signs\, the selected works reflect a broader engagement with celestial forces and spiritual intuition.\nFeatured Artists and Panelists:\n● Abetomiwa Gbadebo\n● Carole A. Feuerman\n● Donna Dodson\n● Pilar Zeta\n● Lorenzo Quinn\n● Barbara Segal\n● Abby Modell\n● Eva Bader-Frank\n● Dan Morgan\n● Maria Pavlovska\n● Nadine A. Ghaffar
URL:https://www.themiamiartscene.com/event/renowned-glass-artist-abby-modell-featured-in-the-inaugural-medici-museum-exhibition-zodiac-mysterious-power-of-the-creative-vip-panel-reception/
LOCATION:Medici Museum of Art\, 9350 E Market Street\, Howland\, OH\, 44484\, United States
ATTACH;FMTTYPE=image/png:https://www.themiamiartscene.com/wp-content/uploads/2025/06/AModell-MediciMuseum-GalacticLollipop_151144-2-1-e1750954262393.png
END:VEVENT
BEGIN:VEVENT
DTSTART;TZID=America/New_York:20250729T130000
DTEND;TZID=America/New_York:20250803T150000
DTSTAMP:20260425T124306
CREATED:20250723T005737Z
LAST-MODIFIED:20250723T005737Z
UID:24310-1753794000-1754233200@www.themiamiartscene.com
SUMMARY:Intersect Aspen 2025
DESCRIPTION:Tuesday\, July 29th through Sunday\, August 3rd experience Intersect Aspen Art + Design Fair taking place at Aspen Ice Garden. PURCHASE TICKETS HERE. \nAspen comes alive in the summer with visitors flocking to the high mountain town to escape the heat and humidity found elsewhere. Intersect Aspen offers an intimate\, curated setting for visitors to encounter modern and contemporary art and design presented by galleries from around the world. This boutique fair is timed during Aspen’s peak art season\, attracting top collectors to the region for one of the art world’s most influential weekends of the year. \n\nHours\nVIP Preview \nTuesday\, July 29: 1 – 6 pm (1 – 3 pm VIP/All Access Pass only) \nGeneral Admission \nTuesday\, July 29: 3 – 6 pm\nWednesday\, July 30: 11 am – 6 pm\nThursday\, July 31: 11 am – 6 pm\nFriday\, August 1: 11 am – 6 pm\nSaturday\, August 2: 11 am – 6 pm (3:30 – 6 pm Crescendo Party)\nSunday\, August 3: 11 am – 3 pm
URL:https://www.themiamiartscene.com/event/intersect-aspen-2025/
LOCATION:Aspen Ice Garden\, 233 W Hyman Avenue\, Aspen\, CO\, 81611\, United States
ATTACH;FMTTYPE=image/jpeg:https://www.themiamiartscene.com/wp-content/uploads/2025/07/intersect-aspen-e1753232203430.jpeg
END:VEVENT
BEGIN:VEVENT
DTSTART;TZID=America/New_York:20250729T180000
DTEND;TZID=America/New_York:20250729T200000
DTSTAMP:20260425T124306
CREATED:20250722T150412Z
LAST-MODIFIED:20250722T150412Z
UID:24293-1753812000-1753819200@www.themiamiartscene.com
SUMMARY:KDR presents 'Florida Room: IV' Closing Event
DESCRIPTION:Tuesday\, July 29th from 6 – 8pm enjoy the closing reception for Florida Room: IV at KDR. In collaboration with the artists family\, all are welcome for a walkthrough to explore Elisa Arimany’s life and work in celebration of the closing of Florida Room: IV.
URL:https://www.themiamiartscene.com/event/kdr-presents-florida-room-iv-closing-event/
LOCATION:KDR\, 790 NW 22nd Street\, Miami\, FL\, 33127\, United States
ATTACH;FMTTYPE=image/gif:https://www.themiamiartscene.com/wp-content/uploads/2025/07/kdr-closing.gif
END:VEVENT
END:VCALENDAR