BEGIN:VCALENDAR
VERSION:2.0
PRODID:-//Miami Art Scene™ - ECPv6.15.20//NONSGML v1.0//EN
CALSCALE:GREGORIAN
METHOD:PUBLISH
X-WR-CALNAME:Miami Art Scene™
X-ORIGINAL-URL:https://www.themiamiartscene.com
X-WR-CALDESC:Events for Miami Art Scene™
REFRESH-INTERVAL;VALUE=DURATION:PT1H
X-Robots-Tag:noindex
X-PUBLISHED-TTL:PT1H
BEGIN:VTIMEZONE
TZID:America/New_York
BEGIN:DAYLIGHT
TZOFFSETFROM:-0500
TZOFFSETTO:-0400
TZNAME:EDT
DTSTART:20250309T070000
END:DAYLIGHT
BEGIN:STANDARD
TZOFFSETFROM:-0400
TZOFFSETTO:-0500
TZNAME:EST
DTSTART:20251102T060000
END:STANDARD
BEGIN:DAYLIGHT
TZOFFSETFROM:-0500
TZOFFSETTO:-0400
TZNAME:EDT
DTSTART:20260308T070000
END:DAYLIGHT
BEGIN:STANDARD
TZOFFSETFROM:-0400
TZOFFSETTO:-0500
TZNAME:EST
DTSTART:20261101T060000
END:STANDARD
BEGIN:DAYLIGHT
TZOFFSETFROM:-0500
TZOFFSETTO:-0400
TZNAME:EDT
DTSTART:20270314T070000
END:DAYLIGHT
BEGIN:STANDARD
TZOFFSETFROM:-0400
TZOFFSETTO:-0500
TZNAME:EST
DTSTART:20271107T060000
END:STANDARD
END:VTIMEZONE
BEGIN:VEVENT
DTSTART;TZID=America/New_York:20260214T100000
DTEND;TZID=America/New_York:20260216T170000
DTSTAMP:20260423T180046
CREATED:20260210T171713Z
LAST-MODIFIED:20260210T191938Z
UID:25958-1771063200-1771261200@www.themiamiartscene.com
SUMMARY:62nd Annual Coconut Grove Arts Festival
DESCRIPTION:Saturday\, February 14th through Monday\, February 16th experience the 62nd Annual Coconut Grove Arts Festival during Presidents Day Weekend 2026. The three-day outdoor art festival focuses on one thing: world-class art. But\, the festival is not just about art though\, CGAF offers something for everyone with culinary displays\, live performances\, and family areas to keep your team busy while you peruse all the art! Held every Presidents’ Day Weekend\, the Arts Festival is one of the nation’s premier arts festivals and is hosted in the charming waterfront village of Coconut Grove\, Florida. More than 360 internationally-recognized and jury-selected artists showcase their spectacular works with Biscayne Bay as the backdrop. You are invited to visit the Arts Festival this February and learn why they’ve been at the top of everyone’s list for 62 years. Learn more here: www.cgaf.com \nSat\, Feb 14: 10AM – 6PM\nSun\, Feb 15: 10AM – 6PM\nMon\, Feb 16: 10AM – 5PM \nThe Festival is located just south of downtown Miami\, adjacent to beautiful Biscayne Bay. It runs along the streets of McFarlane Road\, South Bayshore Drive and Pan American Drive. \nPresented by First Horizon Bank. \n 
URL:https://www.themiamiartscene.com/event/62-annual-coconut-grove-festival/
ATTACH;FMTTYPE=image/jpeg:https://www.themiamiartscene.com/wp-content/uploads/2026/02/coconut-grove-art-festival-2026.jpeg
END:VEVENT
BEGIN:VEVENT
DTSTART;TZID=America/New_York:20260219T200000
DTEND;TZID=America/New_York:20260219T230000
DTSTAMP:20260423T180046
CREATED:20251213T234640Z
LAST-MODIFIED:20251213T234640Z
UID:25565-1771531200-1771542000@www.themiamiartscene.com
SUMMARY:SOBEWFF: A Taste of Italy presented by Pasta Rummo hosted by Nadia Caterina Munno
DESCRIPTION:Thursday\, February 19th from 8-11pm enjoy the SOBEWFF: A Taste of Italy presented by Pasta Rummo hosted by Nadia Caterina Munno\, taking place at Jungle Plaza in the Miami Design District. Guests are invited to taste Italy like never before at an unforgettable night of Italian-inspired indulgence\, hosted by Pasta Rummo and the dynamic Nadia Caterina Munno\, also known as @The_PastaQueen. With her contagious energy\, authentic recipes\, and passion for sharing the beauty of la dolce vita\, Nadia – a two-time New York Times and international best-selling author – sets the tone for a walk-around tasting featuring a dozen all-star chefs eager to serve their Italian favorites. PURCHASE TICKETS HERE. \nShe will also be signing copies of her beloved cookbooks\, The Pasta Queen: A Just Gorgeous Cookbook and her newest release\, The Art of Italian Cooking\, giving fans a chance to connect with her world of food\, family\, and culture. From bubbly baked pastas to decadent\, reimagined classics perfect for al fresco dining\, this feast for the senses unfolds under the stars at Jungle Plaza in the Miami Design District.
URL:https://www.themiamiartscene.com/event/sobewff-a-taste-of-italy-presented-by-pasta-rummo-hosted-by-nadia-caterina-munno/
LOCATION:Jungle Plaza\, 3801 NE 1st Avenue\, Miami\, 33137
ATTACH;FMTTYPE=image/jpeg:https://www.themiamiartscene.com/wp-content/uploads/2025/12/sobewff-a-taste-of-italy-presented-by-pasta-rummo-hosted-by-nadia-caterina-_388388.jpeg
END:VEVENT
BEGIN:VEVENT
DTSTART;TZID=America/New_York:20260220T200000
DTEND;TZID=America/New_York:20260220T230000
DTSTAMP:20260423T180046
CREATED:20251214T012942Z
LAST-MODIFIED:20251214T012942Z
UID:25572-1771617600-1771628400@www.themiamiartscene.com
SUMMARY:SOBEWFF: Steak and Whiskey presented by Florida Beef Council hosted by Michael Symon
DESCRIPTION:Friday\, February 20th from 8-11pm enjoy the SOBEWFF: Steak and Whiskey presented by Florida Beef Council hosted by Michael Symon\, taking place at Jungle Plaza in the Miami Design District. Carnivores are in for a treat at this can’t-miss Festival event as chef\, TV personality\, and the King of Carnivores himself\, Michael Symon\, heads to the Design District to celebrate two great American classics -steak and whiskey. Presented by the Florida Beef Council\, this walk-around experience will sizzle as more than 20 of the country’s top chefs serve their highest-quality steak dishes and sides\, perfectly paired with smooth whiskey cocktails. PURCHASE TICKETS HERE. \nGuests can savor succulent\, expertly grilled steaks while exploring a variety of whiskeys\, each offering distinct flavors that complement the richness of the meats. It’s a sumptuous soirée under the stars\, ideal for enjoying with family and friends and guaranteed to delight every palate.
URL:https://www.themiamiartscene.com/event/sobewff-steak-and-whiskey-presented-by-florida-beef-council-hosted-by-michael-symon/
LOCATION:Jungle Plaza\, 3801 NE 1st Avenue\, Miami\, 33137
ATTACH;FMTTYPE=image/jpeg:https://www.themiamiartscene.com/wp-content/uploads/2025/12/sobewff-steak-and-whiskey-presented-by-florida-beef-council-hosted-by-micha_215245.jpeg
END:VEVENT
END:VCALENDAR