BEGIN:VCALENDAR
VERSION:2.0
PRODID:-//Miami Art Scene™ - ECPv6.15.20//NONSGML v1.0//EN
CALSCALE:GREGORIAN
METHOD:PUBLISH
X-ORIGINAL-URL:https://www.themiamiartscene.com
X-WR-CALDESC:Events for Miami Art Scene™
REFRESH-INTERVAL;VALUE=DURATION:PT1H
X-Robots-Tag:noindex
X-PUBLISHED-TTL:PT1H
BEGIN:VTIMEZONE
TZID:America/New_York
BEGIN:DAYLIGHT
TZOFFSETFROM:-0500
TZOFFSETTO:-0400
TZNAME:EDT
DTSTART:20240310T070000
END:DAYLIGHT
BEGIN:STANDARD
TZOFFSETFROM:-0400
TZOFFSETTO:-0500
TZNAME:EST
DTSTART:20241103T060000
END:STANDARD
BEGIN:DAYLIGHT
TZOFFSETFROM:-0500
TZOFFSETTO:-0400
TZNAME:EDT
DTSTART:20250309T070000
END:DAYLIGHT
BEGIN:STANDARD
TZOFFSETFROM:-0400
TZOFFSETTO:-0500
TZNAME:EST
DTSTART:20251102T060000
END:STANDARD
BEGIN:DAYLIGHT
TZOFFSETFROM:-0500
TZOFFSETTO:-0400
TZNAME:EDT
DTSTART:20260308T070000
END:DAYLIGHT
BEGIN:STANDARD
TZOFFSETFROM:-0400
TZOFFSETTO:-0500
TZNAME:EST
DTSTART:20261101T060000
END:STANDARD
END:VTIMEZONE
BEGIN:VEVENT
DTSTART;TZID=America/New_York:20250201T180000
DTEND;TZID=America/New_York:20250201T210000
DTSTAMP:20260425T224049
CREATED:20250114T031924Z
LAST-MODIFIED:20250114T031924Z
UID:22969-1738432800-1738443600@www.themiamiartscene.com
SUMMARY:Pan American Art Projects presents Purvis Young: A Visionary of Miami's Cultural Identity
DESCRIPTION:Saturday\, February 1st from 6 – 9pm art lovers and aficionados are cordially invited to experience the Opening Reception of Purvis Young: A Visionary of Miami’s Cultural Identity at Pan American Art Projects\, a solo exhibition of the celebrated artist Purvis Young. This show pays homage to the extraordinary legacy of Purvis Young\, an artist whose work has indelibly shaped the history of Miami’s art scene. The selection by curator Claudia Taboada features rarely seen works from the collection of Martin Siskind\, a close friend and long-time supporter of the artist. The exhibition is on view February 1 – March 22\, 2025. \nFrom his earliest years\, with his Goodbread Alley street display of hundreds of small paintings\, it was Young’s ambition to share his work with as many people as possible. His images cry out to be savored by a large audience\, not locked up in storage. (…) Visitors to this exhibition will be beguiled by images that look as fresh as the day they were painted. They remain forever Young. -Dr. Adrianne Von Lates
URL:https://www.themiamiartscene.com/event/pan-american-art-projects-presents-purvis-young-a-visionary-of-miamis-cultural-identity/
LOCATION:Pan American Art Projects\, 274 NE 67th Street\, Miami\, FL\, 33138\, United States
ATTACH;FMTTYPE=image/jpeg:https://www.themiamiartscene.com/wp-content/uploads/2025/01/purvis-1-1-scaled.jpeg
END:VEVENT
BEGIN:VEVENT
DTSTART;TZID=America/New_York:20250220T190000
DTEND;TZID=America/New_York:20250220T200000
DTSTAMP:20260425T224049
CREATED:20250214T181423Z
LAST-MODIFIED:20250214T181423Z
UID:23180-1740078000-1740081600@www.themiamiartscene.com
SUMMARY:Avant Gallery presents 'Guess who's coming for dinner?'
DESCRIPTION:Thursday\, February 20th from 7 – 8pm art lovers and art history buffs are cordially invited to Avant Gallery on Lincoln Road for an Art Talk\, Guess who’s coming for dinner?\, an extraordinary journey through Art History with renowned art speaker Sebastien Laboureau. This Event is FREE & Open to the Public / RSVP HERE. \nThis exclusive art talk will take you to an extraordinary journey through art history where you will discover the works of Andy Warhol and Leonardo da Vinci under a new light!
URL:https://www.themiamiartscene.com/event/avant-gallery-presents-guess-whos-coming-for-dinner/
LOCATION:Avant Gallery\, 1111 Lincoln Road\, Miami Beach\, FL\, 33139\, United States
ATTACH;FMTTYPE=image/jpeg:https://www.themiamiartscene.com/wp-content/uploads/2025/02/avant-gallery_art-talk_guess-whose-coming-to-dinner.jpeg
END:VEVENT
END:VCALENDAR