BEGIN:VCALENDAR
VERSION:2.0
PRODID:-//Miami Art Scene™ - ECPv6.15.20//NONSGML v1.0//EN
CALSCALE:GREGORIAN
METHOD:PUBLISH
X-WR-CALNAME:Miami Art Scene™
X-ORIGINAL-URL:https://www.themiamiartscene.com
X-WR-CALDESC:Events for Miami Art Scene™
REFRESH-INTERVAL;VALUE=DURATION:PT1H
X-Robots-Tag:noindex
X-PUBLISHED-TTL:PT1H
BEGIN:VTIMEZONE
TZID:America/New_York
BEGIN:DAYLIGHT
TZOFFSETFROM:-0500
TZOFFSETTO:-0400
TZNAME:EDT
DTSTART:20240310T070000
END:DAYLIGHT
BEGIN:STANDARD
TZOFFSETFROM:-0400
TZOFFSETTO:-0500
TZNAME:EST
DTSTART:20241103T060000
END:STANDARD
BEGIN:DAYLIGHT
TZOFFSETFROM:-0500
TZOFFSETTO:-0400
TZNAME:EDT
DTSTART:20250309T070000
END:DAYLIGHT
BEGIN:STANDARD
TZOFFSETFROM:-0400
TZOFFSETTO:-0500
TZNAME:EST
DTSTART:20251102T060000
END:STANDARD
BEGIN:DAYLIGHT
TZOFFSETFROM:-0500
TZOFFSETTO:-0400
TZNAME:EDT
DTSTART:20260308T070000
END:DAYLIGHT
BEGIN:STANDARD
TZOFFSETFROM:-0400
TZOFFSETTO:-0500
TZNAME:EST
DTSTART:20261101T060000
END:STANDARD
END:VTIMEZONE
BEGIN:VEVENT
DTSTART;TZID=America/New_York:20250920T180000
DTEND;TZID=America/New_York:20250920T220000
DTSTAMP:20260424T031750
CREATED:20250827T164844Z
LAST-MODIFIED:20250907T021522Z
UID:24580-1758391200-1758405600@www.themiamiartscene.com
SUMMARY:Experience Internationally Recognized Sculptor Mylene Costa's Exhibition at White's Art Gallery in Miami
DESCRIPTION:Saturday\, September 20th from 6 – 10pm art collectors and aficionados are cordially invited to experience the Opening Reception of internationally recognized sculptor Mylene Costa‘s art exhibition at White’s Art Gallery in the Bird Road Art District. \nMylene Costa is a Brazilian sculptor of international recognition\, whose work stands out for its feminine power\, formal elegance\, and refined aesthetic sensitivity. Born in Cuiabá\, Brazil\, she has built a solid and authentic career\, dividing her life between Brazil and the United States. Married to Sérgio Jacinto Costa and mother of three\, she skillfully balances family life\, rural production\, and a flourishing artistic journey. Her sculpture is both language and thought — an invitation to contemplate the body\, form\, and memory. With a poetic and plural approach\, her work moves between the figurative and the abstract\, the structural and the symbolic\, unconstrained by technical or thematic limits. Each piece is born from the fusion of intuition and reflection\, evoking questions of time\, ancestry\, human relationships\, and the silence of expanding forms. Recognized for her unique artistic signature\, Mylene has exhibited in cultural centers across Europe\, Latin America\, and Brazil\, gaining increasing visibility in major contemporary art shows and attracting the attention of critics\, curators\, and collectors alike. \n  \nIMAGE: Mylene Costa’s Incepta\, Pigmented resin sculpture (originally in steel)\, 90 x 60 x 20 cm
URL:https://www.themiamiartscene.com/event/experience-internationally-recognized-sculptor-mylene-costas-exhibition-at-whites-art-gallery-in-miami/
LOCATION:White’s Art Gallery\, 7428 SW 42nd Street\, Miami\, 33155\, United States
ATTACH;FMTTYPE=image/jpeg:https://www.themiamiartscene.com/wp-content/uploads/2025/08/mylene-costa_incepta-1-e1756315486230.jpeg
END:VEVENT
END:VCALENDAR