BEGIN:VCALENDAR
VERSION:2.0
PRODID:-//Miami Art Scene™ - ECPv6.15.20//NONSGML v1.0//EN
CALSCALE:GREGORIAN
METHOD:PUBLISH
X-ORIGINAL-URL:https://www.themiamiartscene.com
X-WR-CALDESC:Events for Miami Art Scene™
REFRESH-INTERVAL;VALUE=DURATION:PT1H
X-Robots-Tag:noindex
X-PUBLISHED-TTL:PT1H
BEGIN:VTIMEZONE
TZID:America/New_York
BEGIN:DAYLIGHT
TZOFFSETFROM:-0500
TZOFFSETTO:-0400
TZNAME:EDT
DTSTART:20240310T070000
END:DAYLIGHT
BEGIN:STANDARD
TZOFFSETFROM:-0400
TZOFFSETTO:-0500
TZNAME:EST
DTSTART:20241103T060000
END:STANDARD
BEGIN:DAYLIGHT
TZOFFSETFROM:-0500
TZOFFSETTO:-0400
TZNAME:EDT
DTSTART:20250309T070000
END:DAYLIGHT
BEGIN:STANDARD
TZOFFSETFROM:-0400
TZOFFSETTO:-0500
TZNAME:EST
DTSTART:20251102T060000
END:STANDARD
BEGIN:DAYLIGHT
TZOFFSETFROM:-0500
TZOFFSETTO:-0400
TZNAME:EDT
DTSTART:20260308T070000
END:DAYLIGHT
BEGIN:STANDARD
TZOFFSETFROM:-0400
TZOFFSETTO:-0500
TZNAME:EST
DTSTART:20261101T060000
END:STANDARD
END:VTIMEZONE
BEGIN:VEVENT
DTSTART;TZID=America/New_York:20250909T103000
DTEND;TZID=America/New_York:20250909T123000
DTSTAMP:20260425T084742
CREATED:20250905T000456Z
LAST-MODIFIED:20250905T000456Z
UID:24668-1757413800-1757421000@www.themiamiartscene.com
SUMMARY:The Official Art Deco Walking Tour by The Miami Design Preservation League
DESCRIPTION:Tuesday\, September 9th from 10:30am – 12:30pm experience the Official Art Deco District Walking Tour presented by the Miami Design Preservation League. This 1.5 to 2-hour walking tour provides an introduction to the Art Deco\, Mediterranean Revival\, and Miami Modern (MiMo) styles found within the Miami Beach Architectural Historic District. Explore hotels\, restaurants\, and other commercial structures with a visit to a number of interiors. Choose from select dates / PURCHASE TICKETS HERE. \nTour ticket includes free entry to the Art Deco Museum as well as 10% off at the Gift Shop.
URL:https://www.themiamiartscene.com/event/the-official-art-deco-walking-tour-by-the-miami-design-preservation-league-744/
LOCATION:Art Deco Welcome Center\, 1001 Ocean Drive\, Miami Beach\, FL\, 33139\, United States
ATTACH;FMTTYPE=image/jpeg:https://www.themiamiartscene.com/wp-content/uploads/2023/10/art-deco-carlyle-miami-beach-e1696182712202.jpeg
END:VEVENT
BEGIN:VEVENT
DTSTART;TZID=America/New_York:20250909T180000
DTEND;TZID=America/New_York:20250909T210000
DTSTAMP:20260425T084742
CREATED:20250905T191022Z
LAST-MODIFIED:20250905T191022Z
UID:24718-1757440800-1757451600@www.themiamiartscene.com
SUMMARY:Bakehouse Art Complex: Open Studios
DESCRIPTION:Tuesday\, September 9th from 6 – 9pm the Bakehouse Art Complex presents Open Studios. Visit Bakehouse artists in their studios\, groove to tunes by local DJs\, and stop by Bookleggers Library for a free book! This Event is FREE & Open to the Public | RSVP HERE. \nVisit Bakehouse artists’ studios and swing by Bookleggers for a free book \nWelcome back MDCPLS’ AV Club to Bakehouse — come by the Swenson Gallery to see specially curated 16mm films. \nDon’t miss your last chance to explore what this year’s Summer Open artists have been creating — and catch their work before the season ends! \nComplimentary bevvies will be served\, including beer from your favorite local brewery\, OFF SITE. \n— \nPlease enter through the pedestrian gate adjacent to the yellow building facing 32nd Street. Free street parking is available on 32nd Street and 6th Avenue. \n 
URL:https://www.themiamiartscene.com/event/bakehouse-art-complex-open-studios-4/
LOCATION:Bakehouse Art Complex\, 561 NW 32nd Street\, Miami\, FL\, 33127\, United States
ATTACH;FMTTYPE=image/jpeg:https://www.themiamiartscene.com/wp-content/uploads/2025/09/bac-sept-e1757099397233.jpeg
END:VEVENT
END:VCALENDAR