BEGIN:VCALENDAR
VERSION:2.0
PRODID:-//Miami Art Scene™ - ECPv6.15.20//NONSGML v1.0//EN
CALSCALE:GREGORIAN
METHOD:PUBLISH
X-ORIGINAL-URL:https://www.themiamiartscene.com
X-WR-CALDESC:Events for Miami Art Scene™
REFRESH-INTERVAL;VALUE=DURATION:PT1H
X-Robots-Tag:noindex
X-PUBLISHED-TTL:PT1H
BEGIN:VTIMEZONE
TZID:America/New_York
BEGIN:DAYLIGHT
TZOFFSETFROM:-0500
TZOFFSETTO:-0400
TZNAME:EDT
DTSTART:20250309T070000
END:DAYLIGHT
BEGIN:STANDARD
TZOFFSETFROM:-0400
TZOFFSETTO:-0500
TZNAME:EST
DTSTART:20251102T060000
END:STANDARD
BEGIN:DAYLIGHT
TZOFFSETFROM:-0500
TZOFFSETTO:-0400
TZNAME:EDT
DTSTART:20260308T070000
END:DAYLIGHT
BEGIN:STANDARD
TZOFFSETFROM:-0400
TZOFFSETTO:-0500
TZNAME:EST
DTSTART:20261101T060000
END:STANDARD
BEGIN:DAYLIGHT
TZOFFSETFROM:-0500
TZOFFSETTO:-0400
TZNAME:EDT
DTSTART:20270314T070000
END:DAYLIGHT
BEGIN:STANDARD
TZOFFSETFROM:-0400
TZOFFSETTO:-0500
TZNAME:EST
DTSTART:20271107T060000
END:STANDARD
END:VTIMEZONE
BEGIN:VEVENT
DTSTART;TZID=America/New_York:20260404T110000
DTEND;TZID=America/New_York:20260405T170000
DTSTAMP:20260423T114033
CREATED:20260318T024255Z
LAST-MODIFIED:20260329T190556Z
UID:26345-1775300400-1775408400@www.themiamiartscene.com
SUMMARY:NSU Art Museum presents Bank of America: ‘Museum On Us’
DESCRIPTION:Saturday\, April 4th from 11am – 5pm and Sunday\, April 5th from 12 – 5pm enjoy NSU Art Museum in Fort Lauderdale presents Bank of America Museums on Us. All visitors with an active Bank of America®\, Merrill ® (formerly Merrill Lynch®) or Bank of America Private Bank® (formerly U.S. Trust®) branded debit or credit card – physical or electronic/digital card – and an active\, valid photo ID shall receive one free general admission to NSU Art Museum Fort Lauderdale on the first full weekend of every month. \nSaturdays from 11 AM – 5 PM\nSundays from Noon – 5 PM
URL:https://www.themiamiartscene.com/event/nsu-art-museum-presents-bank-of-america-museum-on-us-6/
LOCATION:NSU Art Museum\, One East Las Olas Boulevard\, Fort Lauderdale\, FL\, 33301\, United States
ATTACH;FMTTYPE=image/png:https://www.themiamiartscene.com/wp-content/uploads/2026/03/NSU-art-museum_museums-on-us-1-e1773801699599.png
END:VEVENT
BEGIN:VEVENT
DTSTART;TZID=America/New_York:20260405T103000
DTEND;TZID=America/New_York:20260405T123000
DTSTAMP:20260423T114033
CREATED:20260317T211030Z
LAST-MODIFIED:20260317T211030Z
UID:26274-1775385000-1775392200@www.themiamiartscene.com
SUMMARY:The Official Art Deco Walking Tour by The Miami Design Preservation League
DESCRIPTION:Sunday\, April 5th from 10:30am – 12:30pm experience the Official Art Deco District Walking Tour presented by the Miami Design Preservation League. This 1.5 to 2-hour walking tour provides an introduction to the Art Deco\, Mediterranean Revival\, and Miami Modern (MiMo) styles found within the Miami Beach Architectural Historic District. Explore hotels\, restaurants\, and other commercial structures with a visit to a number of interiors. Choose from select dates / PURCHASE TICKETS HERE. \nTour ticket includes free entry to the Art Deco Museum as well as 10% off at the Gift Shop.
URL:https://www.themiamiartscene.com/event/the-official-art-deco-walking-tour-by-the-miami-design-preservation-league-955/
LOCATION:Art Deco Welcome Center\, 1001 Ocean Drive\, Miami Beach\, FL\, 33139\, United States
ATTACH;FMTTYPE=image/jpeg:https://www.themiamiartscene.com/wp-content/uploads/2024/06/art-deco-historic-district-miami-beach.jpeg
END:VEVENT
BEGIN:VEVENT
DTSTART;TZID=America/New_York:20260405T130000
DTEND;TZID=America/New_York:20260405T180000
DTSTAMP:20260423T114033
CREATED:20260329T171812Z
LAST-MODIFIED:20260329T171812Z
UID:26454-1775394000-1775412000@www.themiamiartscene.com
SUMMARY:ArtGal.Online invites you to an Easter Sip & Paint at Artgalzim Center Domboshava
DESCRIPTION:Saturday\, April 5th from 1 – 6pm enjoy an Easter Sip & Paint at Artgalzim Center Domboshava\, Zimbabwe. The gallery invites you to enjoy an Easter Sip & Paint where you can get creative\, unwind\, and celebrate renewal with friends and family. Surprise Guest Artist! Check out ArtGal.Online\, promoting art from Zimbabwe. \n$15 per person. All materials supplied\, book your spot now\, RSVP: artgalzimcenter@gmail.com \n 
URL:https://www.themiamiartscene.com/event/artgal-online-invites-you-to-an-easter-sip-paint-at-artgalzim-center-domboshava/
LOCATION:Artgalzim Center Domboshava\, Zimbabwe
ATTACH;FMTTYPE=image/jpeg:https://www.themiamiartscene.com/wp-content/uploads/2026/03/artgal_Sip-and-Paint-at-Easter.jpeg
END:VEVENT
END:VCALENDAR