BEGIN:VCALENDAR
VERSION:2.0
PRODID:-//Miami Art Scene™ - ECPv6.15.20//NONSGML v1.0//EN
CALSCALE:GREGORIAN
METHOD:PUBLISH
X-WR-CALNAME:Miami Art Scene™
X-ORIGINAL-URL:https://www.themiamiartscene.com
X-WR-CALDESC:Events for Miami Art Scene™
REFRESH-INTERVAL;VALUE=DURATION:PT1H
X-Robots-Tag:noindex
X-PUBLISHED-TTL:PT1H
BEGIN:VTIMEZONE
TZID:America/New_York
BEGIN:DAYLIGHT
TZOFFSETFROM:-0500
TZOFFSETTO:-0400
TZNAME:EDT
DTSTART:20240310T070000
END:DAYLIGHT
BEGIN:STANDARD
TZOFFSETFROM:-0400
TZOFFSETTO:-0500
TZNAME:EST
DTSTART:20241103T060000
END:STANDARD
BEGIN:DAYLIGHT
TZOFFSETFROM:-0500
TZOFFSETTO:-0400
TZNAME:EDT
DTSTART:20250309T070000
END:DAYLIGHT
BEGIN:STANDARD
TZOFFSETFROM:-0400
TZOFFSETTO:-0500
TZNAME:EST
DTSTART:20251102T060000
END:STANDARD
BEGIN:DAYLIGHT
TZOFFSETFROM:-0500
TZOFFSETTO:-0400
TZNAME:EDT
DTSTART:20260308T070000
END:DAYLIGHT
BEGIN:STANDARD
TZOFFSETFROM:-0400
TZOFFSETTO:-0500
TZNAME:EST
DTSTART:20261101T060000
END:STANDARD
END:VTIMEZONE
BEGIN:VEVENT
DTSTART;TZID=America/New_York:20250718T110000
DTEND;TZID=America/New_York:20250718T140000
DTSTAMP:20260424T050346
CREATED:20250715T015433Z
LAST-MODIFIED:20250715T015433Z
UID:24211-1752836400-1752847200@www.themiamiartscene.com
SUMMARY:Summer Art Sessions at Vizcaya | Crafts for Kids
DESCRIPTION:Friday\, July 18th from 11am – 2pm enjoy Summer Art Sessions at Vizcaya Museum and Gardens with Free Crafts for Kids with Admission. Make It a Family Day at Vizcaya—Create\, then Explore! PURCHASE TICKETS | RSVP HERE. \nLooking for a way to enjoy Vizcaya Museum & Gardens with the whole family? Summer Art Sessions are the perfect bonus to your museum visit. Take in the art\, architecture\, and lush gardens as a family\, then get creative together with FREE drop-in art activities designed to spark imagination—all included with the price of admission. \nWhether you’re a local or visiting for the day\, this is your chance to experience Miami’s most enchanting historic estate with something for every family member to enjoy. \nTickets | Art activities are free with your paid admission: \nAdults: $25\nChildren 6–12: $10\nChildren 5 & under: FREE\nVizcaya Members: FREE admission for the whole experience.
URL:https://www.themiamiartscene.com/event/summer-art-sessions-at-vizcaya-crafts-for-kids/
LOCATION:Vizcaya Museum & Gardens\, 3251 S. Miami Avenue\, Miami\, FL\, 33129\, United States
ATTACH;FMTTYPE=image/png:https://www.themiamiartscene.com/wp-content/uploads/2025/07/vizcaya-summer-art-sessions.png
END:VEVENT
BEGIN:VEVENT
DTSTART;TZID=America/New_York:20250726T190000
DTEND;TZID=America/New_York:20250726T220000
DTSTAMP:20260424T050346
CREATED:20250723T220733Z
LAST-MODIFIED:20250723T220733Z
UID:24317-1753556400-1753567200@www.themiamiartscene.com
SUMMARY:Vizcaya Late: Binding Histories | A Studio Vizcaya Finale
DESCRIPTION:Saturday\, July 26th from 7 – 10pm experience the finale of Binding Histories—a moving\, multimedia celebration of Miami’s history told through handmade books\, projection art\, and sound at Vizcaya Museum & Gardens. PURCHASE TICKETS HERE. \nOver the summer\, dozens of community members gathered in Studio Vizcaya to explore history and memory through bookmaking. Now\, these powerful creations come to life in a stunning indoor and outdoor projection created by artists Nicole Combeau and Sean Sullivan. \nWhat to Expect: \nAn immersive animated installation set against Vizcaya’s Main House façade\nAn ode to Vizcaya & Coconut Grove created by community members inside the Main House\nA vibrant\, family-friendly evening filled with art\, community\, and connection\nLight\, sound\, and storytelling woven into one unforgettable night\nMusic by Pressure Point\nPapermaking Workshop with artist\, Shawna Moulton\nRAIN OR SHINE | In the event of rain\, all activities will move indoors. Ticketholders will receive email updates as needed. \nTICKET PRICING: $15\, Adults (ages 13+) | $5\, Children (ages 6–12) | FREE\, Children ages 5 and under \n· Early Bird Special: Save 20% when you buy by noon on Saturday\, July 19 \n· Free Admission: Available starting July 10 for SNAP/WIC participants\, U.S. military\, and veterans.
URL:https://www.themiamiartscene.com/event/vizcaya-late-binding-histories-a-studio-vizcaya-finale/
LOCATION:Vizcaya Museum & Gardens\, 3251 S. Miami Avenue\, Miami\, FL\, 33129\, United States
ATTACH;FMTTYPE=image/png:https://www.themiamiartscene.com/wp-content/uploads/2025/07/vizcaya-binding-histories.png
END:VEVENT
BEGIN:VEVENT
DTSTART;TZID=America/New_York:20250727T110000
DTEND;TZID=America/New_York:20250727T113000
DTSTAMP:20260424T050346
CREATED:20250724T140845Z
LAST-MODIFIED:20250724T140845Z
UID:24328-1753614000-1753615800@www.themiamiartscene.com
SUMMARY:Vizcaya Village Guided Tour
DESCRIPTION:Sunday\, July 27th from 11 – 11:30am discover local history and explore the historic village of the Vizcaya estate. If you’ve visited Vizcaya Museum and Gardens\, you may be surprised to learn that the estate comes complete with its own historic farm and village on the east side of South Miami Avenue\, directly across the street from the Main House and formal gardens. Choose from select dates / PURCHASE TICKETS HERE. \nThe Village was built in 1914 alongside the rest of the estate. You can now take a guided tour of Vizcaya Village and learn about its history as well as the restoration plans currently underway. These 30-minute tours are available at 11:00 a.m. every Sunday. \n  \nAdults\, ages 13+ | $6\nChildren\, ages 12 and under | FREE\nVizcaya Members | FREE with membership card; no tickets needed\nOnline registration is required. Tour tickets do not include admission to the Main House and gardens portion of the estate. \nDonations | Consider making an online donation when you register for the tour. Every dollar supports the continued preservation of this National Historic Landmark.
URL:https://www.themiamiartscene.com/event/vizcaya-village-guided-tour/
LOCATION:Vizcaya Museum & Gardens\, 3251 S. Miami Avenue\, Miami\, FL\, 33129\, United States
ATTACH;FMTTYPE=image/png:https://www.themiamiartscene.com/wp-content/uploads/2025/07/vizcaya-village-tours.png
END:VEVENT
END:VCALENDAR