BEGIN:VCALENDAR
VERSION:2.0
PRODID:-//Miami Art Scene™ - ECPv6.15.20//NONSGML v1.0//EN
CALSCALE:GREGORIAN
METHOD:PUBLISH
X-WR-CALNAME:Miami Art Scene™
X-ORIGINAL-URL:https://www.themiamiartscene.com
X-WR-CALDESC:Events for Miami Art Scene™
REFRESH-INTERVAL;VALUE=DURATION:PT1H
X-Robots-Tag:noindex
X-PUBLISHED-TTL:PT1H
BEGIN:VTIMEZONE
TZID:America/New_York
BEGIN:DAYLIGHT
TZOFFSETFROM:-0500
TZOFFSETTO:-0400
TZNAME:EDT
DTSTART:20240310T070000
END:DAYLIGHT
BEGIN:STANDARD
TZOFFSETFROM:-0400
TZOFFSETTO:-0500
TZNAME:EST
DTSTART:20241103T060000
END:STANDARD
BEGIN:DAYLIGHT
TZOFFSETFROM:-0500
TZOFFSETTO:-0400
TZNAME:EDT
DTSTART:20250309T070000
END:DAYLIGHT
BEGIN:STANDARD
TZOFFSETFROM:-0400
TZOFFSETTO:-0500
TZNAME:EST
DTSTART:20251102T060000
END:STANDARD
BEGIN:DAYLIGHT
TZOFFSETFROM:-0500
TZOFFSETTO:-0400
TZNAME:EDT
DTSTART:20260308T070000
END:DAYLIGHT
BEGIN:STANDARD
TZOFFSETFROM:-0400
TZOFFSETTO:-0500
TZNAME:EST
DTSTART:20261101T060000
END:STANDARD
END:VTIMEZONE
BEGIN:VEVENT
DTSTART;TZID=America/New_York:20250807T180000
DTEND;TZID=America/New_York:20250807T200000
DTSTAMP:20260424T045813
CREATED:20250730T023335Z
LAST-MODIFIED:20250730T023335Z
UID:24338-1754589600-1754596800@www.themiamiartscene.com
SUMMARY:Thursdays at PAMM: Summer Havens by Raw Figs
DESCRIPTION:Thursday\, August 7th from 6 – 8pm enjoy Thursdays at PAMM: Summer Havens by Raw Figs. Escape the summer heat and cool off with figuring drawing\, happy hour\, and art-filled gallery strolls! Join Raw Figs for weekly figure drawing sessions in Pérez Art Museum Miami’s air-conditioned Learning Theatre. RSVP required for free admission. \nThis dynamic session features live models and a welcoming atmosphere that encourages experimentation and expression. Whether you’re refining your technique or just starting out\, this is your chance to draw from life\, connect with Miami’s creative community\, and get inspired. \nIf you’re seeking a family-friendly outing\, a solo adventure\, or a unique date night\, Summer Havens has something for everyone. Get creative\, unwind\, and draw in good company. \n 
URL:https://www.themiamiartscene.com/event/thursdays-at-pamm-summer-havens-by-raw-figs/
LOCATION:Pérez Art Museum Miami\, 1103 Biscayne Boulevard\, Miami\, FL\, 33132\, United States
ATTACH;FMTTYPE=image/png:https://www.themiamiartscene.com/wp-content/uploads/2025/07/pamm-figure-drawing.png
END:VEVENT
END:VCALENDAR