BEGIN:VCALENDAR
VERSION:2.0
PRODID:-//Miami Art Scene™ - ECPv6.15.20//NONSGML v1.0//EN
CALSCALE:GREGORIAN
METHOD:PUBLISH
X-WR-CALNAME:Miami Art Scene™
X-ORIGINAL-URL:https://www.themiamiartscene.com
X-WR-CALDESC:Events for Miami Art Scene™
REFRESH-INTERVAL;VALUE=DURATION:PT1H
X-Robots-Tag:noindex
X-PUBLISHED-TTL:PT1H
BEGIN:VTIMEZONE
TZID:America/New_York
BEGIN:DAYLIGHT
TZOFFSETFROM:-0500
TZOFFSETTO:-0400
TZNAME:EDT
DTSTART:20250309T070000
END:DAYLIGHT
BEGIN:STANDARD
TZOFFSETFROM:-0400
TZOFFSETTO:-0500
TZNAME:EST
DTSTART:20251102T060000
END:STANDARD
BEGIN:DAYLIGHT
TZOFFSETFROM:-0500
TZOFFSETTO:-0400
TZNAME:EDT
DTSTART:20260308T070000
END:DAYLIGHT
BEGIN:STANDARD
TZOFFSETFROM:-0400
TZOFFSETTO:-0500
TZNAME:EST
DTSTART:20261101T060000
END:STANDARD
BEGIN:DAYLIGHT
TZOFFSETFROM:-0500
TZOFFSETTO:-0400
TZNAME:EDT
DTSTART:20270314T070000
END:DAYLIGHT
BEGIN:STANDARD
TZOFFSETFROM:-0400
TZOFFSETTO:-0500
TZNAME:EST
DTSTART:20271107T060000
END:STANDARD
END:VTIMEZONE
BEGIN:VEVENT
DTSTART;TZID=America/New_York:20260131T140000
DTEND;TZID=America/New_York:20260131T153000
DTSTAMP:20260423T164038
CREATED:20260117T195305Z
LAST-MODIFIED:20260117T195305Z
UID:25825-1769868000-1769873400@www.themiamiartscene.com
SUMMARY:The Bass presents a Workshop | In Dialogue: An Immersive Art + Writing Experience with Neysa King
DESCRIPTION:Saturday\, January 31st from 2 – 3:30pm enjoy a Creative Writing Workshop at The Bass\, In Dialogue: An Immersive Art + Writing Experience with Neysa King. This interactive writing workshop begins with a guided introduction to Lawrence Lek: NOX Pavilion\, inviting participants to explore the exhibition at their own pace and notice what resonates\, surprises\, or sparks curiosity. \nThen gather to write\, capturing initial impressions and personal responses\, followed by a brief group reflection. The session continues with curated readings connected to the themes of Lawrence Lek: NOX Pavilion. Readings are shared aloud with time for reflection. \nThen move into free writing\, drawing from the artwork\, literature\, and your own experiences. \nRooted in close looking and creative expression\, the workshop encourages participants to translate visual experience into language. \nWorkshops @ The Bass are created for adults ages 21+ at any skill level. All materials are provided. \nThe class is $15 for museum members and $20 for nonmembers. RSVP HERE.
URL:https://www.themiamiartscene.com/event/the-bass-presents-a-workshop-in-dialogue-an-immersive-art-writing-experience-with-neysa-king/
LOCATION:The Bass\, 2100 Collins Avenue\, Miami Beach\, FL\, 33139\, United States
ATTACH;FMTTYPE=image/png:https://www.themiamiartscene.com/wp-content/uploads/2026/01/workshops-at-the-bass-january-2026.png
END:VEVENT
END:VCALENDAR