BEGIN:VCALENDAR
VERSION:2.0
PRODID:-//Miami Art Scene™ - ECPv6.15.20//NONSGML v1.0//EN
CALSCALE:GREGORIAN
METHOD:PUBLISH
X-ORIGINAL-URL:https://www.themiamiartscene.com
X-WR-CALDESC:Events for Miami Art Scene™
REFRESH-INTERVAL;VALUE=DURATION:PT1H
X-Robots-Tag:noindex
X-PUBLISHED-TTL:PT1H
BEGIN:VTIMEZONE
TZID:America/New_York
BEGIN:DAYLIGHT
TZOFFSETFROM:-0500
TZOFFSETTO:-0400
TZNAME:EDT
DTSTART:20250309T070000
END:DAYLIGHT
BEGIN:STANDARD
TZOFFSETFROM:-0400
TZOFFSETTO:-0500
TZNAME:EST
DTSTART:20251102T060000
END:STANDARD
BEGIN:DAYLIGHT
TZOFFSETFROM:-0500
TZOFFSETTO:-0400
TZNAME:EDT
DTSTART:20260308T070000
END:DAYLIGHT
BEGIN:STANDARD
TZOFFSETFROM:-0400
TZOFFSETTO:-0500
TZNAME:EST
DTSTART:20261101T060000
END:STANDARD
BEGIN:DAYLIGHT
TZOFFSETFROM:-0500
TZOFFSETTO:-0400
TZNAME:EDT
DTSTART:20270314T070000
END:DAYLIGHT
BEGIN:STANDARD
TZOFFSETFROM:-0400
TZOFFSETTO:-0500
TZNAME:EST
DTSTART:20271107T060000
END:STANDARD
END:VTIMEZONE
BEGIN:VEVENT
DTSTART;TZID=America/New_York:20260228T080000
DTEND;TZID=America/New_York:20260228T170000
DTSTAMP:20260423T194835
CREATED:20260228T184126Z
LAST-MODIFIED:20260228T184126Z
UID:26153-1772265600-1772298000@www.themiamiartscene.com
SUMMARY:Stanek Gallery presents the exhibition "Allegory"
DESCRIPTION:Friday\, March 13th from 6 – 9pm Stanek Gallery in Miami’s Little River Art District invites you to experience the Opening Reception of ‘Allegory‘. Stanek Gallery is proud to present Allegory\, a two-person exhibition featuring new work by painter Valerio D’Ospina and sculptor Katherine Stanek. Perception\, belief\, and the construction of reality\, propel the narrative of this exhibition as each artist explores how meaning is formed\, presented and ultimately accepted or rejected. This Event is Free & Open to the Public | RSVP HERE. Allegory opens with an artist reception on March 13 at Stanek Gallery in Little River\, Miami from 6-9 pm. This exhibition is on view March 13–May 9\, 2026. \nApproaching their practice from a common principle stated best by Alberto Giacometti\, “The object of art is not to reproduce reality\, but to create a reality of the same intensity\,” D’Ospina and Stanek present viewers with beautiful\, thought-provoking visuals steeped in deeply existential and potentially transformative questions. Conceptually and technically\, both artists challenge themselves to confront what feels familiar and stable\, asking whether comfort and recognition are sufficient grounds for truth\, or merely its shadow. \n 
URL:https://www.themiamiartscene.com/event/stanek-gallery-presents-the-exhibition-allegory/
LOCATION:Stanek Gallery\, 8375 NE 2nd Ave.\, Miami\, FL\, 33138\, United States
ATTACH;FMTTYPE=image/jpeg:https://www.themiamiartscene.com/wp-content/uploads/2026/02/stanek-gallery-miami.jpeg
END:VEVENT
END:VCALENDAR