BEGIN:VCALENDAR
VERSION:2.0
PRODID:-//Miami Art Scene™ - ECPv6.15.20//NONSGML v1.0//EN
CALSCALE:GREGORIAN
METHOD:PUBLISH
X-WR-CALNAME:Miami Art Scene™
X-ORIGINAL-URL:https://www.themiamiartscene.com
X-WR-CALDESC:Events for Miami Art Scene™
REFRESH-INTERVAL;VALUE=DURATION:PT1H
X-Robots-Tag:noindex
X-PUBLISHED-TTL:PT1H
BEGIN:VTIMEZONE
TZID:America/New_York
BEGIN:DAYLIGHT
TZOFFSETFROM:-0500
TZOFFSETTO:-0400
TZNAME:EDT
DTSTART:20240310T070000
END:DAYLIGHT
BEGIN:STANDARD
TZOFFSETFROM:-0400
TZOFFSETTO:-0500
TZNAME:EST
DTSTART:20241103T060000
END:STANDARD
BEGIN:DAYLIGHT
TZOFFSETFROM:-0500
TZOFFSETTO:-0400
TZNAME:EDT
DTSTART:20250309T070000
END:DAYLIGHT
BEGIN:STANDARD
TZOFFSETFROM:-0400
TZOFFSETTO:-0500
TZNAME:EST
DTSTART:20251102T060000
END:STANDARD
BEGIN:DAYLIGHT
TZOFFSETFROM:-0500
TZOFFSETTO:-0400
TZNAME:EDT
DTSTART:20260308T070000
END:DAYLIGHT
BEGIN:STANDARD
TZOFFSETFROM:-0400
TZOFFSETTO:-0500
TZNAME:EST
DTSTART:20261101T060000
END:STANDARD
END:VTIMEZONE
BEGIN:VEVENT
DTSTART;TZID=America/New_York:20250703T110000
DTEND;TZID=America/New_York:20250703T190000
DTSTAMP:20260424T082254
CREATED:20250703T142750Z
LAST-MODIFIED:20250703T142750Z
UID:24135-1751540400-1751569200@www.themiamiartscene.com
SUMMARY:NSU Art Museum: Free First Thursday – Sunny Days/Starry Nights with All Day Mini Muse
DESCRIPTION:Thursday\, July 3rd from 11am – 7pm enjoy Sunny Days/Starry Nights: Free First Thursdays at NSU Art Museum in Fort Lauderdale\, offering visitors free admission to the Museum for a full day of art-making! \nEnjoy FREE Museum admission and 2-for-1 All Day Happy Hour on the first Thursday of every month from 11 am to 7 pm during Free First Thursday Sunny Days/Starry Nights. Enjoy Mini Muse\, free drop-in art-making activities ALL DAY for children inspired by current exhibitions. \n  \nStarry Nights is presented by Broward Health.
URL:https://www.themiamiartscene.com/event/nsu-art-museum-free-first-thursday-sunny-days-starry-nights-with-all-day-mini-muse/
LOCATION:NSU Art Museum\, One East Las Olas Boulevard\, Fort Lauderdale\, FL\, 33301\, United States
ATTACH;FMTTYPE=image/png:https://www.themiamiartscene.com/wp-content/uploads/2025/03/nsu-starry-night-sunny-days-2025.png
END:VEVENT
BEGIN:VEVENT
DTSTART;TZID=America/New_York:20250704T140000
DTEND;TZID=America/New_York:20250705T030000
DTSTAMP:20260424T082254
CREATED:20250703T144959Z
LAST-MODIFIED:20250703T144959Z
UID:24139-1751637600-1751684400@www.themiamiartscene.com
SUMMARY:4th of July Celebration at Carousel Club
DESCRIPTION:Friday\, July 4th at 2pm come celebrate the 4th of July with your favorite people and everything that makes summer awesome. Food\, laughs\, and good times included at the Carousel Club in Hallandale Beach. RSVP HERE \n🇺🇸 4th of July Celebration at Carousel Club 🇺🇸 \nThis Independence Day\, gather with your favorite people to celebrate everything that makes summer unforgettable. Enjoy a day packed with mouthwatering eats\, ice-cold drinks\, laughter\, and your favorite tunes that keep the good times rolling into the night. \nEvent Details: \n\n$10 Red\, White\, & Blue Cocktails\, ALL NIGHT\nComplimentary American Flag with RSVP* (*while supplies last)\nOpen from 2:00 PM – 3:00 AM\n\n  \n—- \nEATS BY: Los Altos Taqueria\, Spris Artisan Pizza\, & Smashies \nDRESS CODE: Proper Attire Required. Venue reserves the right to deny entry at doorman’s \ndiscretion. \nDOORS: 12:00 PM\, EST to 3:00 AM\, EST \nCarousel Club is a 21+ venue. Children accompanied by parents welcome until sunset. \nStart your magical journey by finding your way to Carousel Club. For more information\, click here. \nWalk Ups Welcome!
URL:https://www.themiamiartscene.com/event/4th-of-july-celebration-at-carousel-club/
LOCATION:Carousel Club\, 901 S Federal Highway\, Hallandale Beach\, FL\, 33009\, United States
ATTACH;FMTTYPE=image/png:https://www.themiamiartscene.com/wp-content/uploads/2025/07/carousel-club-happy-fourth-of-july-party.png
END:VEVENT
BEGIN:VEVENT
DTSTART;TZID=America/New_York:20250710T120000
DTEND;TZID=America/New_York:20250713T190000
DTSTAMP:20260424T082254
CREATED:20250613T235239Z
LAST-MODIFIED:20250613T235820Z
UID:23949-1752148800-1752433200@www.themiamiartscene.com
SUMMARY:Hamptons Fine Art Fair 2025
DESCRIPTION:Thursday\, July 10th through Sunday\, July 13th experience the 19th edition of the Hamptons Fine Art Fair\, a well-curated gallery driven art fair—created specifically for enthusiastic Hamptonsites. Benefit from the East End’s widest and deepest selection of important primary and secondary market art. Featuring 130+ select galleries and best-in-class sponsors from all corners of the world. \nIt’s where the excitement\, anticipation and drama of an international fair connects with the main thoroughfare in the Hamptons. As a cosmopolitan art fair\, HFAF embraces the wider art ecosystem by presenting emerging galleries and their artists from scores of countries and states across the nation. This provides you with an understanding of diverse cultures and artistic sensibilities. Whether you’re an avid collector\, redecorating your home\, looking for just “the perfect piece” or just art curious\, you’ll uncover treasures for every budget level. Purchase Tickets HERE. \n\n\n\nShow Hours\n\n\n\n\nVIP Opening: Thursday\, July 10:\nVIP “First-Look” Opening Preview: 12-5pm– Benefits Guild Hall\nVIP Opening Preview Evening: 5-9:30pm – Benefits Parrish Art Museum \nVIP Collectors Day Opening: Friday\, July 11:\nEarly Session: 11am-3pm; Late Session: 3-7pm \n\n\n\n\n\n\n\n\n\nGeneral Admission:\nSaturday\, July 12: Early Session: 11am-3pm; Late Session: 3-7pm\nSunday\, July 13: Early Session: 11am-3pm; Late Session: 3-7pm \n\n\n 
URL:https://www.themiamiartscene.com/event/hamptons-fine-art-fair-2025/
LOCATION:Southampton Fairgounds\, 605 County Road 39\, Southampton\, NY\, 11968\, United States
ATTACH;FMTTYPE=image/jpeg:https://www.themiamiartscene.com/wp-content/uploads/2025/06/Hamptons-Fine-Art-Fair-e1749858745606.jpeg
END:VEVENT
BEGIN:VEVENT
DTSTART;TZID=America/New_York:20250710T180000
DTEND;TZID=America/New_York:20250710T200000
DTSTAMP:20260424T082254
CREATED:20250629T003158Z
LAST-MODIFIED:20250629T003158Z
UID:24121-1752170400-1752177600@www.themiamiartscene.com
SUMMARY:Arts Warehouse presents Summer Heat Exhibition
DESCRIPTION:Thursday\, July 10th from 6 – 8pm you are cordially invited to Arts Warehouse in Delray Beach for the Opening of the group exhibition\, Summer Heat\, reflecting on the multifaceted nature of the season when days are longest and darkness is shortest. This group exhibition features 25 artists working in various media and selected from an open call for art with over 130 artists submitting. \n  \nIMAGE: Cheryl Maeder‘s\, The Voyage\, Prelude\, ed. 1/10 \, 40 x 60 inches\, Archival Photograph on Acrylic. Internationally collected Video/Sound Installation Artist & Photographer Cheryl Maeder\, is best known for her conceptual style of photography\, video/sound art and filmmaking. The artist’s work is captivating\, optimistic and meaningful.
URL:https://www.themiamiartscene.com/event/arts-warehouse-presents-summer-heat-exhibition/
LOCATION:Arts Warehouse\, 313 Northeast 3rd Street\, Delray Beach\, FL\, 33444\, United States
ATTACH;FMTTYPE=image/jpeg:https://www.themiamiartscene.com/wp-content/uploads/2025/06/cheryl-maeder_arts-warehouse-e1751157064714.jpeg
END:VEVENT
BEGIN:VEVENT
DTSTART;TZID=America/New_York:20250712T180000
DTEND;TZID=America/New_York:20250712T200000
DTSTAMP:20260424T082254
CREATED:20250709T174757Z
LAST-MODIFIED:20250709T174757Z
UID:24205-1752343200-1752350400@www.themiamiartscene.com
SUMMARY:Britto Artist Appearance at Las Olas Store Event
DESCRIPTION:Saturday\, July 12th from 6 – 8pm enjoy an exclusive evening with Romero Britto at the BRITTO Las Olas Store\, meet the artist\, see his incredible work\, and enjoy a night of fun! This Event is FREE & Open to the Public | RSVP HERE.
URL:https://www.themiamiartscene.com/event/britto-artist-appearance-at-las-olas-store-event/
LOCATION:Britto Store Las Olas\, 816 E Las Olas Blvd.\, Fort Lauderdale\, FL\, 33301\, United States
ATTACH;FMTTYPE=image/png:https://www.themiamiartscene.com/wp-content/uploads/2025/07/britto-las-olas.png
END:VEVENT
BEGIN:VEVENT
DTSTART;TZID=America/New_York:20250712T190000
DTEND;TZID=America/New_York:20250712T230000
DTSTAMP:20260424T082254
CREATED:20250616T002403Z
LAST-MODIFIED:20250616T005250Z
UID:23961-1752346800-1752361200@www.themiamiartscene.com
SUMMARY:Wynwood Art District Second Saturdays Art Walk
DESCRIPTION:Saturday\, July 12th from 7-11pm enjoy the Wynwood Art District Second Saturday Art Walk. Experience open galleries\, studios and alternative art spaces throughout the district; located just north of downtown between 23rd and 30th streets and NW 2nd Avenue.
URL:https://www.themiamiartscene.com/event/wynwood-art-district-second-saturdays-art-walk-32/
LOCATION:FL
ATTACH;FMTTYPE=image/jpeg:https://www.themiamiartscene.com/wp-content/uploads/2025/06/wynwood-image-miami.jpeg
END:VEVENT
BEGIN:VEVENT
DTSTART;TZID=America/New_York:20250727T120000
DTEND;TZID=America/New_York:20250727T170000
DTSTAMP:20260424T082254
CREATED:20250725T170503Z
LAST-MODIFIED:20250725T170503Z
UID:24331-1753617600-1753635600@www.themiamiartscene.com
SUMMARY:NSU Art Museum: FREE Fort Lauderdale Neighbor Day
DESCRIPTION:Sunday\, July 27th from 12 – 5pm enjoy NSU Art Museum‘s FREE Fort Lauderdale Neighbor Day. Every LAST Sunday of every month\, Fort Lauderdale residents receive FREE admission to NSU Art Museum as part of Fort Lauderdale Neighbor Days. RSVP HERE. \nFort Lauderdale Residents Receive: \n\n2-for-1 Wine in the Museum Café\nFREE admission\, residents must show a photo ID\, driver’s license\, or residential utility bill with proof of Fort Lauderdale address.\nVisit the Museum Cafe & Store and receive 10% off books published by NSU Art Museum.\nFort Lauderdale Neighbor Day is made possible by the City of Fort Lauderdale.
URL:https://www.themiamiartscene.com/event/nsu-art-museum-free-fort-lauderdale-neighbor-day-31/
LOCATION:NSU Art Museum\, One East Las Olas Boulevard\, Fort Lauderdale\, FL\, 33301\, United States
ATTACH;FMTTYPE=image/png:https://www.themiamiartscene.com/wp-content/uploads/2022/09/nsu-art-museum_neighborday.png
END:VEVENT
BEGIN:VEVENT
DTSTART;TZID=America/New_York:20250729T130000
DTEND;TZID=America/New_York:20250803T150000
DTSTAMP:20260424T082254
CREATED:20250723T005737Z
LAST-MODIFIED:20250723T005737Z
UID:24310-1753794000-1754233200@www.themiamiartscene.com
SUMMARY:Intersect Aspen 2025
DESCRIPTION:Tuesday\, July 29th through Sunday\, August 3rd experience Intersect Aspen Art + Design Fair taking place at Aspen Ice Garden. PURCHASE TICKETS HERE. \nAspen comes alive in the summer with visitors flocking to the high mountain town to escape the heat and humidity found elsewhere. Intersect Aspen offers an intimate\, curated setting for visitors to encounter modern and contemporary art and design presented by galleries from around the world. This boutique fair is timed during Aspen’s peak art season\, attracting top collectors to the region for one of the art world’s most influential weekends of the year. \n\nHours\nVIP Preview \nTuesday\, July 29: 1 – 6 pm (1 – 3 pm VIP/All Access Pass only) \nGeneral Admission \nTuesday\, July 29: 3 – 6 pm\nWednesday\, July 30: 11 am – 6 pm\nThursday\, July 31: 11 am – 6 pm\nFriday\, August 1: 11 am – 6 pm\nSaturday\, August 2: 11 am – 6 pm (3:30 – 6 pm Crescendo Party)\nSunday\, August 3: 11 am – 3 pm
URL:https://www.themiamiartscene.com/event/intersect-aspen-2025/
LOCATION:Aspen Ice Garden\, 233 W Hyman Avenue\, Aspen\, CO\, 81611\, United States
ATTACH;FMTTYPE=image/jpeg:https://www.themiamiartscene.com/wp-content/uploads/2025/07/intersect-aspen-e1753232203430.jpeg
END:VEVENT
END:VCALENDAR