BEGIN:VCALENDAR
VERSION:2.0
PRODID:-//Miami Art Scene™ - ECPv6.15.20//NONSGML v1.0//EN
CALSCALE:GREGORIAN
METHOD:PUBLISH
X-ORIGINAL-URL:https://www.themiamiartscene.com
X-WR-CALDESC:Events for Miami Art Scene™
REFRESH-INTERVAL;VALUE=DURATION:PT1H
X-Robots-Tag:noindex
X-PUBLISHED-TTL:PT1H
BEGIN:VTIMEZONE
TZID:America/New_York
BEGIN:DAYLIGHT
TZOFFSETFROM:-0500
TZOFFSETTO:-0400
TZNAME:EDT
DTSTART:20250309T070000
END:DAYLIGHT
BEGIN:STANDARD
TZOFFSETFROM:-0400
TZOFFSETTO:-0500
TZNAME:EST
DTSTART:20251102T060000
END:STANDARD
BEGIN:DAYLIGHT
TZOFFSETFROM:-0500
TZOFFSETTO:-0400
TZNAME:EDT
DTSTART:20260308T070000
END:DAYLIGHT
BEGIN:STANDARD
TZOFFSETFROM:-0400
TZOFFSETTO:-0500
TZNAME:EST
DTSTART:20261101T060000
END:STANDARD
BEGIN:DAYLIGHT
TZOFFSETFROM:-0500
TZOFFSETTO:-0400
TZNAME:EDT
DTSTART:20270314T070000
END:DAYLIGHT
BEGIN:STANDARD
TZOFFSETFROM:-0400
TZOFFSETTO:-0500
TZNAME:EST
DTSTART:20271107T060000
END:STANDARD
END:VTIMEZONE
BEGIN:VEVENT
DTSTART;TZID=America/New_York:20260507T160000
DTEND;TZID=America/New_York:20260507T183000
DTSTAMP:20260423T143645
CREATED:20260414T220837Z
LAST-MODIFIED:20260414T220858Z
UID:26609-1778169600-1778178600@www.themiamiartscene.com
SUMMARY:NSU Art Museum Fort Lauderdale: Mini Muse - FREE Art Making
DESCRIPTION:Thursday\, May 7th from 4 – 6:30pm enjoy a fun-filled day of FREE art making & admission at NSU Art Museum Fort Lauderdale\, where you can unleash your creativity\, materials provided! \nNSU Art Museum Fort Lauderdale -Sunny Days/Starry Nights 5/7/26 \nMini Muse – FREE Art Making on Free First Thursday \nJoin the museum very First Thursday of the month for free all-day admission and art project. The Mini Muse art project will be offered on Thursday\, May 7th from 4:00pm -6:30pm. This drop-in art making event is open to every skillset and all ages. Grab your friends\, family\, or come alone\, and let your imagination run wild. \nMaterials provided and all are welcome. \nFamily Friendly \nFree all day admission: 11 am – 7 pm \nFree Public Tour: 12-1 pm \nFree Art Making: 4:00pm – 6:30 pm \n  \nRegistration is not required\, bring your friends and family to the museum with ease! \n 
URL:https://www.themiamiartscene.com/event/nsu-art-museum-fort-lauderdale-mini-muse-free-art-making/
LOCATION:NSU Art Museum\, One East Las Olas Boulevard\, Fort Lauderdale\, FL\, 33301\, United States
ATTACH;FMTTYPE=image/png:https://www.themiamiartscene.com/wp-content/uploads/2026/04/nsu-mini-muse.png
END:VEVENT
BEGIN:VEVENT
DTSTART;TZID=America/New_York:20260508T180000
DTEND;TZID=America/New_York:20260510T180000
DTSTAMP:20260423T143645
CREATED:20260331T200041Z
LAST-MODIFIED:20260331T200041Z
UID:26493-1778263200-1778436000@www.themiamiartscene.com
SUMMARY:Art International Zurich 2026
DESCRIPTION:Friday\, May 8th through Sunday\, May 10th experience the 28th Contemporary Art International Zurich Art Fair\, taking place at Puls 5 Hall\, Zurich\, Switzerland. The art fair explores a range of themes\, from identity and migration to memory\, depictions of nature and landscapes\, and questions of spirituality\, urbanization and social change. \nIt also addresses global issues such as resilience in times of crisis\, ecological responsibility and the search for belonging. Alongside figurative and realistic pieces\, there are expressive\, pop-surrealist and conceptual works that combine emotional depth with formal precision. Many of the pieces are interdisciplinary\, combining different art forms to create multilayered visual spaces influenced by cultures from around the world. \nThe exhibition offers new perspectives beyond the European mainstream and promotes dialogue between continents\, generations and disciplines. It acts as an international forum for contemporary art\, providing a diverse panorama that highlights global developments and broadens our view of the future. \nPuls 5 Event hall\nPuls 5 Giessereihalle\, 8005 Zurich\, Switzerland\nArrival: https://art-zurich.com/visit \nVernissage\nFriday\, 8 May: 6 pm – 10 pm \nHours\nFriday\, 8 May: 11 am – 10 pm (Vernissage from 6 pm)\nSaturday\, 9 May: 11 am – 9 pm\nSunday\, 10 May: 11 am – 6 pm \nContact\nE-mail: info@art-zurich.com \n 
URL:https://www.themiamiartscene.com/event/art-international-zurich-2026/
LOCATION:Puls 5 Event hall\, Puls 5 Giessereihalle\, Zurich\, Zurich\, 8005\, Switzerland
ATTACH;FMTTYPE=image/jpeg:https://www.themiamiartscene.com/wp-content/uploads/2026/03/artzurich26-poster-digitalad-e1774987218142.jpeg
END:VEVENT
BEGIN:VEVENT
DTSTART;TZID=America/New_York:20260508T180000
DTEND;TZID=America/New_York:20260510T180000
DTSTAMP:20260423T143645
CREATED:20260331T201259Z
LAST-MODIFIED:20260331T201259Z
UID:26498-1778263200-1778436000@www.themiamiartscene.com
SUMMARY:ArtGal.Online at Art International Zurich 2026 | Booth #14
DESCRIPTION:Friday\, May 8th through Sunday\, May 10th experience ArtGal.Online at the 28th Contemporary Art International Zurich Art Fair | Booth #14\, taking place at Puls 5 Hall\, Zurich\, Switzerland.  Artgal.Online is an international art platform dedicated to promoting contemporary African art\, with a strong focus on Zimbabwean artists. Founded in Switzerland\, Artgal.Online bridges cultural and geographic boundaries by connecting emerging and established artists with collectors\, institutions\, and global audiences through curated exhibitions\, art fairs\, and digital viewing rooms. \nArtgal.Online will present a curated exhibition of works by five Zimbabwean artists during Art International Zurich May 8-10\, 2026 | Booth #14\, taking place at Puls 5 Zurich\, Switzerland. The artists include: Keith Zenda\, Tonderai Mujuru\, Willard Mujuru\, Willard Magiga\, and Florah Maphosa. Together\, their works reflect a rich diversity of styles and themes\, ranging from symbolic storytelling and spiritual narratives to contemporary interpretations of daily life\, nature\, and identity. \n  \nVernissage\nFriday\, 8 May: 6 pm – 10 pm \nHours\nFriday\, 8 May: 11 am – 10 pm (Vernissage from 6 pm)\nSaturday\, 9 May: 11 am – 9 pm\nSunday\, 10 May: 11 am – 6 pm \n  \nIMAGE: Keith Zenda\, Goho – Harvest – Artgal Online\, Thundorf Switzerland\, 2025. Oil on Canvas\, 23 3/5 × 35 2/5 in | 60 × 90 cm.
URL:https://www.themiamiartscene.com/event/artgal-online-at-art-international-zurich-2026-booth-14/
LOCATION:Puls 5 Event hall\, Puls 5 Giessereihalle\, Zurich\, Zurich\, 8005\, Switzerland
ATTACH;FMTTYPE=image/png:https://www.themiamiartscene.com/wp-content/uploads/2026/03/artgal-1.png
END:VEVENT
BEGIN:VEVENT
DTSTART;TZID=America/New_York:20260509T120000
DTEND;TZID=America/New_York:20260513T133000
DTSTAMP:20260423T143645
CREATED:20260417T163528Z
LAST-MODIFIED:20260417T163528Z
UID:26620-1778328000-1778679000@www.themiamiartscene.com
SUMMARY:NSU Art Museum presents Creativity Exploration: Wander in Watercolor
DESCRIPTION:Saturday\, May 9th from 12 – 1:30pm NSU Art Museum presents Creativity Exploration: Wander in Watercolor. Inspired by the abstract paintings of Michelle Armas and Helen Frankenthaler\, wander through different approaches and techniques using watercolor painting and inks\, creating a colorful\, layered design. Activate play\, wonder\, and noticing through the intentional experimentation and exploration of working in watercolor. RSVP HERE. \nCreativity Exploration adult workshops promote the benefits of material exploration and the mind-to-body experience. “Research suggests that experiencing art and creativity\, even for a few minutes a day\, has tangible effects on our mental and physical health” (New York Times). In addition to producing a sense of well-being\, sessions expand participants’ perceptions of forms\, while increasing brain connectivity through visual and cognitive stimulation. The workshop is led by educator Lark Keeler\, a specialist in mindfulness education. \nExtend your sense of well-being after the class by visiting our galleries and the newly redesigned Huizenga Park\, located directly across Las Olas Blvd. \nPreregistration Required. Space is Limited. \nCreativity Exploration is sponsored by the Maurer Family Foundation. \nVeteran discount tickets thanks to Spirit Charitable Foundation. \nDate of event: 5/9/2026\nTime: Noon – 1:30 pm\nPricing: $15 for members; $25 for non-members\nLocation: NSU Art Museum\nAges: 18+
URL:https://www.themiamiartscene.com/event/nsu-art-museum-presents-creativity-exploration-wander-in-watercolor/
LOCATION:NSU Art Museum\, One East Las Olas Boulevard\, Fort Lauderdale\, FL\, 33301\, United States
ATTACH;FMTTYPE=image/jpeg:https://www.themiamiartscene.com/wp-content/uploads/2026/04/nsu-wander-in-watercolor.jpg
END:VEVENT
BEGIN:VEVENT
DTSTART;TZID=America/New_York:20260509T190000
DTEND;TZID=America/New_York:20260509T230000
DTSTAMP:20260423T143645
CREATED:20251215T003731Z
LAST-MODIFIED:20251215T003731Z
UID:25587-1778353200-1778367600@www.themiamiartscene.com
SUMMARY:Wynwood Art District Second Saturdays Art Walk
DESCRIPTION:Saturday\, May 9th from 7-11pm enjoy the Wynwood Art District Second Saturday Art Walk. Experience open galleries\, studios and alternative art spaces throughout the district; located just north of downtown between 23rd and 30th streets and NW 2nd Avenue.
URL:https://www.themiamiartscene.com/event/wynwood-art-district-second-saturdays-art-walk-42/
LOCATION:FL
ATTACH;FMTTYPE=image/jpeg:https://www.themiamiartscene.com/wp-content/uploads/2022/12/Wynwood-Miami-Wynwood-Art-Walk.jpg
END:VEVENT
END:VCALENDAR