BEGIN:VCALENDAR
VERSION:2.0
PRODID:-//Miami Art Scene™ - ECPv6.15.20//NONSGML v1.0//EN
CALSCALE:GREGORIAN
METHOD:PUBLISH
X-ORIGINAL-URL:https://www.themiamiartscene.com
X-WR-CALDESC:Events for Miami Art Scene™
REFRESH-INTERVAL;VALUE=DURATION:PT1H
X-Robots-Tag:noindex
X-PUBLISHED-TTL:PT1H
BEGIN:VTIMEZONE
TZID:America/New_York
BEGIN:DAYLIGHT
TZOFFSETFROM:-0500
TZOFFSETTO:-0400
TZNAME:EDT
DTSTART:20240310T070000
END:DAYLIGHT
BEGIN:STANDARD
TZOFFSETFROM:-0400
TZOFFSETTO:-0500
TZNAME:EST
DTSTART:20241103T060000
END:STANDARD
BEGIN:DAYLIGHT
TZOFFSETFROM:-0500
TZOFFSETTO:-0400
TZNAME:EDT
DTSTART:20250309T070000
END:DAYLIGHT
BEGIN:STANDARD
TZOFFSETFROM:-0400
TZOFFSETTO:-0500
TZNAME:EST
DTSTART:20251102T060000
END:STANDARD
BEGIN:DAYLIGHT
TZOFFSETFROM:-0500
TZOFFSETTO:-0400
TZNAME:EDT
DTSTART:20260308T070000
END:DAYLIGHT
BEGIN:STANDARD
TZOFFSETFROM:-0400
TZOFFSETTO:-0500
TZNAME:EST
DTSTART:20261101T060000
END:STANDARD
END:VTIMEZONE
BEGIN:VEVENT
DTSTART;TZID=America/New_York:20250827T180000
DTEND;TZID=America/New_York:20250827T200000
DTSTAMP:20260425T093341
CREATED:20250820T003415Z
LAST-MODIFIED:20250820T003415Z
UID:24540-1756317600-1756324800@www.themiamiartscene.com
SUMMARY:PAMM presents Museum Circle Preview: Elliot & Erick Jiménez: El Monte
DESCRIPTION:Wednesday\, August 27th from 6 – 8pm PAMM Museum Circle members are invited to join artists Elliot & Erick Jiménez and Associate Curator Maritza M. Lacayo for a special reception and exclusive preview of their first solo museum exhibition at the Pérez Art Museum Miami’s (PAMM). Exclusively for Museum Circle-level members and above. Become a member to receive your invitation. RSVP HERE. \nIdentical twins and first-generation Cuban-Americans\, Elliot & Erick Jiménez (b. 1989\, Miami) were born and raised in Miami by Cuban immigrants and now reside between Miami and New York. Their photographic practice began from an early passion for art history and influences derived from a spiritual upbringing and exposure to the Lucumí religion—a syncretic religion that combines both Yoruba and Catholic imagery. Inspired by paintings\, their work portrays the ephemeral nature of light and color through experimental photographic techniques.
URL:https://www.themiamiartscene.com/event/pamm-presents-museum-circle-preview-elliot-erick-jimenez-el-monte/
LOCATION:Pérez Art Museum Miami\, 1103 Biscayne Boulevard\, Miami\, FL\, 33132\, United States
ATTACH;FMTTYPE=image/png:https://www.themiamiartscene.com/wp-content/uploads/2025/08/pamm-2025.png
END:VEVENT
END:VCALENDAR