BEGIN:VCALENDAR
VERSION:2.0
PRODID:-//Miami Art Scene™ - ECPv6.15.20//NONSGML v1.0//EN
CALSCALE:GREGORIAN
METHOD:PUBLISH
X-WR-CALNAME:Miami Art Scene™
X-ORIGINAL-URL:https://www.themiamiartscene.com
X-WR-CALDESC:Events for Miami Art Scene™
REFRESH-INTERVAL;VALUE=DURATION:PT1H
X-Robots-Tag:noindex
X-PUBLISHED-TTL:PT1H
BEGIN:VTIMEZONE
TZID:America/New_York
BEGIN:DAYLIGHT
TZOFFSETFROM:-0500
TZOFFSETTO:-0400
TZNAME:EDT
DTSTART:20250309T070000
END:DAYLIGHT
BEGIN:STANDARD
TZOFFSETFROM:-0400
TZOFFSETTO:-0500
TZNAME:EST
DTSTART:20251102T060000
END:STANDARD
BEGIN:DAYLIGHT
TZOFFSETFROM:-0500
TZOFFSETTO:-0400
TZNAME:EDT
DTSTART:20260308T070000
END:DAYLIGHT
BEGIN:STANDARD
TZOFFSETFROM:-0400
TZOFFSETTO:-0500
TZNAME:EST
DTSTART:20261101T060000
END:STANDARD
BEGIN:DAYLIGHT
TZOFFSETFROM:-0500
TZOFFSETTO:-0400
TZNAME:EDT
DTSTART:20270314T070000
END:DAYLIGHT
BEGIN:STANDARD
TZOFFSETFROM:-0400
TZOFFSETTO:-0500
TZNAME:EST
DTSTART:20271107T060000
END:STANDARD
END:VTIMEZONE
BEGIN:VEVENT
DTSTART;TZID=America/New_York:20260328T110000
DTEND;TZID=America/New_York:20260328T160000
DTSTAMP:20260423T162729
CREATED:20260319T005133Z
LAST-MODIFIED:20260319T005151Z
UID:26390-1774695600-1774713600@www.themiamiartscene.com
SUMMARY:Boca Raton Museum of Art: Creation Station
DESCRIPTION:Saturday\, March 28th from 11am – 4pm enjoy Creation Station at the Boca Raton Museum of Art. Creation Station invites families to drop in and get creative together. Pick up a free kit with all the materials needed to craft your own masterpiece inspired by the works on view. Designed for children ages 5 and up. No preregistration required—just bring your imagination! \nMarch 28 Session: Branch Out into Creativity. This month\, families will discover Angels and Ancestors\, a sculpture by Wendy Wischer that’s filled with leafy shapes and sparkling crystals. After viewing the artwork in the galleries\, families can head to Creation Station to experiment with sculptural materials and build their own nature‑inspired creations.
URL:https://www.themiamiartscene.com/event/boca-raton-museum-of-art-creation-station/
LOCATION:Boca Raton Museum of Art\, 501 Plaza Real\, Boca Raton\, FL\, 33432\, United States
ATTACH;FMTTYPE=image/jpeg:https://www.themiamiartscene.com/wp-content/uploads/2026/03/boca-creation-station-02.jpeg
END:VEVENT
BEGIN:VEVENT
DTSTART;TZID=America/New_York:20260328T120000
DTEND;TZID=America/New_York:20260328T140000
DTSTAMP:20260423T162729
CREATED:20260313T172441Z
LAST-MODIFIED:20260313T172441Z
UID:26212-1774699200-1774706400@www.themiamiartscene.com
SUMMARY:CAMP Gallery presents Opening The Thread: Collective Weaving Circle Workshop
DESCRIPTION:Saturday\, March 28th from 12 – 2pm The Contemporary Art Modern Project (CAMP Gallery) invites you to enjoy a workshop at the gallery\, Opening The Thread: Collective Weaving Circle. The Contemporary Art Modern Project presents artists Sarah Laing\, Marine Fonteyne\, Mila Hajjar\, an intergenerational weaving session inside the Red Tent. Participants are invited to sit\, stitch\, and contribute a red thread to a growing communal textile. The activation reflects on ancestral labor\, women’s circles\, and textile as shared language. This Event is FREE & Open to the Public. \nThis art programming is part of CAMP Gallery’s March exhibition\, Under The Red Tent\, an immersive fiber exhibition that brings together 20 artists whose practices engage thread and textile as tools of storytelling\, connection\, and resistance\, in collaboration with Red Thread Art Studio Miami. The exhibition is curated by Red Thread Art Studio Miami founder & fiber artist Aurora Molina. Under The Red Tent will be on view through Sunday\, April 26th. \n 
URL:https://www.themiamiartscene.com/event/camp-gallery-presents-opening-the-thread-collective-weaving-circle-workshop/
LOCATION:The Contemporary Art Modern Project (The CAMP Gallery)\, 791-793 NE 125th Street\, North Miami\, FL\, 33161\, United States
ATTACH;FMTTYPE=image/jpeg:https://www.themiamiartscene.com/wp-content/uploads/2026/03/camp-under-the-red-tent-art.jpeg
END:VEVENT
BEGIN:VEVENT
DTSTART;TZID=America/New_York:20260328T120000
DTEND;TZID=America/New_York:20260328T140000
DTSTAMP:20260423T162729
CREATED:20260327T183119Z
LAST-MODIFIED:20260327T183119Z
UID:26443-1774699200-1774706400@www.themiamiartscene.com
SUMMARY:The Contemporary Art Modern Project (CAMP) presents Tender Repairs: A Sewing Workshop at CAMP Gallery
DESCRIPTION:Saturday\, March 28th from 12noon – 2pm join The Contemporary Art modern Project (CAMP Gallery) in North Miami for their third creative workshop activating the gallery for their current exhibition “Under The Red Tent.” The Contemporary Art Modern Project in collaboration with Red Thread Art Studio Miami is continuing with a series of activations for Under The Red Tent\, on view at the gallery through April 26th. \nThis Saturday\, March 28ths exhibiting artists Sarah Laing\, Marine Fonteyne & Mila Hajjar are joining us with a beginner friendly sewing workshop. \nLed by Sarah Laing\, this workshop invites participants into a contemplative stitching practice where thread becomes a gesture of healing and quiet ritual. Through slow hand-sewing and visible mending\, we explore fragility not as weakness\, but as a sacred site of transformation. Each stitch acts as breath\, intention\, and witness — honoring what has been torn while choosing to remain in relationship with it. \nNo sewing experience is required. This workshop centers presence\, reflection\, and the quiet power of repair. This Event is Free & Open to the Public\, RSVP HERE.
URL:https://www.themiamiartscene.com/event/the-contemporary-art-modern-project-camp-presents-tender-repairs-a-sewing-workshop-at-camp-gallery/
LOCATION:The Contemporary Art Modern Project (The CAMP Gallery)\, 791-793 NE 125th Street\, North Miami\, FL\, 33161\, United States
ATTACH;FMTTYPE=image/png:https://www.themiamiartscene.com/wp-content/uploads/2026/03/camp-under-the-red-tent-a-sewing-circle-and-workshop.png
END:VEVENT
BEGIN:VEVENT
DTSTART;TZID=America/New_York:20260328T140000
DTEND;TZID=America/New_York:20260328T160000
DTSTAMP:20260423T162729
CREATED:20260315T200334Z
LAST-MODIFIED:20260315T203842Z
UID:26233-1774706400-1774713600@www.themiamiartscene.com
SUMMARY:Meet The Artist: Romero Britto Live at Brickell City Centre
DESCRIPTION:Saturday\, March 28th from 2 – 4pm meet Romero Britto live at BRITTO Brickell City Centre! Signing + meet & greet. Reservation required — limited spots available. Exclusive Appearance: Romero Britto Live at Brickell City Centre! Get ready for a unique experience with the world-renowned artist Romero Britto\, this is your chance to connect with Britto\, capture the moment\, and add a personalized touch to your collection. Guests will enjoy an Artist Appearance\, Signing Session\, Live DJ & Drinks! \nReservations are required to secure your place in the signing line. Space is limited and expected to fill quickly. RESERVE YOUR SPOT HERE.
URL:https://www.themiamiartscene.com/event/meet-the-artist-romero-britto-live-at-brickell-city-centre/
LOCATION:Brickell City Centre\, 701 S Miami Avenue #272C\, Miami\, FL\, 33130\, United States
ATTACH;FMTTYPE=image/png:https://www.themiamiartscene.com/wp-content/uploads/2026/03/Britto-Brickell.png
END:VEVENT
END:VCALENDAR