BEGIN:VCALENDAR
VERSION:2.0
PRODID:-//Miami Art Scene™ - ECPv6.15.20//NONSGML v1.0//EN
CALSCALE:GREGORIAN
METHOD:PUBLISH
X-ORIGINAL-URL:https://www.themiamiartscene.com
X-WR-CALDESC:Events for Miami Art Scene™
REFRESH-INTERVAL;VALUE=DURATION:PT1H
X-Robots-Tag:noindex
X-PUBLISHED-TTL:PT1H
BEGIN:VTIMEZONE
TZID:America/New_York
BEGIN:DAYLIGHT
TZOFFSETFROM:-0500
TZOFFSETTO:-0400
TZNAME:EDT
DTSTART:20250309T070000
END:DAYLIGHT
BEGIN:STANDARD
TZOFFSETFROM:-0400
TZOFFSETTO:-0500
TZNAME:EST
DTSTART:20251102T060000
END:STANDARD
BEGIN:DAYLIGHT
TZOFFSETFROM:-0500
TZOFFSETTO:-0400
TZNAME:EDT
DTSTART:20260308T070000
END:DAYLIGHT
BEGIN:STANDARD
TZOFFSETFROM:-0400
TZOFFSETTO:-0500
TZNAME:EST
DTSTART:20261101T060000
END:STANDARD
BEGIN:DAYLIGHT
TZOFFSETFROM:-0500
TZOFFSETTO:-0400
TZNAME:EDT
DTSTART:20270314T070000
END:DAYLIGHT
BEGIN:STANDARD
TZOFFSETFROM:-0400
TZOFFSETTO:-0500
TZNAME:EST
DTSTART:20271107T060000
END:STANDARD
END:VTIMEZONE
BEGIN:VEVENT
DTSTART;TZID=America/New_York:20260307T110000
DTEND;TZID=America/New_York:20260307T110000
DTSTAMP:20260423T142834
CREATED:20260305T011625Z
LAST-MODIFIED:20260305T011625Z
UID:26181-1772881200-1772881200@www.themiamiartscene.com
SUMMARY:MIFA Open Studio: Marco Caridad Studio #102
DESCRIPTION:Saturday\, March 7th at 11am enjoy an Open Studio visit with contemporary artist Marco Caridad at Miami International Fine Arts (MIFA)\, Studio #102. Inside the Studios is not an exhibition; it’s an access point. A glimpse into the process before resolution. \nThe artist will be sharing work across several contexts this Spring: opening his studio at MIFA\, participating in a group exhibition at the Hollywood Art & Culture Center\, and presenting work in SoHo with Gallery Galleon. His recent work continues to explore systems of visibility\, identity\, and collective participation through assemblage\, video performance\, and printmaking. \n 
URL:https://www.themiamiartscene.com/event/mifa-open-studio-marco-caridad-studio-102/
LOCATION:Miami International Fine Arts (MIFA)\, 5900 Northwest 74th Avenue\, Miami\, FL\, 33166\, United States
ATTACH;FMTTYPE=image/jpeg:https://www.themiamiartscene.com/wp-content/uploads/2026/03/marco-caridad-mifa-open-studios.jpeg
END:VEVENT
END:VCALENDAR