BEGIN:VCALENDAR
VERSION:2.0
PRODID:-//Miami Art Scene™ - ECPv6.15.20//NONSGML v1.0//EN
CALSCALE:GREGORIAN
METHOD:PUBLISH
X-WR-CALNAME:Miami Art Scene™
X-ORIGINAL-URL:https://www.themiamiartscene.com
X-WR-CALDESC:Events for Miami Art Scene™
REFRESH-INTERVAL;VALUE=DURATION:PT1H
X-Robots-Tag:noindex
X-PUBLISHED-TTL:PT1H
BEGIN:VTIMEZONE
TZID:America/New_York
BEGIN:DAYLIGHT
TZOFFSETFROM:-0500
TZOFFSETTO:-0400
TZNAME:EDT
DTSTART:20240310T070000
END:DAYLIGHT
BEGIN:STANDARD
TZOFFSETFROM:-0400
TZOFFSETTO:-0500
TZNAME:EST
DTSTART:20241103T060000
END:STANDARD
BEGIN:DAYLIGHT
TZOFFSETFROM:-0500
TZOFFSETTO:-0400
TZNAME:EDT
DTSTART:20250309T070000
END:DAYLIGHT
BEGIN:STANDARD
TZOFFSETFROM:-0400
TZOFFSETTO:-0500
TZNAME:EST
DTSTART:20251102T060000
END:STANDARD
BEGIN:DAYLIGHT
TZOFFSETFROM:-0500
TZOFFSETTO:-0400
TZNAME:EDT
DTSTART:20260308T070000
END:DAYLIGHT
BEGIN:STANDARD
TZOFFSETFROM:-0400
TZOFFSETTO:-0500
TZNAME:EST
DTSTART:20261101T060000
END:STANDARD
END:VTIMEZONE
BEGIN:VEVENT
DTSTART;TZID=America/New_York:20251102T120000
DTEND;TZID=America/New_York:20251102T160000
DTSTAMP:20260424T005725
CREATED:20251031T195907Z
LAST-MODIFIED:20251031T200210Z
UID:25189-1762084800-1762099200@www.themiamiartscene.com
SUMMARY:Dana Kleinman and Nathalie Alfonso invite you to their Studio Residency kickoff!
DESCRIPTION:Sunday\, November 2nd from 12 – 4pm join Dana Kleinman and Nathalie Alfonso as they kick off their Studio Residency at the Art and Culture Center Hollywood during their Arts Hub Grand Opening Sunday 11/2. \nExplore the new Arts Hub\, enjoy performances\, art making\, film screenings\, gallery and studio tours from 12-4pm. Light refreshments will be served\, and multiple tours will be available for guests to enjoy! Dana & Nathalie will be in their studios welcoming guests beginning at 12:30.
URL:https://www.themiamiartscene.com/event/dana-kleinman-and-nathalie-alfonso-invite-you-to-their-studio-residency-kickoff/
LOCATION:Art and Culture Center/Hollywood\, 1650 Harrison Street\, Hollywood\, FL\, 33020\, United States
ATTACH;FMTTYPE=image/png:https://www.themiamiartscene.com/wp-content/uploads/2025/10/dana-and-nathalie-e1761940740862.png
END:VEVENT
BEGIN:VEVENT
DTSTART;TZID=America/New_York:20251107T190000
DTEND;TZID=America/New_York:20251107T220000
DTSTAMP:20260424T005725
CREATED:20251012T183116Z
LAST-MODIFIED:20251012T183116Z
UID:24896-1762542000-1762552800@www.themiamiartscene.com
SUMMARY:Bakehouse at Forty: Past\, Present\, Future
DESCRIPTION:Friday\, November 7th from 7 – 10pm join the Bakehouse Art Complex for their 40th Birthday Party + the 100th of their Iconic Deco-Era Building. PURCHASE TICKETS | RSVP HERE. \nBakehouse is turning 40 — and it’s iconic Art Deco-era building is turning 100! \nJoin Bakehouse Art Complex for a night to remember as they celebrate this double milestone with art\, music\, food\, and plenty of dancing. \nArtists’ Proof | 40/100 will feature: \n✨ Exhibition Preview – Bakehouse at Forty: Past\, Present\, Future \n✨ Open Studios with Bakehouse resident artists \n✨ Drinks\, food\, and birthday treats \n✨ Salsa under the stars\, led by Salsa Z \n  \nCome dressed in your birthday best and raise a glass with to celebrate four decades of Bakehouse and a century of the building’s history. \nTickets: \n🎟️ $40 per person in advance \n🎟️ $100 per person at the door \n— \nPlease enter through the pedestrian gate adjacent to the yellow building facing 32nd Street.
URL:https://www.themiamiartscene.com/event/bakehouse-at-forty-past-present-future/
LOCATION:Bakehouse Art Complex\, 561 NW 32nd Street\, Miami\, FL\, 33127\, United States
ATTACH;FMTTYPE=image/jpeg:https://www.themiamiartscene.com/wp-content/uploads/2025/10/bakehouse-40th-bday-party-scaled-e1760293853877.jpeg
END:VEVENT
BEGIN:VEVENT
DTSTART;TZID=America/New_York:20251115T173000
DTEND;TZID=America/New_York:20251115T193000
DTSTAMP:20260424T005725
CREATED:20251031T212858Z
LAST-MODIFIED:20251031T212858Z
UID:25193-1763227800-1763235000@www.themiamiartscene.com
SUMMARY:NSU Art Museum presents Robert Rauschenberg: Real Time | Members Preview
DESCRIPTION:Saturday\, November 15th from 5:30 – 7:30pm NSU Art Museum presents the Members Preview of Robert Rauschenberg: Real Time. \nRobert Rauschenberg: Real Time is part of the centennial celebration of the artist’s birth. Hosted in South Florida\, the state Rauschenberg called home from late 1970 until his death in 2008\, the exhibition features NSU Art Museum’s extensive holdings of experimental prints from the 1970s and his photographs from the early 1950s on loan from the Frederick R. Weisman Art Foundation. Also on view are films by Charles Atlas of Rauschenberg’s set and costume collaborations with choreographer Merce Cunningham. \nRiddle of the Sphinx Part II\nFeatures Recent Acquisitions to the Permanent Collection \nMembers Preview Reception\nSaturday\, November 15\, 2025 \nMembers Opening: 5:30 – 7:30 pm \nDance performance/Damaris Ferrer: 6:30 pm \nFREE for Members | $25 non-members \n  \n~BECOME A MEMBER~ \n  \n  \n 
URL:https://www.themiamiartscene.com/event/nsu-art-museum-presents-robert-rauschenberg-real-time-members-preview/
LOCATION:NSU Art Museum\, One East Las Olas Boulevard\, Fort Lauderdale\, FL\, 33301\, United States
ATTACH;FMTTYPE=image/jpeg:https://www.themiamiartscene.com/wp-content/uploads/2025/10/Rauschenberg-Centennial-Post-2-e1761946123603.jpeg
END:VEVENT
BEGIN:VEVENT
DTSTART;TZID=America/New_York:20251120T180000
DTEND;TZID=America/New_York:20251120T200000
DTSTAMP:20260424T005725
CREATED:20251031T165116Z
LAST-MODIFIED:20251031T165116Z
UID:25180-1763661600-1763668800@www.themiamiartscene.com
SUMMARY:YoungArts Open Studios
DESCRIPTION:Thursday\, November 20th from 6-8pm enjoy an open studio experience at the YoungArts Gallery. This intimate gathering invites you into the creative spaces of our current artists-in-residence: Andres Gimenez (2016 Film)\, Nadege Green (2005 Writing)\, Qadir Parris (2022 Visual Arts) and Nadia Wolff (2016 Design\, Visual Arts & U.S. Presidential Scholar in the Arts). Enjoy light bites and refreshments as you explore works in progress\, hear directly from the artists\, and connect with the local arts community. Free and open to the public—RSVP encouraged. \n  \nParticipating Artists \nAndres Gimenez (2016 Film) \nNadege Green (2005 Writing) \nQadir Parris (2022 Visual Arts) \nNadia Wolff (2016 Design\, Visual Arts & U.S. Presidential Scholar in the Arts)
URL:https://www.themiamiartscene.com/event/youngarts-open-studios/
LOCATION:YoungArts Gallery\, 2100 Biscayne Boulevard\, Miami\, FL\, 33137\, United States
ATTACH;FMTTYPE=image/png:https://www.themiamiartscene.com/wp-content/uploads/2025/10/YoungArts-Open-Studios.png
END:VEVENT
END:VCALENDAR