BEGIN:VCALENDAR
VERSION:2.0
PRODID:-//Miami Art Scene™ - ECPv6.15.20//NONSGML v1.0//EN
CALSCALE:GREGORIAN
METHOD:PUBLISH
X-WR-CALNAME:Miami Art Scene™
X-ORIGINAL-URL:https://www.themiamiartscene.com
X-WR-CALDESC:Events for Miami Art Scene™
REFRESH-INTERVAL;VALUE=DURATION:PT1H
X-Robots-Tag:noindex
X-PUBLISHED-TTL:PT1H
BEGIN:VTIMEZONE
TZID:America/New_York
BEGIN:DAYLIGHT
TZOFFSETFROM:-0500
TZOFFSETTO:-0400
TZNAME:EDT
DTSTART:20250309T070000
END:DAYLIGHT
BEGIN:STANDARD
TZOFFSETFROM:-0400
TZOFFSETTO:-0500
TZNAME:EST
DTSTART:20251102T060000
END:STANDARD
BEGIN:DAYLIGHT
TZOFFSETFROM:-0500
TZOFFSETTO:-0400
TZNAME:EDT
DTSTART:20260308T070000
END:DAYLIGHT
BEGIN:STANDARD
TZOFFSETFROM:-0400
TZOFFSETTO:-0500
TZNAME:EST
DTSTART:20261101T060000
END:STANDARD
BEGIN:DAYLIGHT
TZOFFSETFROM:-0500
TZOFFSETTO:-0400
TZNAME:EDT
DTSTART:20270314T070000
END:DAYLIGHT
BEGIN:STANDARD
TZOFFSETFROM:-0400
TZOFFSETTO:-0500
TZNAME:EST
DTSTART:20271107T060000
END:STANDARD
END:VTIMEZONE
BEGIN:VEVENT
DTSTART;TZID=America/New_York:20260218T180000
DTEND;TZID=America/New_York:20260218T200000
DTSTAMP:20260423T174528
CREATED:20260214T012757Z
LAST-MODIFIED:20260214T014235Z
UID:26007-1771437600-1771444800@www.themiamiartscene.com
SUMMARY:The Frank Art Gallery in Pembroke Pines presents a conversation with Edison Peñafiel
DESCRIPTION:Wednesday\, February 18th from 6 – 8pm join The Frank Art Gallery in Pembroke Pines for an insightful conversation with artist Edison Peñafiel\, learn more about his process and practice. Moderated by The Frank’s Chief Curator\, Sophie Bonet\, this free discussion will explore themes of memory\, migration\, and transitions. Registration is not required; light refreshments will be provided. This Event is Free & Open to The Public | RSVP HERE. All are Welcome! \nGuests can explore Edison Peñafiel’s current exhibition at The Frank\, ‘Me pongo el sol al hombro y el mundo es amarillo‘ (I Carry the Sun on My Shoulder and the World Turns Yellow)\, a large-scale installation on view at The Frank\, January 29th through April 11th\, 2026. \nIn Edison Peñafiel’s Me pongo el sol al hombro y el mundo es amarillo (I Carry the Sun on My Shoulder and the World Turns Yellow)\, the exhibition features a large-scale installation composed of suspended painted curtains that shape the gallery into a space of movement\, pause\, and shifting perspective. As visitors walk through the work\, scenes unfold gradually—figures resting\, departing\, and lingering in moments of transition. Rather than offering a single point of view\, the installation encourages viewers to slow down\, wander\, and experience the work through their own movement. Color\, scale\, and material create a rhythmic environment that invites reflection on presence\, memory\, and the experience of carrying forward. *Made possible with support from the Broward County Cultural Division. \n  \n \nMe pongo el sol al hombro y el mundo es amarillo\, 2026. The Frank in Pembroke Pines.
URL:https://www.themiamiartscene.com/event/the-frank-art-gallery-in-pembroke-pines-presents-a-conversation-with-edison-penafiel/
LOCATION:The Frank\, 601 City Center Way\, Pembroke Pines\, FL\, 33025\, United States
ATTACH;FMTTYPE=image/jpeg:https://www.themiamiartscene.com/wp-content/uploads/2026/02/frank-edison-art-talk-e1771032462970.jpeg
END:VEVENT
BEGIN:VEVENT
DTSTART;TZID=America/New_York:20260221T150000
DTEND;TZID=America/New_York:20260221T160000
DTSTAMP:20260423T174528
CREATED:20260116T175228Z
LAST-MODIFIED:20260116T175503Z
UID:25819-1771686000-1771689600@www.themiamiartscene.com
SUMMARY:NSU Art Museum presents Dr. Rocky Ruggiero Lecture: Imagery and Meaning in Italian Renaissance Painting
DESCRIPTION:Saturday\, February 21st from 3 – 4pm NSU Art Museum presents Dr. Rocky Ruggiero Lecture: Imagery and Meaning in Italian Renaissance Painting. While famous masterpieces such as the “Mona Lisa\,” the “Birth of Venus\,” and the “Sistine Chapel\, Ceiling” draw massive crowds in Italy\, most Italian Renaissance paintings in US museums are passed over for more readable\, recognizable\, and user-friendly 19th and/or 20th-century paintings. Museum-goers today often have a difficult time recognizing the characters\, knowing the theology\, identifying with the morality\, or understanding the function of most Italian Renaissance paintings. Dr. Rocky Ruggiero will “read between the brushstrokes” to explain the meaning behind the imagery of painted masterpieces from the Italian Renaissance. \nAdmission is free for members\, $16 for non-members. Space is limited. Preregistration Required. RSVP HERE. Not a Member yet? Become one Today! Join HERE. \n  \nAbout Dr. Rocky Ruggiero: Rocky Ruggiero has been a professor of Art and Architectural History since 1999. He received his BA from the College of the Holy Cross and a Master of Arts degree from Syracuse University\, where he was awarded a prestigious Florence Fellowship in 1996. He furthered his art historical studies at the University of Exeter\, UK\, where he received a Ph.D. in Art History and Visual Culture. In addition to lecturing for various American universities in Florence\, Italy\, including Syracuse\, Kent State\, Vanderbilt\, and Boston College\, Rocky has starred in various TV documentaries concerning the Italian Renaissance. He recently appeared as an expert witness for NBC News\, as well as in the History Channel’s “Engineering an Empire: Da Vinci’s World” and “Museum Secrets: the Uffizi Gallery”\, and the recent NatGeo/NOVA PBS program on Brunelleschi’s dome entitled “Great Cathedral Mystery.”\nAfter living in Florence\, Italy\, for 20 years\, Rocky and his family moved to East Greenwich\, RI\, and he now divides his time between the US and Italy.\nRocky also shares his knowledge and love of Italian art as an academic advisory board member of the non-profit group Friends of Florence and as a frequent collaborator and lecturer for the Friends of the Uffizi Gallery\, both of which have provided funds for the restoration of numerous works of art throughout Florence. He also lectures and serves as a college liaison for the prestigious Jay Pritzker Academy in Siem Reap\, Cambodia.
URL:https://www.themiamiartscene.com/event/nsu-art-museum-presents-dr-rocky-ruggiero-lecture-imagery-and-meaning-in-italian-renaissance-painting/
LOCATION:FL
ATTACH;FMTTYPE=image/jpeg:https://www.themiamiartscene.com/wp-content/uploads/2026/01/rocky-jan-nsu.jpeg
END:VEVENT
END:VCALENDAR