BEGIN:VCALENDAR
VERSION:2.0
PRODID:-//Miami Art Scene™ - ECPv6.15.20//NONSGML v1.0//EN
CALSCALE:GREGORIAN
METHOD:PUBLISH
X-WR-CALNAME:Miami Art Scene™
X-ORIGINAL-URL:https://www.themiamiartscene.com
X-WR-CALDESC:Events for Miami Art Scene™
REFRESH-INTERVAL;VALUE=DURATION:PT1H
X-Robots-Tag:noindex
X-PUBLISHED-TTL:PT1H
BEGIN:VTIMEZONE
TZID:America/New_York
BEGIN:DAYLIGHT
TZOFFSETFROM:-0500
TZOFFSETTO:-0400
TZNAME:EDT
DTSTART:20240310T070000
END:DAYLIGHT
BEGIN:STANDARD
TZOFFSETFROM:-0400
TZOFFSETTO:-0500
TZNAME:EST
DTSTART:20241103T060000
END:STANDARD
BEGIN:DAYLIGHT
TZOFFSETFROM:-0500
TZOFFSETTO:-0400
TZNAME:EDT
DTSTART:20250309T070000
END:DAYLIGHT
BEGIN:STANDARD
TZOFFSETFROM:-0400
TZOFFSETTO:-0500
TZNAME:EST
DTSTART:20251102T060000
END:STANDARD
BEGIN:DAYLIGHT
TZOFFSETFROM:-0500
TZOFFSETTO:-0400
TZNAME:EDT
DTSTART:20260308T070000
END:DAYLIGHT
BEGIN:STANDARD
TZOFFSETFROM:-0400
TZOFFSETTO:-0500
TZNAME:EST
DTSTART:20261101T060000
END:STANDARD
END:VTIMEZONE
BEGIN:VEVENT
DTSTART;TZID=America/New_York:20250215T100000
DTEND;TZID=America/New_York:20250217T170000
DTSTAMP:20260425T103651
CREATED:20250124T163215Z
LAST-MODIFIED:20250211T185043Z
UID:23017-1739613600-1739811600@www.themiamiartscene.com
SUMMARY:Coconut Grove Arts Festival 2025
DESCRIPTION:Saturday\, February 15th through Monday\, February 17th enjoy the 61st Annual Coconut Grove Arts Festival taking place Presidents Day Weekend\, February 15·16·17\, 2025. \nThe Coconut Grove Arts Festival® is an annual\, three-day outdoor event\, celebrating fine arts\, live performances and local flavors. Held every Presidents’ Day Weekend\, the Arts Festival is considered one of the nation’s most stellar arts festivals and is held right here in Miami’s charming village of Coconut Grove. For nearly one mile along Biscayne Bay’s waterfront streets\, more than 360 internationally-recognized and jury-selected artists showcase their spectacular works\, spanning across 15 stunning visual categories. You’re invited for art\, food\, music and fun! \n  \nSat. Feb 15: 10AM – 6PM \nSun. Feb 16: 10AM – 6 PM \nMon. Feb 17: 10 AM – 5PM
URL:https://www.themiamiartscene.com/event/coconut-grove-arts-festival-2025/
LOCATION:Coconut Grove Arts Festival\, 2700 S. Bayshore Drive\, Miami\, FL\, 33133\, United States
ATTACH;FMTTYPE=image/jpeg:https://www.themiamiartscene.com/wp-content/uploads/2025/01/coconut-grove-arts-festival-e1737736304915.jpeg
END:VEVENT
BEGIN:VEVENT
DTSTART;TZID=America/New_York:20250215T103000
DTEND;TZID=America/New_York:20250215T123000
DTSTAMP:20260425T103651
CREATED:20250202T203641Z
LAST-MODIFIED:20250202T203641Z
UID:23074-1739615400-1739622600@www.themiamiartscene.com
SUMMARY:The Official Art Deco Walking Tour by The Miami Design Preservation League
DESCRIPTION:Saturday\, February 15th from 10:30am – 12:30pm experience the Official Art Deco District Walking Tour presented by the Miami Design Preservation League. This 1.5 to 2-hour walking tour provides an introduction to the Art Deco\, Mediterranean Revival\, and Miami Modern (MiMo) styles found within the Miami Beach Architectural Historic District. Explore hotels\, restaurants\, and other commercial structures with a visit to a number of interiors. Choose from select dates / PURCHASE TICKETS HERE. \nTour ticket includes free entry to the Art Deco Museum as well as 10% off at the Gift Shop.
URL:https://www.themiamiartscene.com/event/the-official-art-deco-walking-tour-by-the-miami-design-preservation-league-538/
LOCATION:Art Deco Welcome Center\, 1001 Ocean Drive\, Miami Beach\, FL\, 33139\, United States
ATTACH;FMTTYPE=image/jpeg:https://www.themiamiartscene.com/wp-content/uploads/2023/06/miami-beach-art-deco-district.jpg
END:VEVENT
END:VCALENDAR