BEGIN:VCALENDAR
VERSION:2.0
PRODID:-//Miami Art Scene™ - ECPv6.15.20//NONSGML v1.0//EN
CALSCALE:GREGORIAN
METHOD:PUBLISH
X-WR-CALNAME:Miami Art Scene™
X-ORIGINAL-URL:https://www.themiamiartscene.com
X-WR-CALDESC:Events for Miami Art Scene™
REFRESH-INTERVAL;VALUE=DURATION:PT1H
X-Robots-Tag:noindex
X-PUBLISHED-TTL:PT1H
BEGIN:VTIMEZONE
TZID:America/New_York
BEGIN:DAYLIGHT
TZOFFSETFROM:-0500
TZOFFSETTO:-0400
TZNAME:EDT
DTSTART:20240310T070000
END:DAYLIGHT
BEGIN:STANDARD
TZOFFSETFROM:-0400
TZOFFSETTO:-0500
TZNAME:EST
DTSTART:20241103T060000
END:STANDARD
BEGIN:DAYLIGHT
TZOFFSETFROM:-0500
TZOFFSETTO:-0400
TZNAME:EDT
DTSTART:20250309T070000
END:DAYLIGHT
BEGIN:STANDARD
TZOFFSETFROM:-0400
TZOFFSETTO:-0500
TZNAME:EST
DTSTART:20251102T060000
END:STANDARD
BEGIN:DAYLIGHT
TZOFFSETFROM:-0500
TZOFFSETTO:-0400
TZNAME:EDT
DTSTART:20260308T070000
END:DAYLIGHT
BEGIN:STANDARD
TZOFFSETFROM:-0400
TZOFFSETTO:-0500
TZNAME:EST
DTSTART:20261101T060000
END:STANDARD
END:VTIMEZONE
BEGIN:VEVENT
DTSTART;TZID=America/New_York:20250307T103000
DTEND;TZID=America/New_York:20250307T123000
DTSTAMP:20260425T071102
CREATED:20250302T014620Z
LAST-MODIFIED:20250302T014620Z
UID:23213-1741343400-1741350600@www.themiamiartscene.com
SUMMARY:The Official Art Deco Walking Tour by The Miami Design Preservation League
DESCRIPTION:Friday\, March 7th from 10:30am – 12:30pm experience the Official Art Deco District Walking Tour presented by the Miami Design Preservation League. This 1.5 to 2-hour walking tour provides an introduction to the Art Deco\, Mediterranean Revival\, and Miami Modern (MiMo) styles found within the Miami Beach Architectural Historic District. Explore hotels\, restaurants\, and other commercial structures with a visit to a number of interiors. Choose from select dates / PURCHASE TICKETS HERE. \nTour ticket includes free entry to the Art Deco Museum as well as 10% off at the Gift Shop.
URL:https://www.themiamiartscene.com/event/the-official-art-deco-walking-tour-by-the-miami-design-preservation-league-558/
LOCATION:Art Deco Welcome Center\, 1001 Ocean Drive\, Miami Beach\, FL\, 33139\, United States
ATTACH;FMTTYPE=image/jpeg:https://www.themiamiartscene.com/wp-content/uploads/2022/06/art-deco-walking-tour-miami.jpg
END:VEVENT
BEGIN:VEVENT
DTSTART;TZID=America/New_York:20250307T183000
DTEND;TZID=America/New_York:20250307T210000
DTSTAMP:20260425T071102
CREATED:20250306T150050Z
LAST-MODIFIED:20250306T150050Z
UID:23299-1741372200-1741381200@www.themiamiartscene.com
SUMMARY:CAMP Gallery presents two new exhibitions: Asking for a Friend & Between Stillness and Growth
DESCRIPTION:Friday\, March 7th from 6:30-9pm The Contemporary Art Modern Project (CAMP Gallery) is ready to welcome March with two new exhibitions running simultaneously from March 7–April 4\, 2025. The gallery will be hosting an opening reception for both exhibitions\, all are welcome\, this event is Free & Open to the Public. RSVP HERE. \nAsking For a Friend unites four women artists: Heidi Hankaniemi\, Joan Wheeler\, Lydia Viscardi\, and Silvana Soriano. The exhibition borrows from the familiar mechanism of an advice column—with a twist—using distinct bodies of work to explore questions of love\, pride\, fear\, and autonomy as a form of allyship and emotional community-building. \nA note from the curator: The CAMP Gallery’s programming for this exhibition will feature submitted queries. Questions you have for each artist will be shared with them; you can keep it anonymous\, or share your name. \nOccupying the gallery’s incubator space\, Jan Brandt’s work explores the tension between bloom and decay in Between Stillness and Growth\, where she invites viewers to reflect on life’s unpredictable cycles of movement and stagnation. \nFor more information\, please reach out to hello@thecampgallery.com
URL:https://www.themiamiartscene.com/event/camp-gallery-presents-two-new-exhibitions-asking-for-a-friend-between-stillness-and-growth/
LOCATION:The Contemporary Art Modern Project (The CAMP Gallery)\, 791-793 NE 125th Street\, North Miami\, FL\, 33161\, United States
ATTACH;FMTTYPE=image/png:https://www.themiamiartscene.com/wp-content/uploads/2025/03/camp-gallery-march-2025.png
END:VEVENT
END:VCALENDAR