BEGIN:VCALENDAR
VERSION:2.0
PRODID:-//Miami Art Scene™ - ECPv6.15.20//NONSGML v1.0//EN
CALSCALE:GREGORIAN
METHOD:PUBLISH
X-ORIGINAL-URL:https://www.themiamiartscene.com
X-WR-CALDESC:Events for Miami Art Scene™
REFRESH-INTERVAL;VALUE=DURATION:PT1H
X-Robots-Tag:noindex
X-PUBLISHED-TTL:PT1H
BEGIN:VTIMEZONE
TZID:America/New_York
BEGIN:DAYLIGHT
TZOFFSETFROM:-0500
TZOFFSETTO:-0400
TZNAME:EDT
DTSTART:20240310T070000
END:DAYLIGHT
BEGIN:STANDARD
TZOFFSETFROM:-0400
TZOFFSETTO:-0500
TZNAME:EST
DTSTART:20241103T060000
END:STANDARD
BEGIN:DAYLIGHT
TZOFFSETFROM:-0500
TZOFFSETTO:-0400
TZNAME:EDT
DTSTART:20250309T070000
END:DAYLIGHT
BEGIN:STANDARD
TZOFFSETFROM:-0400
TZOFFSETTO:-0500
TZNAME:EST
DTSTART:20251102T060000
END:STANDARD
BEGIN:DAYLIGHT
TZOFFSETFROM:-0500
TZOFFSETTO:-0400
TZNAME:EDT
DTSTART:20260308T070000
END:DAYLIGHT
BEGIN:STANDARD
TZOFFSETFROM:-0400
TZOFFSETTO:-0500
TZNAME:EST
DTSTART:20261101T060000
END:STANDARD
END:VTIMEZONE
BEGIN:VEVENT
DTSTART;TZID=America/New_York:20250904T170000
DTEND;TZID=America/New_York:20250907T180000
DTSTAMP:20260424T040852
CREATED:20250809T232127Z
LAST-MODIFIED:20250809T232127Z
UID:24512-1757005200-1757268000@www.themiamiartscene.com
SUMMARY:Art on Paper New York
DESCRIPTION:Thursday\, September 4th through Sunday\, September 7th Art on Paper\, New York City’s celebrated\, medium-driven fair\, returns to downtown Manhattan’s Pier 36 during September 2025’s Armory Art Week with 100 galleries featuring top modern and contemporary paper-based art. The fair’s eleventh edition will showcase unique and powerful projects curated by Artistic Director Nato Thompson\, with a focus on can’t-miss performances highlighting the creative potential of paper. PURCHASE TICKETS. \n\n\nSelect VIP Preview\nThursday\, September 4\, 2025: 5—6pm\nExclusive Entry for Select VIPs \n\n\n\n\nOpening Evening\nThursday\, September 4\, 2025: 6—9pm\nExclusive Entry for Fair Pass Holders & Select VIP \n\n\n\n\nPublic Hours\nFriday\, September 5\, 2025: 11am—7pm\nSaturday\, September 6\, 2025: 11am—7pm\nSunday\, September 7\, 2025: 11am—6pm
URL:https://www.themiamiartscene.com/event/art-on-paper-new-york/
LOCATION:Pier 36\, Downtown Manhattan\, 299 South Street\, New York\, New York\, 10002\, United States
ATTACH;FMTTYPE=image/png:https://www.themiamiartscene.com/wp-content/uploads/2025/08/AOP25_Web-Header-1467x940-2.png
END:VEVENT
BEGIN:VEVENT
DTSTART;TZID=America/New_York:20250905T103000
DTEND;TZID=America/New_York:20250905T123000
DTSTAMP:20260424T040852
CREATED:20250828T005032Z
LAST-MODIFIED:20250828T005032Z
UID:24616-1757068200-1757075400@www.themiamiartscene.com
SUMMARY:The Official Art Deco Walking Tour by The Miami Design Preservation League
DESCRIPTION:Friday\, September 5th from 10:30am – 12:30pm experience the Official Art Deco District Walking Tour presented by the Miami Design Preservation League. This 1.5 to 2-hour walking tour provides an introduction to the Art Deco\, Mediterranean Revival\, and Miami Modern (MiMo) styles found within the Miami Beach Architectural Historic District. Explore hotels\, restaurants\, and other commercial structures with a visit to a number of interiors. Choose from select dates / PURCHASE TICKETS HERE. \nTour ticket includes free entry to the Art Deco Museum as well as 10% off at the Gift Shop.
URL:https://www.themiamiartscene.com/event/the-official-art-deco-walking-tour-by-the-miami-design-preservation-league-740/
LOCATION:Art Deco Welcome Center\, 1001 Ocean Drive\, Miami Beach\, FL\, 33139\, United States
ATTACH;FMTTYPE=image/jpeg:https://www.themiamiartscene.com/wp-content/uploads/2024/06/art-deco-historic-district-miami-beach.jpeg
END:VEVENT
BEGIN:VEVENT
DTSTART;TZID=America/New_York:20250905T180000
DTEND;TZID=America/New_York:20250905T210000
DTSTAMP:20260424T040852
CREATED:20250820T152000Z
LAST-MODIFIED:20250820T152000Z
UID:24544-1757095200-1757106000@www.themiamiartscene.com
SUMMARY:Coral Gables Museum: Gallery Night
DESCRIPTION:Friday\, September 5th from 6 – 9pm enjoy the Coral Gables Museum opens its doors to the public for free as part of Coral Gables Gallery Night! ⁠Come and enjoy live music\, art exhibitions\, and a cocktail bar before heading out to eat in the area for your Friday night plans. Gallery Night takes place each first Friday of the month at the Coral Gables Museum. This Event is FREE & Open to the Public. \nKick off your Friday night indoors with a vibrant mix of art\, music\, and community. Explore our exhibitions after hours\, sip on craft cocktails from the bar\, and enjoy a live DJ set that will set the mood for your evening. Whether you’re here to connect\, unwind\, or start the night right before dinner nearby\, this is your perfect cultural pregame.
URL:https://www.themiamiartscene.com/event/coral-gables-museum-gallery-night-2/
LOCATION:Coral Gables Museum\, 285 Aragon Avenue\, Coral Gables\, FL\, 33134\, United States
ATTACH;FMTTYPE=image/jpeg:https://www.themiamiartscene.com/wp-content/uploads/2025/08/coral-gables-museum-Gallery-Night.jpeg
END:VEVENT
END:VCALENDAR