BEGIN:VCALENDAR
VERSION:2.0
PRODID:-//Miami Art Scene™ - ECPv6.15.20//NONSGML v1.0//EN
CALSCALE:GREGORIAN
METHOD:PUBLISH
X-WR-CALNAME:Miami Art Scene™
X-ORIGINAL-URL:https://www.themiamiartscene.com
X-WR-CALDESC:Events for Miami Art Scene™
REFRESH-INTERVAL;VALUE=DURATION:PT1H
X-Robots-Tag:noindex
X-PUBLISHED-TTL:PT1H
BEGIN:VTIMEZONE
TZID:America/New_York
BEGIN:DAYLIGHT
TZOFFSETFROM:-0500
TZOFFSETTO:-0400
TZNAME:EDT
DTSTART:20240310T070000
END:DAYLIGHT
BEGIN:STANDARD
TZOFFSETFROM:-0400
TZOFFSETTO:-0500
TZNAME:EST
DTSTART:20241103T060000
END:STANDARD
BEGIN:DAYLIGHT
TZOFFSETFROM:-0500
TZOFFSETTO:-0400
TZNAME:EDT
DTSTART:20250309T070000
END:DAYLIGHT
BEGIN:STANDARD
TZOFFSETFROM:-0400
TZOFFSETTO:-0500
TZNAME:EST
DTSTART:20251102T060000
END:STANDARD
BEGIN:DAYLIGHT
TZOFFSETFROM:-0500
TZOFFSETTO:-0400
TZNAME:EDT
DTSTART:20260308T070000
END:DAYLIGHT
BEGIN:STANDARD
TZOFFSETFROM:-0400
TZOFFSETTO:-0500
TZNAME:EST
DTSTART:20261101T060000
END:STANDARD
END:VTIMEZONE
BEGIN:VEVENT
DTSTART;TZID=America/New_York:20251010T103000
DTEND;TZID=America/New_York:20251010T123000
DTSTAMP:20260424T040526
CREATED:20250923T205149Z
LAST-MODIFIED:20250923T205149Z
UID:24793-1760092200-1760099400@www.themiamiartscene.com
SUMMARY:The Official Art Deco Walking Tour by The Miami Design Preservation League
DESCRIPTION:Friday\, October 10th from 10:30am – 12:30pm experience the Official Art Deco District Walking Tour presented by the Miami Design Preservation League. This 1.5 to 2-hour walking tour provides an introduction to the Art Deco\, Mediterranean Revival\, and Miami Modern (MiMo) styles found within the Miami Beach Architectural Historic District. Explore hotels\, restaurants\, and other commercial structures with a visit to a number of interiors. Choose from select dates / PURCHASE TICKETS HERE. \nTour ticket includes free entry to the Art Deco Museum as well as 10% off at the Gift Shop.
URL:https://www.themiamiartscene.com/event/the-official-art-deco-walking-tour-by-the-miami-design-preservation-league-775/
LOCATION:Art Deco Welcome Center\, 1001 Ocean Drive\, Miami Beach\, FL\, 33139\, United States
ATTACH;FMTTYPE=image/jpeg:https://www.themiamiartscene.com/wp-content/uploads/2023/06/miami-beach-art-deco-district.jpg
END:VEVENT
BEGIN:VEVENT
DTSTART;TZID=America/New_York:20251010T180000
DTEND;TZID=America/New_York:20251010T210000
DTSTAMP:20260424T040526
CREATED:20251009T023623Z
LAST-MODIFIED:20251009T023623Z
UID:24877-1760119200-1760130000@www.themiamiartscene.com
SUMMARY:Art Deco Alive! presents a 1920s Cocktail Party
DESCRIPTION:Friday\, October 10th from 6 – 9pm experience a 1920s Cocktail Party hosted by Art Deco Alive! at the Art Deco Museum on Miami Beach\, part of the Art Deco Alive! in Miami Beach collection. Get ready to step back in time to the roaring 1920s at our swanky Cocktail Party – think flapper dresses\, jazz music\, and classic cocktails! PURCHASE TICKETS HERE. \nThe celebrations for Ocean Drive to Marine Drive: Mapping a Century of Art Deco Across Miami Beach & Mumbai\, presented by Art Deco Alive!\, will open in style with a festive cocktail evening at the Art Deco Museum. Guests will be welcomed with cocktails and hors d’oeuvres inspired by the glamour of the Jazz Age\, setting the perfect tone for an evening that bridges Miami Beach and Mumbai. A live jazz band will fill the museum with the rhythms of the era\, evoking the spirit of the 1920s and 30s when Art Deco first flourished across both cities. \nSurrounded by the very architecture and design the exhibition celebrates\, attendees will have the chance to mingle with collectors\, curators\, and cultural leaders while previewing the exhibition. The evening will honor the shared legacy of Art Deco across continents and mark the beginning of a weekend devoted to celebrating design\, heritage\, and community.Dress code: 1920’s Indo-Latin Glamour
URL:https://www.themiamiartscene.com/event/art-deco-alive-presents-a-1920s-cocktail-party/
LOCATION:Art Deco Museum\, 1001 Ocean Drive\, Miami Beach\, FL\, 33139\, United States
ATTACH;FMTTYPE=image/png:https://www.themiamiartscene.com/wp-content/uploads/2025/10/art-deco-cocktail-party.png
END:VEVENT
END:VCALENDAR