BEGIN:VCALENDAR
VERSION:2.0
PRODID:-//Miami Art Scene™ - ECPv6.15.20//NONSGML v1.0//EN
CALSCALE:GREGORIAN
METHOD:PUBLISH
X-ORIGINAL-URL:https://www.themiamiartscene.com
X-WR-CALDESC:Events for Miami Art Scene™
REFRESH-INTERVAL;VALUE=DURATION:PT1H
X-Robots-Tag:noindex
X-PUBLISHED-TTL:PT1H
BEGIN:VTIMEZONE
TZID:America/New_York
BEGIN:DAYLIGHT
TZOFFSETFROM:-0500
TZOFFSETTO:-0400
TZNAME:EDT
DTSTART:20250309T070000
END:DAYLIGHT
BEGIN:STANDARD
TZOFFSETFROM:-0400
TZOFFSETTO:-0500
TZNAME:EST
DTSTART:20251102T060000
END:STANDARD
BEGIN:DAYLIGHT
TZOFFSETFROM:-0500
TZOFFSETTO:-0400
TZNAME:EDT
DTSTART:20260308T070000
END:DAYLIGHT
BEGIN:STANDARD
TZOFFSETFROM:-0400
TZOFFSETTO:-0500
TZNAME:EST
DTSTART:20261101T060000
END:STANDARD
BEGIN:DAYLIGHT
TZOFFSETFROM:-0500
TZOFFSETTO:-0400
TZNAME:EDT
DTSTART:20270314T070000
END:DAYLIGHT
BEGIN:STANDARD
TZOFFSETFROM:-0400
TZOFFSETTO:-0500
TZNAME:EST
DTSTART:20271107T060000
END:STANDARD
END:VTIMEZONE
BEGIN:VEVENT
DTSTART;TZID=America/New_York:20260225T103000
DTEND;TZID=America/New_York:20260225T123000
DTSTAMP:20260423T131653
CREATED:20260205T185200Z
LAST-MODIFIED:20260205T185200Z
UID:25915-1772015400-1772022600@www.themiamiartscene.com
SUMMARY:The Official Art Deco Walking Tour by The Miami Design Preservation League
DESCRIPTION:Wednesday\, February 25th from 10:30am – 12:30pm experience the Official Art Deco District Walking Tour presented by the Miami Design Preservation League. This 1.5 to 2-hour walking tour provides an introduction to the Art Deco\, Mediterranean Revival\, and Miami Modern (MiMo) styles found within the Miami Beach Architectural Historic District. Explore hotels\, restaurants\, and other commercial structures with a visit to a number of interiors. Choose from select dates / PURCHASE TICKETS HERE. \nTour ticket includes free entry to the Art Deco Museum as well as 10% off at the Gift Shop.
URL:https://www.themiamiartscene.com/event/the-official-art-deco-walking-tour-by-the-miami-design-preservation-league-915/
LOCATION:Art Deco Welcome Center\, 1001 Ocean Drive\, Miami Beach\, FL\, 33139\, United States
ATTACH;FMTTYPE=image/jpeg:https://www.themiamiartscene.com/wp-content/uploads/2023/10/art-deco-carlyle-miami-beach-e1696182712202.jpeg
END:VEVENT
BEGIN:VEVENT
DTSTART;TZID=America/New_York:20260225T110000
DTEND;TZID=America/New_York:20260225T140000
DTSTAMP:20260423T131653
CREATED:20260224T205456Z
LAST-MODIFIED:20260224T205456Z
UID:26111-1772017200-1772028000@www.themiamiartscene.com
SUMMARY:PAMM 17th Annual Corporate Luncheon Presented by Constellation Culinary Group
DESCRIPTION:Wednesday\, February 25th from 11am – 2pm enjoy the 17th Annual Corporate Luncheon at the Pérez Art Museum Miami (PAMM) presented by Constellation Culinary Group. Experience an exclusive afternoon with South Florida’s most influential leaders\, featuring networking opportunities\, private gallery exploration\, and a gourmet strolling lunch overlooking Biscayne Bay. This year’s corporate honoree is Podhurst Orseck\, recognized for its long-standing commitment to PAMM and dedication to strengthening South Florida’s cultural community. \nOnline tickets are available until 9am on February 25\, 2026. After that\, a limited number of tickets may be purchased onsite at the event.
URL:https://www.themiamiartscene.com/event/pamm-17th-annual-corporate-luncheon-presented-by-constellation-culinary-group/
LOCATION:Pérez Art Museum Miami\, 1103 Biscayne Boulevard\, Miami\, FL\, 33132\, United States
ATTACH;FMTTYPE=image/jpeg:https://www.themiamiartscene.com/wp-content/uploads/2026/02/pamm-luncheon-2026-miami-scaled.jpeg
END:VEVENT
BEGIN:VEVENT
DTSTART;TZID=America/New_York:20260225T180000
DTEND;TZID=America/New_York:20260225T230000
DTSTAMP:20260423T131653
CREATED:20260224T222148Z
LAST-MODIFIED:20260224T223238Z
UID:26115-1772042400-1772060400@www.themiamiartscene.com
SUMMARY:Jazz at The Betsy: Angel Perez
DESCRIPTION:Wednesday\, February 25th from 6 – 11pm experience Miami’s top jazz performers at The Betsy Live Music\, the longest-running live music series on Miami Beach – 7 days a week\, 9 times a week. No Cover. No Minimum. Come at your leisure for drinks in the Lobby or call LT Steak & Seafood to book a table for Dinner. \nANGEL PEREZ – pianist – is a Miami-born musician\, with a jazz degree from Frost School of Music from University of Miami. Angel has performed widely\, having started his studies at the SOBE School for the Arts on Miami Beach\, in arenas including The Essentially Ellington Competition\, Miami Downtown jazz festival\, and Okeechobee Music Festival. Angel believes in the power of music to change lives – and is currently in a graduate program at UM pursuing credentials in Music Therapy. \n 
URL:https://www.themiamiartscene.com/event/jazz-at-the-betsy-angel-perez/
LOCATION:The Betsy Hotel\, 1440 Ocean Drive\, Miami Beach\, FL\, 33139\, United States
ATTACH;FMTTYPE=image/png:https://www.themiamiartscene.com/wp-content/uploads/2026/02/jazz-at-the-betsy.png
END:VEVENT
END:VCALENDAR