BEGIN:VCALENDAR
VERSION:2.0
PRODID:-//Miami Art Scene™ - ECPv6.15.20//NONSGML v1.0//EN
CALSCALE:GREGORIAN
METHOD:PUBLISH
X-WR-CALNAME:Miami Art Scene™
X-ORIGINAL-URL:https://www.themiamiartscene.com
X-WR-CALDESC:Events for Miami Art Scene™
REFRESH-INTERVAL;VALUE=DURATION:PT1H
X-Robots-Tag:noindex
X-PUBLISHED-TTL:PT1H
BEGIN:VTIMEZONE
TZID:America/New_York
BEGIN:DAYLIGHT
TZOFFSETFROM:-0500
TZOFFSETTO:-0400
TZNAME:EDT
DTSTART:20240310T070000
END:DAYLIGHT
BEGIN:STANDARD
TZOFFSETFROM:-0400
TZOFFSETTO:-0500
TZNAME:EST
DTSTART:20241103T060000
END:STANDARD
BEGIN:DAYLIGHT
TZOFFSETFROM:-0500
TZOFFSETTO:-0400
TZNAME:EDT
DTSTART:20250309T070000
END:DAYLIGHT
BEGIN:STANDARD
TZOFFSETFROM:-0400
TZOFFSETTO:-0500
TZNAME:EST
DTSTART:20251102T060000
END:STANDARD
BEGIN:DAYLIGHT
TZOFFSETFROM:-0500
TZOFFSETTO:-0400
TZNAME:EDT
DTSTART:20260308T070000
END:DAYLIGHT
BEGIN:STANDARD
TZOFFSETFROM:-0400
TZOFFSETTO:-0500
TZNAME:EST
DTSTART:20261101T060000
END:STANDARD
END:VTIMEZONE
BEGIN:VEVENT
DTSTART;TZID=America/New_York:20251202T100000
DTEND;TZID=America/New_York:20251206T180000
DTSTAMP:20260424T020245
CREATED:20251112T174722Z
LAST-MODIFIED:20251112T174722Z
UID:25345-1764669600-1765044000@www.themiamiartscene.com
SUMMARY:NADA Miami 2025
DESCRIPTION:Tuesday\, December 2nd through Saturday\, December 6th enjoy NADA Miami during Miami Art Week. The New Art Dealers Alliance (NADA) is pleased to present its 23rd edition of NADA Miami at Ice Palace Studios. NADA Miami will feature a diverse selection of 146 galleries\, art spaces and nonprofit organizations. This year’s fair includes many NADA member galleries and many first-time exhibitors. PURCHASE TICKETS HERE. \nNADA Miami is dedicated to celebrating rising talents from around the globe. As a non-profit\, member-based organization\, we are flexible and adaptable in responding to the needs of its exhibitors and the industry at large by creatively reinventing the experience and presentation of art. NADA encourages and facilitates the continued growth of community amongst our exhibitors\, artists\, and members\, while fostering their intrinsic support networks of curators\, collectors\, advisors\, and critics. We believe you will find this spirit in the atmosphere of NADA’s Miami art fair\, and hope you will consider visiting. \n  \nVIP Preview (by Invitation)\nTuesday\, Dec 2\, 10am–4pm \n\nOpen to the Public\nTuesday\, December 2\, 4–7pm\nWednesday\, December 3\, 11am–7pm\nThursday\, December 4\, 11am–7pm\nFriday\, December 5\, 11am–7pm\nSaturday\, December 6\, 11am–6pm
URL:https://www.themiamiartscene.com/event/nada-miami-2025/
LOCATION:Ice Palace Studios\, 1400 North Miami Avenue\, Miami\, FL\, 33136\, United States
ATTACH;FMTTYPE=image/jpeg:https://www.themiamiartscene.com/wp-content/uploads/2023/11/nada-miami-2023-scaled-e1699995137135.jpeg
END:VEVENT
BEGIN:VEVENT
DTSTART;TZID=America/New_York:20251202T110000
DTEND;TZID=America/New_York:20251207T180000
DTSTAMP:20260424T020245
CREATED:20251027T215808Z
LAST-MODIFIED:20251027T215808Z
UID:25136-1764673200-1765130400@www.themiamiartscene.com
SUMMARY:CONTEXT Art Miami 2025
DESCRIPTION:Tuesday\, December 2nd through Sunday\, December 7th CONTEXT Art Miami returns alongside sister fair Art Miami at the prestigious waterfront location of One Herald Plaza in the heart of downtown Miami. CONTEXT is dedicated to the development and reinforcement of emerging and mid-career artists. PURCHASE TICKETS HERE. \nLaunched in 2012\, CONTEXT Art Miami’s open atmosphere creates a meaningful dialogue between artists\, galleries and collectors while providing the ultimate platform for the presentation of mid-career\, emergent and cutting-edge talent by emerging and established galleries. \nThe combined efforts of CONTEXT Art Miami and Art Miami provide a unique and alternative opportunity for leading primary dealers and their artists to be marketed and promoted internationally during the most important week for contemporary art in America. \n  \nFair Hours\nFirst View VIP Preview\nTuesday\, December 2 | 11 am – 1 pm\nAccess for CONTEXT + Art Miami First View VIP Passholders \nVIP Preview\nTuesday\, December 2 | 1 pm – 4 pm\nAccess for CONTEXT + Art Miami VIP Passholders & Press Benefiting the Pérez Art Museum Miami\n\nPublic Fair Hours\nTuesday\, December 2                         4 pm – 9 pm\nWednesday\, December 3                  11 am – 7 pm\nThursday\, December 4                      11 am – 7 pm\nFriday\, December 5                            11 am – 7 pm\nSaturday\, December 6                       11 am – 7 pm\nSunday\, December 7                          11 am – 6 pm
URL:https://www.themiamiartscene.com/event/context-art-miami-2025/
LOCATION:Art Miami + CONTEXT Pavilions\, One Herald Plaza (Biscayne Bay & NE 14th Street)\, Miami\, FL\, 33132\, United States
ATTACH;FMTTYPE=image/jpeg:https://www.themiamiartscene.com/wp-content/uploads/2021/08/context-art-miami-e1629048515379.jpg
END:VEVENT
BEGIN:VEVENT
DTSTART;TZID=America/New_York:20251202T110000
DTEND;TZID=America/New_York:20251207T180000
DTSTAMP:20260424T020245
CREATED:20251027T220656Z
LAST-MODIFIED:20251027T220656Z
UID:25134-1764673200-1765130400@www.themiamiartscene.com
SUMMARY:Art Miami 2025
DESCRIPTION:Tuesday\, December 2nd through Sunday\, December 7th Art Miami returns to the prestigious waterfront location of One Herald Plaza in the heart of downtown Miami. As Miami’s original and longest running contemporary art fair and second most attended fair globally\, Art Miami is consistently recognized as a leading destination for the acquisition of the most important works from the 20th and 21st centuries in collaboration with the world’s most respected galleries. Art Miami takes place beside sister fair CONTEXT Art Miami. \nArt Miami 2025 will kick off with the highly anticipated VIP Preview on Tuesday\, December 2nd before opening to the public through Sunday\, December 7th. Art Miami continues to develop and draw upon the vast collector base\, art dealers\, advisors\, curators and museums that descend upon Miami for what has been largely heralded as the most important week for contemporary art in the United States. \nThe Fair’s world-class internationally respected group of participating galleries continually report high volume sales as collectors and advisors acquire important works from the forefront of the contemporary\, modern\, classical modern\, post-war and pop eras showcased in the fair. \n  \nFair Hours \nVIP PREVIEW\nFIRST VIEW VIP PREVIEW\, by invitation\nTuesday\, December 2 | 11 am – 1 pm\nAccess for Art Miami | CONTEXT First View VIP Passholders \nVIP PREVIEW\nTuesday\, December 2 | 1 pm – 4 pm\nAccess for Art Miami | CONTEXT VIP Passholders & Press Benefiting the Pérez Art Museum Miami \nPublic Fair Hours\nTuesday\, December 2                         4 pm – 9 pm*\nWednesday\, December 3                  11 am – 7 pm\nThursday\, December 4                      11 am – 7 pm\nFriday\, December 5                            11 am – 7 pm\nSaturday\, December 6                       11 am – 7 pm\nSunday\, December 7                          11 am – 6 pm
URL:https://www.themiamiartscene.com/event/art-miami-2025/
LOCATION:Art Miami + CONTEXT Pavilions\, One Herald Plaza (Biscayne Bay & NE 14th Street)\, Miami\, FL\, 33132\, United States
ATTACH;FMTTYPE=image/jpeg:https://www.themiamiartscene.com/wp-content/uploads/2025/10/The-Art-Miami-Pavilion.jpeg
END:VEVENT
END:VCALENDAR