BEGIN:VCALENDAR
VERSION:2.0
PRODID:-//Miami Art Scene™ - ECPv6.15.20//NONSGML v1.0//EN
CALSCALE:GREGORIAN
METHOD:PUBLISH
X-ORIGINAL-URL:https://www.themiamiartscene.com
X-WR-CALDESC:Events for Miami Art Scene™
REFRESH-INTERVAL;VALUE=DURATION:PT1H
X-Robots-Tag:noindex
X-PUBLISHED-TTL:PT1H
BEGIN:VTIMEZONE
TZID:America/New_York
BEGIN:DAYLIGHT
TZOFFSETFROM:-0500
TZOFFSETTO:-0400
TZNAME:EDT
DTSTART:20250309T070000
END:DAYLIGHT
BEGIN:STANDARD
TZOFFSETFROM:-0400
TZOFFSETTO:-0500
TZNAME:EST
DTSTART:20251102T060000
END:STANDARD
BEGIN:DAYLIGHT
TZOFFSETFROM:-0500
TZOFFSETTO:-0400
TZNAME:EDT
DTSTART:20260308T070000
END:DAYLIGHT
BEGIN:STANDARD
TZOFFSETFROM:-0400
TZOFFSETTO:-0500
TZNAME:EST
DTSTART:20261101T060000
END:STANDARD
BEGIN:DAYLIGHT
TZOFFSETFROM:-0500
TZOFFSETTO:-0400
TZNAME:EDT
DTSTART:20270314T070000
END:DAYLIGHT
BEGIN:STANDARD
TZOFFSETFROM:-0400
TZOFFSETTO:-0500
TZNAME:EST
DTSTART:20271107T060000
END:STANDARD
END:VTIMEZONE
BEGIN:VEVENT
DTSTART;TZID=America/New_York:20260422T121500
DTEND;TZID=America/New_York:20260422T131500
DTSTAMP:20260423T163849
CREATED:20260414T215829Z
LAST-MODIFIED:20260414T215829Z
UID:26606-1776860100-1776863700@www.themiamiartscene.com
SUMMARY:Bailey Contemporary Arts Center (BaCa) presents Lunch with Art: The Visual Arts Edition
DESCRIPTION:Wednesday\, April 22nd from 12:15 – 1:15pm enjoy Lunch with Art at Bailey Contemporary Arts Center (BaCa) in Pompano Beach\, the Visual Arts Edition. RSVP HERE. \nTrying new things has been proven to make you more creative\, and it’s good for your brain. So each Wednesday they offer a new way to nourish your soul & get creative at The Bailey Contemporary Arts during your lunch hour…and it’s FREE. \nNo two weeks are the same as each new workshop offers a different creative experience and encourages you to step out of the mundane and explore your potential. Each simple\, hands-on project becomes an escape from the daily stresses of life and reminds you how beauty can be found in even the most simplest of projects. \nGuests are invited to bring their lunch. Space is limited\, no tickets will be sold at the door. \n  \n*They will only accept Eventbrite tickets at the door; Eventbrite is their sole ticketing platform.
URL:https://www.themiamiartscene.com/event/bailey-contemporary-arts-center-baca-presents-lunch-with-art-the-visual-arts-edition/
LOCATION:Bailey Contemporary Arts Center (BaCa)\, 41 NE 1st Street\, Pompano Beach\, FL\, 33060\, United States
ATTACH;FMTTYPE=image/png:https://www.themiamiartscene.com/wp-content/uploads/2026/04/baca-lunch-wuth-art.png
END:VEVENT
END:VCALENDAR