BEGIN:VCALENDAR
VERSION:2.0
PRODID:-//Miami Art Scene™ - ECPv6.15.20//NONSGML v1.0//EN
CALSCALE:GREGORIAN
METHOD:PUBLISH
X-ORIGINAL-URL:https://www.themiamiartscene.com
X-WR-CALDESC:Events for Miami Art Scene™
REFRESH-INTERVAL;VALUE=DURATION:PT1H
X-Robots-Tag:noindex
X-PUBLISHED-TTL:PT1H
BEGIN:VTIMEZONE
TZID:America/New_York
BEGIN:DAYLIGHT
TZOFFSETFROM:-0500
TZOFFSETTO:-0400
TZNAME:EDT
DTSTART:20240310T070000
END:DAYLIGHT
BEGIN:STANDARD
TZOFFSETFROM:-0400
TZOFFSETTO:-0500
TZNAME:EST
DTSTART:20241103T060000
END:STANDARD
BEGIN:DAYLIGHT
TZOFFSETFROM:-0500
TZOFFSETTO:-0400
TZNAME:EDT
DTSTART:20250309T070000
END:DAYLIGHT
BEGIN:STANDARD
TZOFFSETFROM:-0400
TZOFFSETTO:-0500
TZNAME:EST
DTSTART:20251102T060000
END:STANDARD
BEGIN:DAYLIGHT
TZOFFSETFROM:-0500
TZOFFSETTO:-0400
TZNAME:EDT
DTSTART:20260308T070000
END:DAYLIGHT
BEGIN:STANDARD
TZOFFSETFROM:-0400
TZOFFSETTO:-0500
TZNAME:EST
DTSTART:20261101T060000
END:STANDARD
END:VTIMEZONE
BEGIN:VEVENT
DTSTART;TZID=America/New_York:20250507T000000
DTEND;TZID=America/New_York:20250613T000000
DTSTAMP:20260424T042513
CREATED:20250507T180515Z
LAST-MODIFIED:20250508T133307Z
UID:23738-1746576000-1749772800@www.themiamiartscene.com
SUMMARY:The Jorge M. Pérez Family Foundation Announces Open Call for 2025-2026 CreARTE Grants Program
DESCRIPTION:The Jorge M. Pérez Family Foundation at The Miami Foundation (the Pérez Family Foundation) is proud to launch the fourth edition of the Pérez CreARTE Grants Program (Pérez CreARTE)\, awarding over $5 million to arts-first organizations across Miami-Dade County that seek to cultivate a vibrant\, connected and engaging arts ecosystem. In celebration of its 10th year of philanthropic impact\, the Pérez Family Foundation’s 2025–2026 program will have a renewed focus on Arts Access\, Arts Education and Artist Fellowships and Residencies. Applications opened on Tuesday\, April 29\, with winners announced in the fall. Eligible organizations may apply here. \nCurrent arts-first grantees are invited to apply for renewed funding through a separate but parallel process. The Pérez family remains committed to supporting and strengthening the work of past and current partners while also making space for fresh ideas and new investments. The application window will close on June 13\, 2025. All interested applicants should direct their inquiries to Jacki Altman\, Community Investments Manager\, at JAltman@miamifoundation.org and Belissa Alvarez\, Director of the Jorge M. Pérez Family Foundation\, at Belissa.Alvarez@relatedgroup.com\, who will be managing applications and the awards process. Full guidelines for Pérez CreARTE can be found in English\, Spanish and Haitian Creole.
URL:https://www.themiamiartscene.com/event/the-jorge-m-perez-family-foundation-announces-open-call-for-2025-2026-crearte-grants-program/
LOCATION:The Miami Foundation\, 40 NW 3rd Street\, Suite 305\, Miami\, FL\, 33128\, United States
ATTACH;FMTTYPE=image/jpeg:https://www.themiamiartscene.com/wp-content/uploads/2025/05/20250501-MFN-CreArte-Digital-FINAL_728x300-2.jpg
END:VEVENT
BEGIN:VEVENT
DTSTART;TZID=America/New_York:20250605T110000
DTEND;TZID=America/New_York:20250605T190000
DTSTAMP:20260424T042513
CREATED:20250523T030337Z
LAST-MODIFIED:20250523T030337Z
UID:23852-1749121200-1749150000@www.themiamiartscene.com
SUMMARY:NSU Art Museum: Free First Thursday – VR Immersive Art
DESCRIPTION:Thursday\, June 5th from 11am – 7pm enjoy Sunny Days/Starry Nights: Free First Thursdays at NSU Art Museum in Fort Lauderdale\, offering visitors free admission to the Museum for a full day of art-making! Experience NSU Art Museum’s new VR Art program developed by NSU Students. Step into original works of Virtual art to see what talented NSU students have created. Please reserve your spot in person at the VR booth after checking into the museum. \nFREE Museum admission and 2-for-1 All Day Happy Hour on the first Thursday of every month from 11 am to 7 pm during Free First Thursday Sunny Days/Starry Nights. Enjoy Mini Muse\, free drop-in art-making activities ALL DAY for children inspired by current exhibitions. \n  \nStarry Nights is presented by Broward Health.
URL:https://www.themiamiartscene.com/event/nsu-art-museum-free-first-thursday-vr-immersive-art/
LOCATION:NSU Art Museum\, One East Las Olas Boulevard\, Fort Lauderdale\, FL\, 33301\, United States
ATTACH;FMTTYPE=image/png:https://www.themiamiartscene.com/wp-content/uploads/2025/05/nsu-starry-nights-VR.png
END:VEVENT
BEGIN:VEVENT
DTSTART;TZID=America/New_York:20250605T180000
DTEND;TZID=America/New_York:20250605T213000
DTSTAMP:20260424T042513
CREATED:20250516T145014Z
LAST-MODIFIED:20250516T145129Z
UID:23804-1749146400-1749159000@www.themiamiartscene.com
SUMMARY:Art Elevated: A Charity Exhibit in the Sky Benefiting South Florida Symphony's Educational Programs at Tower Club Fort Lauderdale
DESCRIPTION:Thursday\, June 5th from 6 – 9:30pm enjoy and support a great cause at the exclusive Tower Club for an unforgettable evening of art\, music\, cocktails\, and community—all for a great cause. Spots are limited\, and this one will fill up fast RSVP HERE & support arts education in our community on the 28th Floor of the Tower Club Fort Lauderdale. \nLas Olas Capital Arts handpicked over a dozen incredible local artists to showcase their work—and YES\, there will be live painting\, breathtaking views\, live music\, a welcome cocktail\, and more. The showcase features Fort Lauderdale fine pen-and-ink artist Michael Edwards\, also known as LINGUA\, is making headlines in the contemporary art world with his bold\, emotionally resonant works through his brand\, Lingua Fine Art. Known for his expressive style and vibrant vision\, Edwards is building momentum both locally and internationally\, with upcoming shows and a feature in Art Market Magazine this spring. \nA portion of all art sales will benefit South Florida Symphony’s Education Programs\, so come ready to discover something beautiful—and take it home.
URL:https://www.themiamiartscene.com/event/art-elevated-a-charity-exhibit-in-the-sky-benefiting-south-florida-symphonys-educational-programs-at-tower-club-fort-lauderdale/
LOCATION:Tower Club – Fort Lauderdale\, 100 SE 3rd Ave One Financial Plaza\, Regions Bank Bldg\, 28th Floor\, Fort Lauderdale\, FL\, 33394\, United States
ATTACH;FMTTYPE=image/jpeg:https://www.themiamiartscene.com/wp-content/uploads/2025/05/tower-club-fort-lauderdale-e1747406987304.jpeg
END:VEVENT
BEGIN:VEVENT
DTSTART;TZID=America/New_York:20250605T183000
DTEND;TZID=America/New_York:20250605T200000
DTSTAMP:20260424T042513
CREATED:20250530T212836Z
LAST-MODIFIED:20250530T213315Z
UID:23926-1749148200-1749153600@www.themiamiartscene.com
SUMMARY:Curator's Corner with Franklin Sirmans\, Sandra and Tony Tamer Director at PAMM
DESCRIPTION:Thursday\, June 5th from 6:30 – 8pm enjoy Curator’s Corner with Franklin Sirmans\, Sandra and Tony Tamer Director at the Pérez Art Museum Miami (PAMM). Delight in an exclusive private guided tour of Language and Image: Conceptual and Performance-based Photography from the Jorge M. Pérez Collection at Pérez Art Museum Miami (PAMM)\, led by Sandra and Tony Tamer Director Franklin Sirmans. RSVP HERE. \n\n\n\n\n\n\n\n\nIntimate Exhibition Moments: Gain insider knowledge and unique perspectives directly from the exhibition curator\, the expert who brings this exhibition to life.\nComplimentary Reception: Enjoy a complimentary welcome drink on the museum’s private waterfront terrace\, complete with stunning views of Miami’s skyline.\nMuseum Admission: Includes museum entry with your event participation\, allowing you to explore all exhibitions until 9pm.\nVIP Experience: Dedicated check-in line and staff member for expedient\, no hassle service. Plus\, complimentary parking for the campus garage.\n\n\n\n\n\n\n\n\n\n\n\n\n\n\nThis exhibition features over 100 works from the Jorge M. Pérez collection and is focused on conceptual and performance-based works in the collection\, which\, since the 1960s\, has been an abiding interest with contemporary artists. \n  \n\n\nIMAGE: Franklin Sirmans\, Director of the Pérez Art Museum Miami (PAMM)
URL:https://www.themiamiartscene.com/event/curators-corner-with-franklin-sirmans-sandra-and-tony-tamer-director-at-pamm/
LOCATION:Pérez Art Museum Miami\, 1103 Biscayne Boulevard\, Miami\, FL\, 33132\, United States
ATTACH;FMTTYPE=image/png:https://www.themiamiartscene.com/wp-content/uploads/2025/05/pamm-franklin-sirmans.png
END:VEVENT
BEGIN:VEVENT
DTSTART;TZID=America/New_York:20250605T190000
DTEND;TZID=America/New_York:20250605T200000
DTSTAMP:20260424T042513
CREATED:20250530T225532Z
LAST-MODIFIED:20250530T225532Z
UID:23931-1749150000-1749153600@www.themiamiartscene.com
SUMMARY:Thursdays at PAMM: BPM Yoga with Kellie Williams
DESCRIPTION:Thursday\, June 5th from 7 – 8pm join Kellie Williams\, founder of BPM wellness at the Pérez Art Museum Miami (PAMM)\, as she leads you through a 60-minute soulful\, hip-hop vinyasa flow designed for all levels. Williams is a holistic fitness specialist and yoga instructor who seamlessly blends music with movement to create a one-of-a-kind\, cathartic wellness experience. \nPlease bring your own mat to participate; a limited number of mats will be available to rent. Before class\, meet on the terrace for happy hour from 5–8pm. This event is free with RSVP. Tickets are only required for the museum galleries.
URL:https://www.themiamiartscene.com/event/thursdays-at-pamm-bpm-yoga-with-kellie-williams/
LOCATION:Pérez Art Museum Miami\, 1103 Biscayne Boulevard\, Miami\, FL\, 33132\, United States
ATTACH;FMTTYPE=image/png:https://www.themiamiartscene.com/wp-content/uploads/2025/05/pamm-thursdays.png
END:VEVENT
BEGIN:VEVENT
DTSTART;TZID=America/New_York:20250606T130000
DTEND;TZID=America/New_York:20250606T150000
DTSTAMP:20260424T042513
CREATED:20250531T012306Z
LAST-MODIFIED:20250531T012306Z
UID:23935-1749214800-1749222000@www.themiamiartscene.com
SUMMARY:Local Views at the Art Station: Threads of Identity: A Communal Fiber Arts Workshop
DESCRIPTION:Friday\, June 6th from 1 – 3pm enjoy Local Views at the Art Station: Threads of Identity: A Communal Fiber Arts Workshop at the Pérez Art Museum Miami (PAMM). Join artists Angela Bolaños and Sarah Laing for a transformative fiber arts workshop. Rooted in the traditions of textile-making as a form of storytelling and healing\, this workshop invites participants to explore themes of personal and cultural identity\, memory\, and grievance through fiber arts. Through guided exercises and open discussion\, attendees will weave together personal narratives using fabric\, embroidery\, and mixed-media techniques\, creating meaningful textile pieces that reflect their unique histories and emotions. \n  \nIMAGE: artists Angela Bolaños and Sarah Laing
URL:https://www.themiamiartscene.com/event/local-views-at-the-art-station-threads-of-identity-a-communal-fiber-arts-workshop/
LOCATION:Pérez Art Museum Miami\, 1103 Biscayne Boulevard\, Miami\, FL\, 33132\, United States
ATTACH;FMTTYPE=image/png:https://www.themiamiartscene.com/wp-content/uploads/2025/05/pamm-local-views-artists-pic-june-2025.png
END:VEVENT
BEGIN:VEVENT
DTSTART;TZID=America/New_York:20250607T110000
DTEND;TZID=America/New_York:20250608T170000
DTSTAMP:20260424T042513
CREATED:20250526T135413Z
LAST-MODIFIED:20250526T135413Z
UID:23923-1749294000-1749402000@www.themiamiartscene.com
SUMMARY:NSU Art Museum presents Bank of America: ‘Museum On Us’
DESCRIPTION:Saturday\, June 7th and Sunday\, June 8th from 11am – 5pm NSU Art Museum in Fort Lauderdale presents Bank of America Museums on Us. All visitors with an active Bank of America®\, Merrill ® (formerly Merrill Lynch®) or Bank of America Private Bank® (formerly U.S. Trust®) branded debit or credit card – physical or electronic/digital card – and an active\, valid photo ID shall receive one free general admission to NSU Art Museum Fort Lauderdale on the first full weekend of every month. \nSaturdays from 11 AM – 5 PM\nSundays from Noon – 5 PM
URL:https://www.themiamiartscene.com/event/nsu-art-museum-presents-bank-of-america-museum-on-us-3/
LOCATION:NSU Art Museum\, One East Las Olas Boulevard\, Fort Lauderdale\, FL\, 33301\, United States
ATTACH;FMTTYPE=image/jpeg:https://www.themiamiartscene.com/wp-content/uploads/2021/05/NSU-Art-Museum_Bank-of-America_Museums-on-Us-e1622034510899.jpg
END:VEVENT
BEGIN:VEVENT
DTSTART;TZID=America/New_York:20250614T100000
DTEND;TZID=America/New_York:20250614T180000
DTSTAMP:20260424T042513
CREATED:20250611T145345Z
LAST-MODIFIED:20250611T145345Z
UID:23941-1749895200-1749924000@www.themiamiartscene.com
SUMMARY:Coral Gables Museum: Family Day on Aragon
DESCRIPTION:Saturday\, June 14th from 10am – 6pm celebrate Father’s Day and Coral Gables Firefighters at the Coral Gables Museum’s special Family Day! Bring the whole family for a day of fun\, learning\, and community spirit. Kids can become Jr. Firefighters with hands-on activities\, and the first 50 young visitors will receive a free Firefighter Goody Bag! \n  \n\n\nEnjoy a full day of excitement including:  \n10 AM–6 PM: Blood Donation Bus (give back to the community!)  \n\n\n\n\n11 AM: ITP Father’s Day Performance  \n12:30 PM: Storytime   \n1 PM: Firefighting Art Making Workshop  \nPlus\, meet real Coral Gables Firefighters and discover more surprises throughout the day! Full schedule with firefighter appearances coming soon. Don’t miss this memorable celebration honoring dads and our local heroes! 
URL:https://www.themiamiartscene.com/event/coral-gables-museum-family-day-on-aragon/
LOCATION:Coral Gables Museum\, 285 Aragon Avenue\, Coral Gables\, FL\, 33134\, United States
ATTACH;FMTTYPE=image/png:https://www.themiamiartscene.com/wp-content/uploads/2025/06/coral-gables-museum-family-day.png
END:VEVENT
BEGIN:VEVENT
DTSTART;TZID=America/New_York:20250621T170000
DTEND;TZID=America/New_York:20250621T210000
DTSTAMP:20260424T042513
CREATED:20250618T031048Z
LAST-MODIFIED:20250618T031048Z
UID:24014-1750525200-1750539600@www.themiamiartscene.com
SUMMARY:Hollywood Art and Culture Center: Hollywood Art Walk - Champagne Welcome and Curated Tour
DESCRIPTION:Saturday\, June 21st from 5 – 9pm enjoy a prelude to the Hollywood Art Walk with a complimentary Champagne Welcome and Curated Gallery Tour at the Hollywood Art and Culture Center. Free parking. This Event is FREE & Open to the Public | RSVP HERE. \n  \nARTWALK GALLERY DOCENT TOUR \nComplimentary Admission for All \nCurated Tour begins promptly at 5:00 pm. Free parking in Center lot. \nGuests can opt to watch one of the Center’s award winning documentary films after the tour. \nValid ID is required for the champagne welcome drink \nAfter the Center Gallery Tour\, explore further as below. \nHollywood Art Walk is every 3rd Saturday night of the month \n6 – 10 PM Artisan Market and Live Music \n6 PM Downtown Hollywood Mural Project Walking Tour \n7 PM Choose954 Guided Downtown Hollywood Gallery Tour \nTours begin on the corner of 20th Street & Harrison (at the Information Tent) \n9 PM FREE Magic Show at 9PM by local Hollywood Legend Magic Jack \n 
URL:https://www.themiamiartscene.com/event/hollywood-art-and-culture-center-hollywood-art-walk-champagne-welcome-and-curated-tour/
LOCATION:Art and Culture Center/Hollywood\, 1650 Harrison Street\, Hollywood\, FL\, 33020\, United States
ATTACH;FMTTYPE=image/png:https://www.themiamiartscene.com/wp-content/uploads/2025/06/hollywood.png
END:VEVENT
BEGIN:VEVENT
DTSTART;TZID=America/New_York:20250621T180000
DTEND;TZID=America/New_York:20250621T230000
DTSTAMP:20260424T042513
CREATED:20250616T182944Z
LAST-MODIFIED:20250616T183136Z
UID:23975-1750528800-1750546800@www.themiamiartscene.com
SUMMARY:Las Olas Capital Arts presents Tunnel Vision Pop Up featuring Artist Michael Edwards aka Lingua
DESCRIPTION:Saturday\, June 21st from 6 – 11pm you are cordially invited to experience Fort Lauderdale fine-pen-and-ink artist Michael Edwards\, aka Lingua Fine Art\, at Las Olas Capital Arts for Tunnel Vision Pop-Up\, Art After Dark. Guests will enjoy local art\, bites and music\, exhibition curated by Jodi Tanner. \nThe showcase features Fort Lauderdale fine pen-and-ink artist Michael Edwards\, also known as LINGUA\, making headlines in the contemporary art world with his bold\, emotionally resonant works through his brand\, Lingua Fine Art. Known for his expressive style and vibrant vision\, Edwards is building momentum both locally and internationally\, with upcoming shows and a feature in Art Market Magazine\, spring 2025. Discover Lingua Fine Art’s signature collection of original artworks and made-to-order pieces. Featuring UV-reactive\, glow-in-the-dark gel ink on cloth paper\, each work blends classical portraiture\, surreal symbolism\, and contemporary storytelling.
URL:https://www.themiamiartscene.com/event/las-olas-capital-arts-presents-tunnel-vision-pop-up-featuring-artist-michael-edwards-aka-lingua/
LOCATION:Tunnel Top Park – Las Olas – Fort Lauderdale\, Las Olas Boulevard & SE 6th Avenue\, Fort Lauderdale\, FL\, 33301\, United States
ATTACH;FMTTYPE=image/png:https://www.themiamiartscene.com/wp-content/uploads/2025/06/las-olas-lingia-tunnel-top-park.png
END:VEVENT
BEGIN:VEVENT
DTSTART;TZID=America/New_York:20250626T183000
DTEND;TZID=America/New_York:20250626T210000
DTSTAMP:20260424T042513
CREATED:20250616T182721Z
LAST-MODIFIED:20250616T182721Z
UID:23979-1750962600-1750971600@www.themiamiartscene.com
SUMMARY:Frost Museum of Science presents FilmGate Fusion: #DRIFT - A Live Immersive Space Odyssey
DESCRIPTION:Thursday\, June 26th from 6:30 – 9pm FilmGate Fusion & Frost Museum of Science present #DRIFT – A Live Immersive Space Odyssey at the Frost Museum of Science Planetarium. Step inside the future of storytelling—an epic fusion of AI\, space\, and live performance featuring #DRIFT\, the breathtaking full-dome odyssey by Frédéric Deslias. PURCHASE TICKETS HERE. \nFilmGate Miami and the Phillip and Patricia Frost Museum of Science (Frost Science) are joining forces for a mind-expanding collaboration that explores science\, tech\, and art – all within immersive dome experiences in the Frost Planetarium on the museum’s campus in Downtown Miami. The FilmGate Fusion at Frost Science partnership brings together some of the most innovative audiovisual artists from around the globe to explore the fusion of these disciplines. \nThe series kicks off on June 26 with Creators x AI\, featuring DRIFT\, an immersive performance by Frédéric Deslias and Le Clair Obscur\, combining live theater\, AI-generated visuals\, and immersive sound inside the 67-foot dome. The home of the series is the Frost Planetarium\, which uses 16-million-color 8K projection\, surround sound and a 67-foot dome to take guests on visual journeys that both thrill and educate.
URL:https://www.themiamiartscene.com/event/frost-museum-of-science-presents-filmgate-fusion-drift-a-live-immersive-space-odyssey/
LOCATION:Phillip and Patricia Frost Museum of Science\, 1101 Biscayne Blvd\, Miami\, FL\, 33132\, United States
ATTACH;FMTTYPE=image/png:https://www.themiamiartscene.com/wp-content/uploads/2025/06/fusion-filmgate-miami-x-frost-science.png
END:VEVENT
BEGIN:VEVENT
DTSTART;TZID=America/New_York:20250627T180000
DTEND;TZID=America/New_York:20250627T210000
DTSTAMP:20260424T042513
CREATED:20250627T123039Z
LAST-MODIFIED:20250627T123039Z
UID:24115-1751047200-1751058000@www.themiamiartscene.com
SUMMARY:KDR presents Florida Room IV\, a group exhibition
DESCRIPTION:Friday\, June 27th from 6 – 9pm KDR is pleased to present Florida Room IV\, a group exhibition featuring works from The Elisa Arimany Estate\, Michaela Bathrick\, Eric Oglander\, Luna Palazzolo-Daboul\, and Eva Robarts—Opening June 27th as the fourth iteration of the Florida Room exhibition series. This exhibition is on view June 27th through August 30th\, 2025. \nFlorida Room IV brings together five distinctive voices\, each contributing their unique perspective to sculpture. The exhibition explores how materials can be transformed and reveal the poetic potential of discarded objects\, as well as the interplay between endurance and vulnerability. This collection of sculptural works\, while individually unique\, demonstrates a shared commitment to discovering the extraordinary within the mundane—transforming everyday detritus\, such as discarded bristles\, urban fragments\, and industrial castoffs\, into contemplative explorations with profound meditations on form\, process\, and meaning. \n  \nImage: Eric Oglander\, Fireman’s Line\, 2024\, pine\, paper\, acrylic paint\, bamboo\, wire\, street sweeper bristles\, string\, 15 x 6 in.\, 38.10 x 15.24 cm\, EO0005
URL:https://www.themiamiartscene.com/event/kdr-presents-florida-room-iv-a-group-exhibition/
LOCATION:KDR\, 790 NW 22nd Street\, Miami\, FL\, 33127\, United States
ATTACH;FMTTYPE=image/jpeg:https://www.themiamiartscene.com/wp-content/uploads/2025/06/Eric-Oglander-Firemans-Line-2024-pine-paper-acrylic-paint-bamboo-wire-street-sweeper-bristles-string-15-x-6-in.-38.10-x-15.24-cm-EO0005-e1750976780540.jpeg
END:VEVENT
BEGIN:VEVENT
DTSTART;TZID=America/New_York:20250629T120000
DTEND;TZID=America/New_York:20250629T170000
DTSTAMP:20260424T042513
CREATED:20250626T192003Z
LAST-MODIFIED:20250626T192003Z
UID:24113-1751198400-1751216400@www.themiamiartscene.com
SUMMARY:NSU Art Museum: FREE Fort Lauderdale Neighbor Day
DESCRIPTION:Sunday\, June 29th from 12 – 5pm enjoy NSU Art Museum‘s FREE Fort Lauderdale Neighbor Day. Every LAST Sunday of every month\, Fort Lauderdale residents receive FREE admission to NSU Art Museum as part of Fort Lauderdale Neighbor Days. RSVP HERE. \nFort Lauderdale Residents Receive: \n\n2-for-1 Wine in the Museum Café\nFREE admission\, residents must show a photo ID\, driver’s license\, or residential utility bill with proof of Fort Lauderdale address.\nVisit the Museum Cafe & Store and receive 10% off books published by NSU Art Museum.\nFort Lauderdale Neighbor Day is made possible by the City of Fort Lauderdale.
URL:https://www.themiamiartscene.com/event/nsu-art-museum-free-fort-lauderdale-neighbor-day-30/
LOCATION:NSU Art Museum\, One East Las Olas Boulevard\, Fort Lauderdale\, FL\, 33301\, United States
ATTACH;FMTTYPE=image/png:https://www.themiamiartscene.com/wp-content/uploads/2022/09/nsu-art-museum_neighborday.png
END:VEVENT
END:VCALENDAR