BEGIN:VCALENDAR
VERSION:2.0
PRODID:-//Miami Art Scene™ - ECPv6.15.20//NONSGML v1.0//EN
CALSCALE:GREGORIAN
METHOD:PUBLISH
X-ORIGINAL-URL:https://www.themiamiartscene.com
X-WR-CALDESC:Events for Miami Art Scene™
REFRESH-INTERVAL;VALUE=DURATION:PT1H
X-Robots-Tag:noindex
X-PUBLISHED-TTL:PT1H
BEGIN:VTIMEZONE
TZID:America/New_York
BEGIN:DAYLIGHT
TZOFFSETFROM:-0500
TZOFFSETTO:-0400
TZNAME:EDT
DTSTART:20240310T070000
END:DAYLIGHT
BEGIN:STANDARD
TZOFFSETFROM:-0400
TZOFFSETTO:-0500
TZNAME:EST
DTSTART:20241103T060000
END:STANDARD
BEGIN:DAYLIGHT
TZOFFSETFROM:-0500
TZOFFSETTO:-0400
TZNAME:EDT
DTSTART:20250309T070000
END:DAYLIGHT
BEGIN:STANDARD
TZOFFSETFROM:-0400
TZOFFSETTO:-0500
TZNAME:EST
DTSTART:20251102T060000
END:STANDARD
BEGIN:DAYLIGHT
TZOFFSETFROM:-0500
TZOFFSETTO:-0400
TZNAME:EDT
DTSTART:20260308T070000
END:DAYLIGHT
BEGIN:STANDARD
TZOFFSETFROM:-0400
TZOFFSETTO:-0500
TZNAME:EST
DTSTART:20261101T060000
END:STANDARD
END:VTIMEZONE
BEGIN:VEVENT
DTSTART;TZID=America/New_York:20251016T170000
DTEND;TZID=America/New_York:20251016T183000
DTSTAMP:20260423T224358
CREATED:20251013T210514Z
LAST-MODIFIED:20251013T210514Z
UID:24915-1760634000-1760639400@www.themiamiartscene.com
SUMMARY:PAMM presents Hispanic and Latino Heritage Highlight: Tour with Thom Wheeler Castillo
DESCRIPTION:October 16th from 5 – 6:30pm close out Hispanic and Latino Heritage Month at the Pérez Art Museum Miami (PAMM) with a guided tour by local artist Thom Wheeler Castillo. The tour is focused on Hispanic and Latino artists in PAMM’s collection\, highlighting artists like Guadalupe Maravilla\, Ad Minoliti\, Zilia Sánchez\, and Teresita Fernández. After the tour\, enjoy happy hour specials at our waterfront restaurant Verde. FREE with RSVP. \n  \nAbout Thom Wheeler Castillo \nThom Wheeler Castillo lives and works in Miami\, FL. Interested in landscape\, environmentalism\, and ecosystems\, he works from an interdisciplinary approach entwining histories\, earth sciences\, and anthropology to espouse living through the anthropogenic era. Since 2021\, he’s embarked on cultural missions throughout the Caribbean region\, working with Curator Rosie Gordon-Wallace and the Diaspora Vibe Cultural Arts Incubator’s International Cultural Exchanges (I.C.E). He is currently an Artist-In-Residence Studio Fellowship with DVCAI and a 2025 recipient of its Catalyst award. One-half of Collective Archival Feedback\, along with E. Milgrim\, he explores field work\, archives and sound composition. As an educator\, he works with various institutions throughout the region including HistoryMiami\, the Rubell Museum\, and the Miami Design District.
URL:https://www.themiamiartscene.com/event/pamm-presents-hispanic-and-latino-heritage-highlight-tour-with-thom-wheeler-castillo/
LOCATION:Pérez Art Museum Miami\, 1103 Biscayne Boulevard\, Miami\, FL\, 33132\, United States
ATTACH;FMTTYPE=image/jpeg:https://www.themiamiartscene.com/wp-content/uploads/2025/10/T_Wheeler_Castiilo_Headshot.jpeg
END:VEVENT
BEGIN:VEVENT
DTSTART;TZID=America/New_York:20251016T180000
DTEND;TZID=America/New_York:20251016T210000
DTSTAMP:20260423T224358
CREATED:20251013T204729Z
LAST-MODIFIED:20251013T204729Z
UID:24909-1760637600-1760648400@www.themiamiartscene.com
SUMMARY:Third Thursdays at The Bass
DESCRIPTION:Thursday\, October 16th from 6 – 9pm enjoy Third Thursdays at The Bass\, featuring The Bass Dialogues with Assume Vivid Astro Focus. Moderated by Claudia Mattos\, Associate Curator of New Media at The Bass\, this vibrant conversation will share the origins and evolution of XI\, discuss avaf’s practice of inclusion\, collaboration\, and experimentation\, as well as the role of exhibitions as a platform to create immersive environments to foster community and expression. The conversation with the artist will be followed by a performance by Tiffany Fantasia and friends in the XI gallery. The performance is recommended for ages 18 and over. RSVP HERE. \n6 PM | Doors Open\n6:30 PM | Talk Starts ( 45 min–1 hr) \nAfter a highly celebrated exhibition debut in 2024\, artist Eli Sudbrack \, of the multidisciplinary collective assume vivid astro focus (avaf)\, returns to The Bass to reflect on the success and continuation of assume vivid astro focus: XI\, a kaleidoscopic installation that blurs the boundaries between art\, performance\, and film.
URL:https://www.themiamiartscene.com/event/third-thursdays-at-the-bass/
LOCATION:The Bass\, 2100 Collins Avenue\, Miami Beach\, FL\, 33139\, United States
ATTACH;FMTTYPE=image/gif:https://www.themiamiartscene.com/wp-content/uploads/2025/10/bass-third-thursdays-oct.gif
END:VEVENT
BEGIN:VEVENT
DTSTART;TZID=America/New_York:20251016T183000
DTEND;TZID=America/New_York:20251016T200000
DTSTAMP:20260423T224358
CREATED:20251013T211019Z
LAST-MODIFIED:20251013T211019Z
UID:24918-1760639400-1760644800@www.themiamiartscene.com
SUMMARY:PAMM Curator’s Corner with Artist Duo Elliot & Erick Jiménez and PAMM Associate Curator Maritza M. Lacayo
DESCRIPTION:October 16th from 6:30 – 8pm join artist duo Elliot & Erick Jiménez and Associate Curator Maritza M. Lacayo for an intimate conversation about their groundbreaking first solo museum exhibition\, El Monte\, at the Pérez Art Museum Miami (PAMM). RSVP HERE. \nDiscover how the Jiménez twins’ Cuban-American upbringing and spiritual roots in Lucumí inspired their stunning new body of work\, including grand-scale photographs that reimagine iconic Western masterpieces. Get an inside look at how they transform the gallery into a wilderness\, complete with a chapel and immersive\, large-scale artworks. Learn how they blend Caribbean traditions with contemporary perspectives\, creating a dynamic experience that blurs the lines between art and environment. This is an exclusive opportunity to hear directly from the artists about their creative process and the deep cultural significance behind their work. \nKick off your experience like a VIP with a dedicated check-in. Then\, enjoy a pre-tour toast on PAMM’s private waterfront terrace\, followed by an intimate conversation with the artists and exhibition curator. You’ll hear firsthand about their artistic process\, exhibition development and have the opportunity to participate in a Q&A. \n  \nIMAGE: Elliot and Erick Jiménez. El Monte (Ibejí)\, 2024. Archival pigment print
URL:https://www.themiamiartscene.com/event/pamm-curators-corner-with-artist-duo-elliot-erick-jimenez-and-pamm-associate-curator-maritza-m-lacayo/
LOCATION:Pérez Art Museum Miami\, 1103 Biscayne Boulevard\, Miami\, FL\, 33132\, United States
ATTACH;FMTTYPE=image/png:https://www.themiamiartscene.com/wp-content/uploads/2025/10/Elliot-and-Erick-Jimenez.-El-Monte-Ibeji-2024.-Archival-pigment-print.png
END:VEVENT
END:VCALENDAR