BEGIN:VCALENDAR
VERSION:2.0
PRODID:-//Miami Art Scene™ - ECPv6.15.20//NONSGML v1.0//EN
CALSCALE:GREGORIAN
METHOD:PUBLISH
X-ORIGINAL-URL:https://www.themiamiartscene.com
X-WR-CALDESC:Events for Miami Art Scene™
REFRESH-INTERVAL;VALUE=DURATION:PT1H
X-Robots-Tag:noindex
X-PUBLISHED-TTL:PT1H
BEGIN:VTIMEZONE
TZID:America/New_York
BEGIN:DAYLIGHT
TZOFFSETFROM:-0500
TZOFFSETTO:-0400
TZNAME:EDT
DTSTART:20240310T070000
END:DAYLIGHT
BEGIN:STANDARD
TZOFFSETFROM:-0400
TZOFFSETTO:-0500
TZNAME:EST
DTSTART:20241103T060000
END:STANDARD
BEGIN:DAYLIGHT
TZOFFSETFROM:-0500
TZOFFSETTO:-0400
TZNAME:EDT
DTSTART:20250309T070000
END:DAYLIGHT
BEGIN:STANDARD
TZOFFSETFROM:-0400
TZOFFSETTO:-0500
TZNAME:EST
DTSTART:20251102T060000
END:STANDARD
BEGIN:DAYLIGHT
TZOFFSETFROM:-0500
TZOFFSETTO:-0400
TZNAME:EDT
DTSTART:20260308T070000
END:DAYLIGHT
BEGIN:STANDARD
TZOFFSETFROM:-0400
TZOFFSETTO:-0500
TZNAME:EST
DTSTART:20261101T060000
END:STANDARD
END:VTIMEZONE
BEGIN:VEVENT
DTSTART;TZID=America/New_York:20251018T100000
DTEND;TZID=America/New_York:20251019T170000
DTSTAMP:20260423T224357
CREATED:20251016T124358Z
LAST-MODIFIED:20251017T182400Z
UID:24984-1760781600-1760893200@www.themiamiartscene.com
SUMMARY:38th Annual Las Olas Art Fair
DESCRIPTION:Saturday\, October 18th and Sunday\, October 19th from 10am – 5pm you are invited to experience the 38th Annual Las Olas Art Fair in Fort Lauderdale\, Florida. An Outdoor Art Festival on E. Las Olas Blvd. \nSituated in the vibrant center of Fort Lauderdale\, Las Olas Boulevard is often regarded as the city’s crown jewel. This lively avenue offers everything needed for an enjoyable evening or a leisurely day spent browsing shops and dining at charming sidewalk cafes. Along Las Olas Boulevard\, visitors can explore a diverse array of art galleries\, unique boutiques\, and a variety of dining establishments\, featuring everything from Cuban-American dishes to freshly caught seafood from the Atlantic. \nThe Las Olas Art Fair is celebrated as one of the top 100 art festivals in the country and remains a highly anticipated event in the local art scene. Attendees have the opportunity to meet the artists behind the works\, commission custom pieces\, inquire about their techniques\, discover their sources of inspiration\, and acquire exquisite art at reasonable prices. Whatever you seek\, you are sure to find it at this eagerly awaited\, juried art fair on Las Olas.
URL:https://www.themiamiartscene.com/event/38th-annual-las-olas-art-fair/
LOCATION:Las Olas Art Festival\, 740 E Las Olas Blvd\, Fort Lauderdale\, FL\, 33301\, United States
ATTACH;FMTTYPE=image/png:https://www.themiamiartscene.com/wp-content/uploads/2025/10/las-olas-art-fair.png
END:VEVENT
BEGIN:VEVENT
DTSTART;TZID=America/New_York:20251018T140000
DTEND;TZID=America/New_York:20251018T160000
DTSTAMP:20260423T224357
CREATED:20251015T141428Z
LAST-MODIFIED:20251015T160350Z
UID:24965-1760796000-1760803200@www.themiamiartscene.com
SUMMARY:The Contemporary Art Modern Project (CAMP Gallery) presents it's 7th edition of Women Pulling at the Threads of Social Discourse: Don't Be Absurd | Round Table Talk: Feat Aurora Molina & Nuria Richards
DESCRIPTION:Saturday\, October 18th from 2 – 4pm The Contemporary Art Modern Project (CAMP Gallery) welcomes Art Table for a private tour\, and CAMP’s first hosting of many in-gallery conversations starting with Nuria Richards\, Founder of Clandestina Feria and Director of Development and Advisor of Strategy at Oolite Arts\, Miami\, along with celebrated fiber artist Aurora Molina and (FAMA) Fiber Arts Miami Association Founding Member\, among other guests to discuss the contemporary fiber world and the role women play. RSVP HERE. \nJoin the gallery after opening night of CAMP’s 7th Edition of Women Pulling at The Threads of Social Discourse: Don’t be Absurd\, for a special round table talk bringing together two leading voices in Miami’s arts scene: Nuria Richards\, Director of Development and Advisor of Strategy at Oolite Arts\, and founder of Clandestina\, a grassroots project that has supported over 300 artists; and Aurora Molina\, celebrated fiber artist\, co-founder of FAMA (Fiber Artists Miami Association)\, and founder of Play Studio Artelier. They will be joined by Melanie Prapopulos\, founder and director of The CAMP Gallery\, and Amy Arechavaleta\, the gallery’s Head of Communications\, to discuss the evolving role of fiber in contemporary art and the community networks shaping Miami’s cultural future.
URL:https://www.themiamiartscene.com/event/the-contemporary-art-modern-project-camp-gallery-presents-its-7th-edition-of-women-pulling-at-the-threads-of-social-discourse-dont-be-absurd-round-table-talk-feat-aurora-molina-nuria-richa/
LOCATION:The Contemporary Art Modern Project (The CAMP Gallery)\, 791-793 NE 125th Street\, North Miami\, FL\, 33161\, United States
ATTACH;FMTTYPE=image/png:https://www.themiamiartscene.com/wp-content/uploads/2025/10/CAMP_ROUNDTABLETALK1_AuroraxNuria_Visual-1-e1760544142740.png
END:VEVENT
END:VCALENDAR