BEGIN:VCALENDAR
VERSION:2.0
PRODID:-//Miami Art Scene™ - ECPv6.15.20//NONSGML v1.0//EN
CALSCALE:GREGORIAN
METHOD:PUBLISH
X-WR-CALNAME:Miami Art Scene™
X-ORIGINAL-URL:https://www.themiamiartscene.com
X-WR-CALDESC:Events for Miami Art Scene™
REFRESH-INTERVAL;VALUE=DURATION:PT1H
X-Robots-Tag:noindex
X-PUBLISHED-TTL:PT1H
BEGIN:VTIMEZONE
TZID:America/New_York
BEGIN:DAYLIGHT
TZOFFSETFROM:-0500
TZOFFSETTO:-0400
TZNAME:EDT
DTSTART:20240310T070000
END:DAYLIGHT
BEGIN:STANDARD
TZOFFSETFROM:-0400
TZOFFSETTO:-0500
TZNAME:EST
DTSTART:20241103T060000
END:STANDARD
BEGIN:DAYLIGHT
TZOFFSETFROM:-0500
TZOFFSETTO:-0400
TZNAME:EDT
DTSTART:20250309T070000
END:DAYLIGHT
BEGIN:STANDARD
TZOFFSETFROM:-0400
TZOFFSETTO:-0500
TZNAME:EST
DTSTART:20251102T060000
END:STANDARD
BEGIN:DAYLIGHT
TZOFFSETFROM:-0500
TZOFFSETTO:-0400
TZNAME:EDT
DTSTART:20260308T070000
END:DAYLIGHT
BEGIN:STANDARD
TZOFFSETFROM:-0400
TZOFFSETTO:-0500
TZNAME:EST
DTSTART:20261101T060000
END:STANDARD
END:VTIMEZONE
BEGIN:VEVENT
DTSTART;TZID=America/New_York:20251130T110000
DTEND;TZID=America/New_York:20251207T210000
DTSTAMP:20260423T184546
CREATED:20251129T015433Z
LAST-MODIFIED:20251129T015518Z
UID:25501-1764500400-1765141200@www.themiamiartscene.com
SUMMARY:Afrikin Art Fair 2025
DESCRIPTION:Sunday\, November 30th through Sunday\, December 7th enjoy Afrikin Art Fair during Miami Art Week. This exhibition is a curated selection of works by artists from Africa and its Diaspora that represent the dynamism of creativity from the continent today. Finding a sense of self and belonging from the works they create\, these ~60+ artists all speak to a sense of home. RSVP | PURCHASE TICKETS HERE. \nAfriKin Art Fair 2025 – Through Creation\, We Find Meaning: Scenes From Home. Curated by Dr. Joseph L. Underwood\, Art Professor at Kent State University. Opening creative pathways for learning\, understanding\, and economic development\, AfriKin nurtures artists\, educates communities\, and promotes sustainable cultural industries that inspire global connection. \nStep into the world of AfriKin Art Fair 2025\, Miami’s foremost celebration of African and African diasporic creativity. Now in its 11th year\, AfriKin continues to define the cultural landscape with its unique curatorial vision—bridging art\, culture\, and innovation in an immersive and thought-provoking setting. \nThis year’s edition\, Through Creation\, We Find Meaning: Scenes From Home\, draws inspiration from the lives and writings of global thinkers and revolutionaries who demonstrated how creativity becomes a lifeline in moments of solitude\, struggle\, and transformation. The fair invites audiences to explore how artistic expression serves as a conduit for meaning\, a balm for suffering\, and a portal to transcendence. \n  \nSunday\, November 30th from 6-9pm enjoy the AfriKin Art Fair Vernissage during Miami Art Week at the Scott Galvin Community Center. \nFair Days\n\nDecember 1–7\, 2025\nOpen daily | General Public Access\n\n\nPublic Exhibition Days\nDates: Monday\, December 1 – Sunday\, December 7\, 2025\nTime: 11:00 AM – 9:00 PM Daily\nExplore stunning artworks\, installations\, and performances from a diverse array of celebrated and emerging artists. Attend engaging panel discussions\, workshops\, and cultural showcases designed to inspire and connect.
URL:https://www.themiamiartscene.com/event/afrikin-art-fair-2025/
LOCATION:Scott Galvin Community Center\, 1600 Northeast 126th Street\, North Miami\, FL\, 33181\, United States
ATTACH;FMTTYPE=image/png:https://www.themiamiartscene.com/wp-content/uploads/2025/11/afrikin-art-fair.png
END:VEVENT
BEGIN:VEVENT
DTSTART;TZID=America/New_York:20251201T100000
DTEND;TZID=America/New_York:20251216T180000
DTSTAMP:20260423T184546
CREATED:20251117T195946Z
LAST-MODIFIED:20251117T195946Z
UID:25399-1764583200-1765908000@www.themiamiartscene.com
SUMMARY:Visual Artist & Sculptor Mylene Costa Solo Exhibition during Miami Art Week presented by the City of Sunny Isles Beach
DESCRIPTION:Monday\, December 1st through Tuesday\, December 16th art lovers & collectors are cordially invited to the City of Sunny Isles Beach to experience the solo exhibition of internationally recognized\, award-winning visual artist & sculptor Mylene Costa at the Sunny Isles Beach Government Center. \nThe City of Sunny Isles Beach proudly announces the return of its recurring art series\, Art Uncorked\, with a captivating exhibition during Miami Art Week. This event\, presented in partnership with the acclaimed Paris-based gallery Espace Meyer Zafra and Sunny Isles Beach-based artist Mylene Costa\, will run from December 1 to December 16\, 2025\, at the Sunny Isles Beach Government Center. \nThe City will also host a special reception event titled “The Shape of Art: A Live Curation” on December 3 from 6 – 8 p.m. at the Sunny Isles Beach Government Center featuring champagne\, hors d’oeuvres\, and the opportunity to hear from gallerist Liliane Zafrani and artist Mylene Costa. \n  \nABOUT THE ARTIST \nMiami artist Mylene Costa is a Brazilian sculptor of international recognition\, whose work stands out for its feminine power\, formal elegance\, and refined aesthetic sensitivity. Born in Cuiabá\, Brazil\, she has built a solid and authentic career\, dividing her life between Brazil and the United States. Married to Sérgio Jacinto Costa and mother of three\, she skillfully balances family life\, rural production\, and a flourishing artistic journey. Her sculpture is both language and thought — an invitation to contemplate the body\, form\, and memory. With a poetic and plural approach\, her work moves between the figurative and the abstract\, the structural and the symbolic\, unconstrained by technical or thematic limits. Each piece is born from the fusion of intuition and reflection\, evoking questions of time\, ancestry\, human relationships\, and the silence of expanding forms. Recognized for her unique artistic signature\, Mylene has exhibited in cultural centers across Europe\, Latin America\, and Brazil\, gaining increasing visibility in major contemporary art shows and attracting the attention of critics\, curators\, and collectors alike. \n  \nSculpture by Mylene Costa \n 
URL:https://www.themiamiartscene.com/event/visual-artist-sculptor-mylene-costa-solo-exhibition-during-miami-art-week-presented-by-the-city-of-sunny-isles-beach/
LOCATION:Sunny Isles Beach Government Center\, 18070 Collins Avenue\, Sunny Isles Beach\, FL\, 33160\, United States
ATTACH;FMTTYPE=image/jpeg:https://www.themiamiartscene.com/wp-content/uploads/2025/11/Mylene_Costa_pic-1.jpeg
END:VEVENT
BEGIN:VEVENT
DTSTART;TZID=America/New_York:20251202T100000
DTEND;TZID=America/New_York:20251207T170000
DTSTAMP:20260423T184546
CREATED:20251112T173954Z
LAST-MODIFIED:20251112T174013Z
UID:25341-1764669600-1765126800@www.themiamiartscene.com
SUMMARY:UNTITLED\, Miami Beach 2025
DESCRIPTION:Tuesday\, December 2nd through Sunday\, December 7th enjoy UNTITLED ART Miami Beach taking place annually on the sands of Miami Beach at 12th Street and Ocean Drive. Founded in 2012\, Untitled Art is a leading contemporary art fair taking place annually\, guided by a mission to support the wider art ecosystem\, Untitled Art offers an inclusive platform for discovering contemporary art that prioritizes collaboration within each aspect of the fair. PURCHASE TICKETS HERE. \nEach year\, new and long-standing exhibitors are selected by Untitled Art’s evolving curatorial team for their artistic integrity and international reach\, with several galleries based outside of mainstream art hubs. Emerging artists\, young galleries\, and non-profit organizations are supported through its ‘Nest’ sector\, an initiative offering subsidized booths developed in response to traditional entry barriers posed by art fair participation. The first to launch an online art fair\, Untitled Art continually invests in new technologies to make contemporary art collecting more accessible to new audiences\, and it proactively advances responsible culture by using its platform to amplify diverse voices. \n  \n\nVIP and Press Preview \n\n\nTuesday\, 2 Dec\, 10am-7pm \nOpening Hours \n\n\n\nWed\, 3 Dec\, 11am-7pm \nThurs\, 4 Dec\, 11am-7pm \nFri\, 5 Dec\, 11am-7pm \nSat\, 6 Dec\, 11am-7pm \nSun\, 7 Dec\, 11am-5pm
URL:https://www.themiamiartscene.com/event/untitled-miami-beach-2025/
LOCATION:Untitled\, ART\, Ocean Drive and 12th Street\, Miami Beach\, FL\, 33139\, United States
ATTACH;FMTTYPE=image/png:https://www.themiamiartscene.com/wp-content/uploads/2025/11/untitled-art-fair.png
END:VEVENT
BEGIN:VEVENT
DTSTART;TZID=America/New_York:20251202T110000
DTEND;TZID=America/New_York:20251207T180000
DTSTAMP:20260423T184546
CREATED:20251021T003434Z
LAST-MODIFIED:20251021T003434Z
UID:24993-1764673200-1765130400@www.themiamiartscene.com
SUMMARY:Design Miami. 2025
DESCRIPTION:Tuesday\, December 2nd through Sunday\, December 7th enjoy Design Miami\, celebrating its 20th anniversary as the global forum for collectible design. In celebration of this milestone\, the brand announces its 2025 events program\, and an expansion of its global platform to include a debut initiative: Design Miami.InSitu. True to its mission to champion leading voices in design – both historic and contemporary -this year’s programming will celebrate the pioneering collectible design galleries and visionary designers who have shaped Design Miami’s evolution\, whilst also looking ahead to the future and far-reaching impact of design. \n  \nPREVIEW DAY – By Invitation Only\nTuesday Dec 2\nMembers Preview: 11am—1pm\nCollectors Preview: 1pm—7pm \n  \nPUBLIC SHOW DAYS\nWednesday Dec 3\nVIP Preview: 11am—1pm\nPublic Show Hours: 1pm—7pm\nThursday Dec 4–Saturday Dec 6\n11am—7pm\nSunday Dec 7\n11am—6pm \n  \nIMAGE: Design Miami 2024 | Photo courtesy of Kris Tamburello for Design Miami
URL:https://www.themiamiartscene.com/event/design-miami-2025/
LOCATION:Design Miami.\, Meridian Avenue & 19th Street Adjacent to the Miami Beach Convention Center\, Miami Beach\, FL\, 33139\, United States
ATTACH;FMTTYPE=image/png:https://www.themiamiartscene.com/wp-content/uploads/2025/10/design-miami.png
END:VEVENT
BEGIN:VEVENT
DTSTART;TZID=America/New_York:20251202T120000
DTEND;TZID=America/New_York:20251207T200000
DTSTAMP:20260423T184546
CREATED:20251021T004344Z
LAST-MODIFIED:20251027T215247Z
UID:24997-1764676800-1765137600@www.themiamiartscene.com
SUMMARY:Scope Miami Beach 2025
DESCRIPTION:Tuesday\, December 2nd through Sunday\, December 7th enjoy Scope Miami Beach during Miami Art Week. SCOPE returns to the sandy beaches of Miami Beach\, the premier showcase and incubator for contemporary art\, convening the most dynamic emerging galleries and artists from around the world for more than two decades. \nIts annual flagship show in Miami represents the future of the arts ecosystem by forecasting new trends and the people and ideas that drive them\, from alternative and nomadic gallery models to cutting-edge artists traversing the boundaries of technology\, culture\, and society. As the highest attended fair during Miami Art Week\, SCOPE Art Show is a welcoming hub for art and culture seekers\, from the established collector to the first-time fair visitor. Its signature experiential programming across art\, design\, music\, technology\, wellness\, and hospitality offers visitors myriad access points for discovery\, learning\, and community. Purchase Tickets Here. \n  \nSHOW HOURS\n*Tuesday | December 2 | 12-8pm (VIP Preview Access Only)\nWednesday | December 3 | 11am-8pm\nThursday | December 4 | 11am-8pm\nFriday | December 5 | 11am-8pm\nSaturday | December 6 | 11am-8pm\nSunday | December 7 | 11am-8pm
URL:https://www.themiamiartscene.com/event/scope-miami-beach-2025/
LOCATION:SCOPE Miami Beach Pavilion\, 801 Ocean Drive\, Miami Beach\, 33139\, United States
ATTACH;FMTTYPE=image/jpeg:https://www.themiamiartscene.com/wp-content/uploads/2024/10/scope-art-show-miami.jpeg
END:VEVENT
BEGIN:VEVENT
DTSTART;TZID=America/New_York:20251202T120000
DTEND;TZID=America/New_York:20251207T200000
DTSTAMP:20260423T184546
CREATED:20251117T210144Z
LAST-MODIFIED:20251117T210144Z
UID:25405-1764676800-1765137600@www.themiamiartscene.com
SUMMARY:The Contemporary Art Modern Project (CAMP Gallery) at SCOPE Miami Beach Booth E007
DESCRIPTION:Tuesday\, December 2nd through Sunday\, December 7th experience The Contemporary Art Modern (CAMP Gallery) at Scope Miami Beach during Miami Art Week Booth E007. \nThe gallery is pleased to announce their participation in Scope Art Show 2025\, this year they are right back at booth E007 with a presentation exploring the cellular level of human vulnerability. Life is a fleeting moment within a vast whole\, yet it is profoundly shaped by our unique journeys\, where we come from\, and where we long to be. This collection of works delves into that fragile\, essential core where our identities are formed\, examining the universal through the lens of the deeply personal. \nExploring this theme through the distinct perspectives of artists Eden Quispe\, Hermes Berrio\, Hou Guang Ting\, Katrina Majkut\, and Michael Sylvan Robinson. \n  \nSHOW HOURS\n*Tuesday | December 2 | 12-8pm (VIP Preview Access Only)\nWednesday | December 3 | 11am-8pm\nThursday | December 4 | 11am-8pm\nFriday | December 5 | 11am-8pm\nSaturday | December 6 | 11am-8pm\nSunday | December 7 | 11am-8pm \n  \n  \n \nIMAGE: Hermes Berrio. “Drowsing Through July\,” 2024. Acrylic paint and mixed media. 51 x 77 inches.
URL:https://www.themiamiartscene.com/event/the-contemporary-art-modern-project-camp-gallery-at-scope-miami-beach-booth-e007/
LOCATION:SCOPE Miami Beach Pavilion\, 801 Ocean Drive\, Miami Beach\, 33139\, United States
ATTACH;FMTTYPE=image/jpeg:https://www.themiamiartscene.com/wp-content/uploads/2025/11/camp_scope-e1763413265786.jpeg
END:VEVENT
END:VCALENDAR