BEGIN:VCALENDAR
VERSION:2.0
PRODID:-//Miami Art Scene™ - ECPv6.15.20//NONSGML v1.0//EN
CALSCALE:GREGORIAN
METHOD:PUBLISH
X-WR-CALNAME:Miami Art Scene™
X-ORIGINAL-URL:https://www.themiamiartscene.com
X-WR-CALDESC:Events for Miami Art Scene™
REFRESH-INTERVAL;VALUE=DURATION:PT1H
X-Robots-Tag:noindex
X-PUBLISHED-TTL:PT1H
BEGIN:VTIMEZONE
TZID:America/New_York
BEGIN:DAYLIGHT
TZOFFSETFROM:-0500
TZOFFSETTO:-0400
TZNAME:EDT
DTSTART:20240310T070000
END:DAYLIGHT
BEGIN:STANDARD
TZOFFSETFROM:-0400
TZOFFSETTO:-0500
TZNAME:EST
DTSTART:20241103T060000
END:STANDARD
BEGIN:DAYLIGHT
TZOFFSETFROM:-0500
TZOFFSETTO:-0400
TZNAME:EDT
DTSTART:20250309T070000
END:DAYLIGHT
BEGIN:STANDARD
TZOFFSETFROM:-0400
TZOFFSETTO:-0500
TZNAME:EST
DTSTART:20251102T060000
END:STANDARD
BEGIN:DAYLIGHT
TZOFFSETFROM:-0500
TZOFFSETTO:-0400
TZNAME:EDT
DTSTART:20260308T070000
END:DAYLIGHT
BEGIN:STANDARD
TZOFFSETFROM:-0400
TZOFFSETTO:-0500
TZNAME:EST
DTSTART:20261101T060000
END:STANDARD
END:VTIMEZONE
BEGIN:VEVENT
DTSTART;TZID=America/New_York:20251218T180000
DTEND;TZID=America/New_York:20251218T210000
DTSTAMP:20260423T184628
CREATED:20251212T184507Z
LAST-MODIFIED:20251212T185344Z
UID:25554-1766080800-1766091600@www.themiamiartscene.com
SUMMARY:The Bass Third Thursdays: TheNightclub
DESCRIPTION:Thursday\, December 18th from 6–9pm enjoy TheNightclub at The Bass. TheNightclub opens at The Bass for a site-specific installation of ephemeral experimentation where art and community converge. Led by Angela Valella\, the evening will blur the lines between artist\, curator\, and audience. \nFor one night only\, experience the nomadic platform and become part of the living cultural archive shaped by participation and transformation. \nLimited seated based on first-come\, first-served. Complimentary admission with RSVP. \nThird Thursday is presented by Art Bridges Access for All.
URL:https://www.themiamiartscene.com/event/the-bass-third-thursdays-thenightclub/
LOCATION:The Bass\, 2100 Collins Avenue\, Miami Beach\, FL\, 33139\, United States
ATTACH;FMTTYPE=image/jpeg:https://www.themiamiartscene.com/wp-content/uploads/2025/12/bass-nightclub.jpeg
END:VEVENT
BEGIN:VEVENT
DTSTART;TZID=America/New_York:20251218T190000
DTEND;TZID=America/New_York:20251218T203000
DTSTAMP:20260423T184628
CREATED:20251211T010536Z
LAST-MODIFIED:20251211T010935Z
UID:25541-1766084400-1766089800@www.themiamiartscene.com
SUMMARY:PAMM presents Floating Films with Ballyhoo Media: The Muppet Christmas Carol
DESCRIPTION:Thursday\, December 18th from 7 – 8:30pm enjoy Floating Films with Ballyhoo Media: The Muppet Christmas Carol at PAMM. Celebrate the holiday season at Pérez Art Museum Miami (PAMM) with the beloved 1992 holiday classic ‘The Muppet Christmas Carol’. Prior to the film\, enjoy tours in the galleries and happy hour specials at Verde. \nSchedule: \n5–8pm Happy hour drink specials\n7–8:30pm Screening of “The Muppet Christmas Carol”\n9pm Galleries and museum close \nAccess to the PAMM terrace and beach is free with RSVP. Admission to the galleries is free for members and $18 for adults. \n 
URL:https://www.themiamiartscene.com/event/pamm-presents-floating-films-with-ballyhoo-media-the-muppet-christmas-carol/
LOCATION:Pérez Art Museum Miami\, 1103 Biscayne Boulevard\, Miami\, FL\, 33132\, United States
ATTACH;FMTTYPE=image/jpeg:https://www.themiamiartscene.com/wp-content/uploads/2025/12/Muppets-Christmas-Carol.jpeg
END:VEVENT
END:VCALENDAR