BEGIN:VCALENDAR
VERSION:2.0
PRODID:-//Miami Art Scene™ - ECPv6.15.20//NONSGML v1.0//EN
CALSCALE:GREGORIAN
METHOD:PUBLISH
X-WR-CALNAME:Miami Art Scene™
X-ORIGINAL-URL:https://www.themiamiartscene.com
X-WR-CALDESC:Events for Miami Art Scene™
REFRESH-INTERVAL;VALUE=DURATION:PT1H
X-Robots-Tag:noindex
X-PUBLISHED-TTL:PT1H
BEGIN:VTIMEZONE
TZID:America/New_York
BEGIN:DAYLIGHT
TZOFFSETFROM:-0500
TZOFFSETTO:-0400
TZNAME:EDT
DTSTART:20240310T070000
END:DAYLIGHT
BEGIN:STANDARD
TZOFFSETFROM:-0400
TZOFFSETTO:-0500
TZNAME:EST
DTSTART:20241103T060000
END:STANDARD
BEGIN:DAYLIGHT
TZOFFSETFROM:-0500
TZOFFSETTO:-0400
TZNAME:EDT
DTSTART:20250309T070000
END:DAYLIGHT
BEGIN:STANDARD
TZOFFSETFROM:-0400
TZOFFSETTO:-0500
TZNAME:EST
DTSTART:20251102T060000
END:STANDARD
BEGIN:DAYLIGHT
TZOFFSETFROM:-0500
TZOFFSETTO:-0400
TZNAME:EDT
DTSTART:20260308T070000
END:DAYLIGHT
BEGIN:STANDARD
TZOFFSETFROM:-0400
TZOFFSETTO:-0500
TZNAME:EST
DTSTART:20261101T060000
END:STANDARD
END:VTIMEZONE
BEGIN:VEVENT
DTSTART;TZID=America/New_York:20250507T000000
DTEND;TZID=America/New_York:20250613T000000
DTSTAMP:20260425T071559
CREATED:20250507T180515Z
LAST-MODIFIED:20250508T133307Z
UID:23738-1746576000-1749772800@www.themiamiartscene.com
SUMMARY:The Jorge M. Pérez Family Foundation Announces Open Call for 2025-2026 CreARTE Grants Program
DESCRIPTION:The Jorge M. Pérez Family Foundation at The Miami Foundation (the Pérez Family Foundation) is proud to launch the fourth edition of the Pérez CreARTE Grants Program (Pérez CreARTE)\, awarding over $5 million to arts-first organizations across Miami-Dade County that seek to cultivate a vibrant\, connected and engaging arts ecosystem. In celebration of its 10th year of philanthropic impact\, the Pérez Family Foundation’s 2025–2026 program will have a renewed focus on Arts Access\, Arts Education and Artist Fellowships and Residencies. Applications opened on Tuesday\, April 29\, with winners announced in the fall. Eligible organizations may apply here. \nCurrent arts-first grantees are invited to apply for renewed funding through a separate but parallel process. The Pérez family remains committed to supporting and strengthening the work of past and current partners while also making space for fresh ideas and new investments. The application window will close on June 13\, 2025. All interested applicants should direct their inquiries to Jacki Altman\, Community Investments Manager\, at JAltman@miamifoundation.org and Belissa Alvarez\, Director of the Jorge M. Pérez Family Foundation\, at Belissa.Alvarez@relatedgroup.com\, who will be managing applications and the awards process. Full guidelines for Pérez CreARTE can be found in English\, Spanish and Haitian Creole.
URL:https://www.themiamiartscene.com/event/the-jorge-m-perez-family-foundation-announces-open-call-for-2025-2026-crearte-grants-program/
LOCATION:The Miami Foundation\, 40 NW 3rd Street\, Suite 305\, Miami\, FL\, 33128\, United States
ATTACH;FMTTYPE=image/jpeg:https://www.themiamiartscene.com/wp-content/uploads/2025/05/20250501-MFN-CreArte-Digital-FINAL_728x300-2.jpg
END:VEVENT
BEGIN:VEVENT
DTSTART;TZID=America/New_York:20250521T103000
DTEND;TZID=America/New_York:20250521T123000
DTSTAMP:20260425T071559
CREATED:20250502T135327Z
LAST-MODIFIED:20250502T135327Z
UID:23688-1747823400-1747830600@www.themiamiartscene.com
SUMMARY:The Official Art Deco Walking Tour by The Miami Design Preservation League
DESCRIPTION:Wednesday\, May 21st from 10:30am – 12:30pm experience the Official Art Deco District Walking Tour presented by the Miami Design Preservation League. This 1.5 to 2-hour walking tour provides an introduction to the Art Deco\, Mediterranean Revival\, and Miami Modern (MiMo) styles found within the Miami Beach Architectural Historic District. Explore hotels\, restaurants\, and other commercial structures with a visit to a number of interiors. Choose from select dates / PURCHASE TICKETS HERE. \nTour ticket includes free entry to the Art Deco Museum as well as 10% off at the Gift Shop.
URL:https://www.themiamiartscene.com/event/the-official-art-deco-walking-tour-by-the-miami-design-preservation-league-633/
LOCATION:Art Deco Welcome Center\, 1001 Ocean Drive\, Miami Beach\, FL\, 33139\, United States
ATTACH;FMTTYPE=image/jpeg:https://www.themiamiartscene.com/wp-content/uploads/2023/10/art-deco-carlyle-miami-beach-e1696182712202.jpeg
END:VEVENT
BEGIN:VEVENT
DTSTART;TZID=America/New_York:20250521T110000
DTEND;TZID=America/New_York:20250521T170000
DTSTAMP:20260425T071559
CREATED:20250508T201516Z
LAST-MODIFIED:20250508T205231Z
UID:23770-1747825200-1747846800@www.themiamiartscene.com
SUMMARY:Renowned Contemporary Glass Artist Abby Modell Unveils New Collection at Lorin Marsh during NYCxDESIGN Week
DESCRIPTION:Wednesday\, May 21st from 11am – 5pm experience renowned contemporary glass artist Abby Modell\, exhibiting her new art glass collection during NYCxDESIGN week on Wednesday May 21\, 2025 from 11:00am – 5:00pm at Lorin Marsh\, 200 Lexington Avenue\, NYC in suite 400. Fine art collectors and design aficionados are invited to experience a Meet-The-Artist reception and tour of the Lorin Marsh showroom. Modell will be featuring Sculptural Objects and Led Lighting. She will be launching her new fine art furniture collection in collaboration with Lorin Marsh\, Abby Modell x Lorin Marsh featuring a glass assemblage console. This Event is Free & Open to the Public | RSVP to margaroleary@aol.com (or) to  (or) call (516)532-9749. \nThe new Galaxy Collection illustrates the movement and luminosity of the universe. Organic forms in luster finishes with saturated colors are the highlight of this new direction. Modell specializes in hand-applied glass assemblages on three-dimensional surfaces\, developed through her exploration of contemporary glass techniques.
URL:https://www.themiamiartscene.com/event/renowned-contemporary-glass-artist-abby-modell-unveils-new-collection-at-lorin-marsh-during-nycxdesign-week/
LOCATION:Lorin Marsh – Flagship NYC Showroom\, 200 Lexington Avenue\, Suite 400\, New York\, NY\, 10016\, United States
ATTACH;FMTTYPE=image/jpeg:https://www.themiamiartscene.com/wp-content/uploads/2025/05/abby-Modell-X-lorin-march-nyc-design-week-scaled.jpeg
END:VEVENT
END:VCALENDAR